BEGIN:VCALENDAR
VERSION:2.0
PRODID:-//The Towers - ECPv6.10.3//NONSGML v1.0//EN
CALSCALE:GREGORIAN
METHOD:PUBLISH
X-ORIGINAL-URL:https://towerlane.org
X-WR-CALDESC:Events for The Towers
REFRESH-INTERVAL;VALUE=DURATION:PT1H
X-Robots-Tag:noindex
X-PUBLISHED-TTL:PT1H
BEGIN:VTIMEZONE
TZID:America/New_York
BEGIN:DAYLIGHT
TZOFFSETFROM:-0500
TZOFFSETTO:-0400
TZNAME:EDT
DTSTART:20260308T070000
END:DAYLIGHT
BEGIN:STANDARD
TZOFFSETFROM:-0400
TZOFFSETTO:-0500
TZNAME:EST
DTSTART:20261101T060000
END:STANDARD
END:VTIMEZONE
BEGIN:VEVENT
DTSTART;TZID=America/New_York:20260424T100000
DTEND;TZID=America/New_York:20260424T100000
DTSTAMP:20260424T120223
CREATED:20260330T194940Z
LAST-MODIFIED:20260330T194940Z
UID:20211-1777024800-1777024800@towerlane.org
SUMMARY:Interfaith Bible Study
DESCRIPTION:Part of our Spiritual Pathway.\n\nDiscuss selected passages from the Old and New Testaments.
URL:https://towerlane.org/event/interfaith-bible-study-18/2026-04-24/
LOCATION:Sanctuary
END:VEVENT
BEGIN:VEVENT
DTSTART;TZID=America/New_York:20260424T110000
DTEND;TZID=America/New_York:20260424T110000
DTSTAMP:20260424T120223
CREATED:20260330T195201Z
LAST-MODIFIED:20260330T195201Z
UID:20216-1777028400-1777028400@towerlane.org
SUMMARY:Knitting Group
DESCRIPTION:Part of our Intellectual Pathway.\nMeets weekly to knit or crochet blankets for community donation.
URL:https://towerlane.org/event/knitting-group-81/2026-04-24/
LOCATION:Solarium
END:VEVENT
BEGIN:VEVENT
DTSTART;TZID=America/New_York:20260424T110000
DTEND;TZID=America/New_York:20260424T110000
DTSTAMP:20260424T120223
CREATED:20260330T220316Z
LAST-MODIFIED:20260330T220316Z
UID:20403-1777028400-1777028400@towerlane.org
SUMMARY:All About You
DESCRIPTION:Part of our Psychological Pathway.\nSenior advocate Bernadette DiGiulian leads a discussion that focuses on personal histories. Residents share various aspects of their lives in an intimate group setting.
URL:https://towerlane.org/event/all-about-you-52/2026-04-24/
LOCATION:Tower One 19th Floor
END:VEVENT
BEGIN:VEVENT
DTSTART;TZID=America/New_York:20260424T130000
DTEND;TZID=America/New_York:20260424T130000
DTSTAMP:20260424T120223
CREATED:20260330T195348Z
LAST-MODIFIED:20260330T195348Z
UID:20221-1777035600-1777035600@towerlane.org
SUMMARY:Tai Chi
DESCRIPTION:Part of our Physical Pathway.\nOffers an enhancement of traditional Tai Ji Quan by transforming the movements into therapeutic training for balance and mobility. Evidence –based program recommended by the National Council on Aging. Led by TJQ certified instructor\, Bill Banick.
URL:https://towerlane.org/event/tai-chi-45/2026-04-24/
LOCATION:Dining Room
END:VEVENT
BEGIN:VEVENT
DTSTART;TZID=America/New_York:20260424T140000
DTEND;TZID=America/New_York:20260424T140000
DTSTAMP:20260424T120223
CREATED:20260330T195522Z
LAST-MODIFIED:20260330T195522Z
UID:20226-1777039200-1777039200@towerlane.org
SUMMARY:Current Events
DESCRIPTION:Part of our Intellectual Pathway.\nResident-led interactive discussion group.
URL:https://towerlane.org/event/current-events-43/2026-04-24/
LOCATION:Sanctuary
END:VEVENT
BEGIN:VEVENT
DTSTART;TZID=America/New_York:20260424T180000
DTEND;TZID=America/New_York:20260424T180000
DTSTAMP:20260424T120223
CREATED:20260330T212956Z
LAST-MODIFIED:20260330T212956Z
UID:20346-1777053600-1777053600@towerlane.org
SUMMARY:Shabbos Candle Lighting
DESCRIPTION:
URL:https://towerlane.org/event/shabbos-candle-lighting-2/2026-04-24/
LOCATION:Dining Room
END:VEVENT
BEGIN:VEVENT
DTSTART;TZID=America/New_York:20260424T183000
DTEND;TZID=America/New_York:20260424T183000
DTSTAMP:20260424T120223
CREATED:20260330T195836Z
LAST-MODIFIED:20260330T195836Z
UID:20235-1777055400-1777055400@towerlane.org
SUMMARY:Shabbat
DESCRIPTION:Part of our Spiritual Pathway.\nFriday night and Saturday morning Shabbat services with Ruthie Greenblatt and Sarah Moskowitz.
URL:https://towerlane.org/event/shabbat-91/2026-04-24/
LOCATION:Sanctuary
END:VEVENT
BEGIN:VEVENT
DTSTART;TZID=America/New_York:20260425T100000
DTEND;TZID=America/New_York:20260425T100000
DTSTAMP:20260424T120223
CREATED:20260330T200023Z
LAST-MODIFIED:20260330T200023Z
UID:20240-1777111200-1777111200@towerlane.org
SUMMARY:Shabbat
DESCRIPTION:Part of our Spiritual Pathway.\nFriday night and Saturday morning Shabbat services with Ruthie Greenblatt and Sarah Moskowitz.
URL:https://towerlane.org/event/shabbat-92/2026-04-25/
LOCATION:Sanctuary
END:VEVENT
BEGIN:VEVENT
DTSTART;TZID=America/New_York:20260425T130000
DTEND;TZID=America/New_York:20260425T130000
DTSTAMP:20260424T120223
CREATED:20260330T220428Z
LAST-MODIFIED:20260330T220428Z
UID:20406-1777122000-1777122000@towerlane.org
SUMMARY:Movie Trivia
DESCRIPTION:
URL:https://towerlane.org/event/movie-trivia/2026-04-25/
LOCATION:Creativity Studio
END:VEVENT
BEGIN:VEVENT
DTSTART;TZID=America/New_York:20260425T140000
DTEND;TZID=America/New_York:20260425T140000
DTSTAMP:20260424T120223
CREATED:20260330T200202Z
LAST-MODIFIED:20260330T200202Z
UID:20245-1777125600-1777125600@towerlane.org
SUMMARY:Bingo
DESCRIPTION:Part of our Social Pathway.\nThe classic game.
URL:https://towerlane.org/event/bingo-150/2026-04-25/
LOCATION:Sanctuary
END:VEVENT
BEGIN:VEVENT
DTSTART;TZID=America/New_York:20260425T153000
DTEND;TZID=America/New_York:20260425T163000
DTSTAMP:20260424T120223
CREATED:20260330T221444Z
LAST-MODIFIED:20260330T221444Z
UID:20424-1777131000-1777134600@towerlane.org
SUMMARY:Open Studio
DESCRIPTION:
URL:https://towerlane.org/event/open-studio-2/
LOCATION:Creativity Studio
END:VEVENT
BEGIN:VEVENT
DTSTART;TZID=America/New_York:20260425T190000
DTEND;TZID=America/New_York:20260425T190000
DTSTAMP:20260424T120223
CREATED:20260330T204004Z
LAST-MODIFIED:20260330T204004Z
UID:20254-1777143600-1777143600@towerlane.org
SUMMARY:Movie Night
DESCRIPTION:
URL:https://towerlane.org/event/movie-night-99/2026-04-25/
LOCATION:Sanctuary
END:VEVENT
BEGIN:VEVENT
DTSTART;TZID=America/New_York:20260426T113000
DTEND;TZID=America/New_York:20260426T233000
DTSTAMP:20260424T120223
CREATED:20260330T213314Z
LAST-MODIFIED:20260330T213314Z
UID:20349-1777203000-1777246200@towerlane.org
SUMMARY:Dance for All
DESCRIPTION:
URL:https://towerlane.org/event/dance-for-all-4/2026-04-26/
LOCATION:Sanctuary
END:VEVENT
BEGIN:VEVENT
DTSTART;TZID=America/New_York:20260426T153000
DTEND;TZID=America/New_York:20260426T153000
DTSTAMP:20260424T120223
CREATED:20260330T213656Z
LAST-MODIFIED:20260330T213656Z
UID:20355-1777217400-1777217400@towerlane.org
SUMMARY:Nourish Group
DESCRIPTION:Part of our Intellectual Pathway.\nYale student-led 8 week wellness/education program. Promotes longevity\, healthy aging\, social connectedness etc. (Seasonal).
URL:https://towerlane.org/event/nourish-group/2026-04-26/
LOCATION:Sanctuary
END:VEVENT
BEGIN:VEVENT
DTSTART;TZID=America/New_York:20260426T190000
DTEND;TZID=America/New_York:20260426T190000
DTSTAMP:20260424T120223
CREATED:20260330T204726Z
LAST-MODIFIED:20260330T204726Z
UID:20267-1777230000-1777230000@towerlane.org
SUMMARY:Movie Night
DESCRIPTION:
URL:https://towerlane.org/event/movie-night-100/2026-04-26/
LOCATION:Sanctuary
END:VEVENT
BEGIN:VEVENT
DTSTART;TZID=America/New_York:20260427T100000
DTEND;TZID=America/New_York:20260427T100000
DTSTAMP:20260424T120223
CREATED:20260330T205342Z
LAST-MODIFIED:20260330T205342Z
UID:20272-1777284000-1777284000@towerlane.org
SUMMARY:Coffee Klatch
DESCRIPTION:Part of our Social Pathway.\nWeekly resident social hour.
URL:https://towerlane.org/event/coffee-klatch-44/2026-04-27/
LOCATION:Dining Room
END:VEVENT
BEGIN:VEVENT
DTSTART;TZID=America/New_York:20260427T111500
DTEND;TZID=America/New_York:20260427T111500
DTSTAMP:20260424T120223
CREATED:20260330T205533Z
LAST-MODIFIED:20260330T205533Z
UID:20277-1777288500-1777288500@towerlane.org
SUMMARY:Mindful Art
DESCRIPTION:Part of our Psychological Pathway.\nCounselor Amee Marcantonio utilizes many visual arts techniques to facilitate the creative process. An elevated mood\, improved mental status and better processing of emotions have been reported by participants.
URL:https://towerlane.org/event/mindful-art-15/2026-04-27/
LOCATION:Creativity Studio
END:VEVENT
BEGIN:VEVENT
DTSTART;TZID=America/New_York:20260427T123000
DTEND;TZID=America/New_York:20260427T123000
DTSTAMP:20260424T120223
CREATED:20260330T205650Z
LAST-MODIFIED:20260330T205650Z
UID:20282-1777293000-1777293000@towerlane.org
SUMMARY:Mynd Immersive VR
DESCRIPTION:
URL:https://towerlane.org/event/mynd-immersive-vr-9/2026-04-27/
LOCATION:Creativity Studio
END:VEVENT
BEGIN:VEVENT
DTSTART;TZID=America/New_York:20260427T130000
DTEND;TZID=America/New_York:20260427T130000
DTSTAMP:20260424T120223
CREATED:20260330T205825Z
LAST-MODIFIED:20260330T205825Z
UID:20287-1777294800-1777294800@towerlane.org
SUMMARY:Chair Yoga
DESCRIPTION:Part of our Physical Pathway.\nA lower intensity exercise session performed mostly seated. This is a great option for residents not ready for the frequent standing exercise during a Healthy and Fit session. Led by Yoga/Tai Chi instructor Bil Banick.
URL:https://towerlane.org/event/chair-yoga-41/2026-04-27/
LOCATION:Dining Room
END:VEVENT
BEGIN:VEVENT
DTSTART;TZID=America/New_York:20260427T140000
DTEND;TZID=America/New_York:20260427T140000
DTSTAMP:20260424T120223
CREATED:20260330T205954Z
LAST-MODIFIED:20260330T205954Z
UID:20292-1777298400-1777298400@towerlane.org
SUMMARY:Bingo
DESCRIPTION:Part of our Social Pathway.\nThe classic game.
URL:https://towerlane.org/event/bingo-151/2026-04-27/
LOCATION:Sanctuary
END:VEVENT
BEGIN:VEVENT
DTSTART;TZID=America/New_York:20260428T103000
DTEND;TZID=America/New_York:20260428T103000
DTSTAMP:20260424T120223
CREATED:20260330T214220Z
LAST-MODIFIED:20260330T214220Z
UID:20361-1777372200-1777372200@towerlane.org
SUMMARY:Sewing Group
DESCRIPTION:Part of our Intellectual Pathway.\nVolunteers assist residents sewing scarves\, pillow cases\,  or other projects for community donation. Typically meets twice per month.
URL:https://towerlane.org/event/sewing-group-21/2026-04-28/
LOCATION:Creativity Studio
END:VEVENT
BEGIN:VEVENT
DTSTART;TZID=America/New_York:20260428T110000
DTEND;TZID=America/New_York:20260428T110000
DTSTAMP:20260424T120223
CREATED:20260330T210347Z
LAST-MODIFIED:20260330T210347Z
UID:20300-1777374000-1777374000@towerlane.org
SUMMARY:Create a Word
DESCRIPTION:Part of our Intellectual Pathway.\nPopular resident-led word puzzle game that challenges the mind.
URL:https://towerlane.org/event/create-a-word-50/2026-04-28/
LOCATION:Tower One 19th Floor
END:VEVENT
BEGIN:VEVENT
DTSTART;TZID=America/New_York:20260428T113000
DTEND;TZID=America/New_York:20260428T113000
DTSTAMP:20260424T120223
CREATED:20260330T210524Z
LAST-MODIFIED:20260330T210524Z
UID:20305-1777375800-1777375800@towerlane.org
SUMMARY:30-Minute Exercise
DESCRIPTION:Part of our Physical Pathway.\n\nA shortened\, modified version of our Healthy & Fit. These sessions are typically performed half seated\, half standing\, and can be modified to most ability levels. Practical strategies for minimizing fall risk are discussed.
URL:https://towerlane.org/event/30-minute-exercise-39/2026-04-28/
LOCATION:Sanctuary
END:VEVENT
BEGIN:VEVENT
DTSTART;TZID=America/New_York:20260428T130000
DTEND;TZID=America/New_York:20260428T130000
DTSTAMP:20260424T120223
CREATED:20260330T210723Z
LAST-MODIFIED:20260330T210723Z
UID:20310-1777381200-1777381200@towerlane.org
SUMMARY:Interactive Music
DESCRIPTION:Part of our Psychological Pathway.\nMusic therapy uses several different interventions to promote wellness and manage stress. It encourages communication and expression through musical interaction and it is just a lot of fun!  Led by certified music therapist Tess Sandler.
URL:https://towerlane.org/event/interactive-music-47/2026-04-28/
LOCATION:Dining Room
END:VEVENT
BEGIN:VEVENT
DTSTART;TZID=America/New_York:20260428T140000
DTEND;TZID=America/New_York:20260428T140000
DTSTAMP:20260424T120223
CREATED:20260331T160121Z
LAST-MODIFIED:20260331T160121Z
UID:20426-1777384800-1777384800@towerlane.org
SUMMARY:Towers Storytellers: Sylvia Rifkin
DESCRIPTION:
URL:https://towerlane.org/event/towers-storytellers-sylvia-rifkin/
LOCATION:Sanctuary
END:VEVENT
BEGIN:VEVENT
DTSTART;TZID=America/New_York:20260428T150000
DTEND;TZID=America/New_York:20260428T150000
DTSTAMP:20260424T120223
CREATED:20260330T214524Z
LAST-MODIFIED:20260330T214524Z
UID:20366-1777388400-1777388400@towerlane.org
SUMMARY:Yiddish Group
DESCRIPTION:Part of our Social Pathway.\nYiddish phrases are discussed. Words and phrases bring back memories and stimulate discussion. Reminiscing style group. Led by volunteer Michelle Abrams.
URL:https://towerlane.org/event/yiddish-group-15/2026-04-28/
LOCATION:Creativity Studio
END:VEVENT
BEGIN:VEVENT
DTSTART;TZID=America/New_York:20260428T173000
DTEND;TZID=America/New_York:20260428T173000
DTSTAMP:20260424T120223
CREATED:20260331T160240Z
LAST-MODIFIED:20260331T160240Z
UID:20428-1777397400-1777397400@towerlane.org
SUMMARY:Premier Jazz Ensemble
DESCRIPTION:Part of our Social Pathway. \nConcerts\, themed game nights\, trivia and more scheduled throughout the month.
URL:https://towerlane.org/event/premier-jazz-ensemble/
LOCATION:Dining Room
END:VEVENT
BEGIN:VEVENT
DTSTART;TZID=America/New_York:20260428T190000
DTEND;TZID=America/New_York:20260428T190000
DTSTAMP:20260424T120223
CREATED:20260331T160335Z
LAST-MODIFIED:20260331T160335Z
UID:20430-1777402800-1777402800@towerlane.org
SUMMARY:Game Night with Charles Rosenay
DESCRIPTION:Part of our Social Pathway. \nConcerts\, themed game nights\, trivia and more scheduled throughout the month.
URL:https://towerlane.org/event/game-night-with-charles-rosenay-30/
LOCATION:Sanctuary
END:VEVENT
BEGIN:VEVENT
DTSTART;TZID=America/New_York:20260429T104500
DTEND;TZID=America/New_York:20260429T104500
DTSTAMP:20260424T120223
CREATED:20260331T160548Z
LAST-MODIFIED:20260331T160548Z
UID:20432-1777459500-1777459500@towerlane.org
SUMMARY:Chorus Rehearsal
DESCRIPTION:Part of our Psychological Pathway. \nChorus leader Kevin Mack leads weekly rehearsals culminating in themed performances throughout the year. Runs seasonally.
URL:https://towerlane.org/event/chorus-rehearsal-33/
LOCATION:Dining Room
END:VEVENT
BEGIN:VEVENT
DTSTART;TZID=America/New_York:20260429T130000
DTEND;TZID=America/New_York:20260429T130000
DTSTAMP:20260424T120223
CREATED:20260331T160717Z
LAST-MODIFIED:20260331T160717Z
UID:20434-1777467600-1777467600@towerlane.org
SUMMARY:Healthy & Fit
DESCRIPTION:Part of our Physical Pathway.\nA full body exercise session that can be scaled to most ability levels. These workouts aim to increase strength and balance\, improve flexibility and overall fitness levels.
URL:https://towerlane.org/event/healthy-fit-76/
LOCATION:Dining Room
END:VEVENT
END:VCALENDAR