BEGIN:VCALENDAR
VERSION:2.0
PRODID:-//The Towers - ECPv6.10.3//NONSGML v1.0//EN
CALSCALE:GREGORIAN
METHOD:PUBLISH
X-ORIGINAL-URL:https://towerlane.org
X-WR-CALDESC:Events for The Towers
REFRESH-INTERVAL;VALUE=DURATION:PT1H
X-Robots-Tag:noindex
X-PUBLISHED-TTL:PT1H
BEGIN:VTIMEZONE
TZID:America/New_York
BEGIN:DAYLIGHT
TZOFFSETFROM:-0500
TZOFFSETTO:-0400
TZNAME:EDT
DTSTART:20250309T070000
END:DAYLIGHT
BEGIN:STANDARD
TZOFFSETFROM:-0400
TZOFFSETTO:-0500
TZNAME:EST
DTSTART:20251102T060000
END:STANDARD
END:VTIMEZONE
BEGIN:VEVENT
DTSTART;TZID=America/New_York:20250725T140000
DTEND;TZID=America/New_York:20250725T140000
DTSTAMP:20260420T121610
CREATED:20250701T164118Z
LAST-MODIFIED:20250701T164118Z
UID:17283-1753452000-1753452000@towerlane.org
SUMMARY:Current Events
DESCRIPTION:Part of our Intellectual Pathway\nResident-led interactive discussion group.
URL:https://towerlane.org/event/current-events-34/2025-07-25/
LOCATION:Sanctuary
END:VEVENT
BEGIN:VEVENT
DTSTART;TZID=America/New_York:20250718T140000
DTEND;TZID=America/New_York:20250718T140000
DTSTAMP:20260420T121610
CREATED:20250701T164118Z
LAST-MODIFIED:20250701T164118Z
UID:17282-1752847200-1752847200@towerlane.org
SUMMARY:Current Events
DESCRIPTION:Part of our Intellectual Pathway\nResident-led interactive discussion group.
URL:https://towerlane.org/event/current-events-34/2025-07-18/
LOCATION:Sanctuary
END:VEVENT
BEGIN:VEVENT
DTSTART;TZID=America/New_York:20250711T140000
DTEND;TZID=America/New_York:20250711T140000
DTSTAMP:20260420T121610
CREATED:20250701T164118Z
LAST-MODIFIED:20250701T164118Z
UID:17281-1752242400-1752242400@towerlane.org
SUMMARY:Current Events
DESCRIPTION:Part of our Intellectual Pathway\nResident-led interactive discussion group.
URL:https://towerlane.org/event/current-events-34/2025-07-11/
LOCATION:Sanctuary
END:VEVENT
END:VCALENDAR