BEGIN:VCALENDAR
VERSION:2.0
PRODID:-//The Towers - ECPv6.10.3//NONSGML v1.0//EN
CALSCALE:GREGORIAN
METHOD:PUBLISH
X-ORIGINAL-URL:https://towerlane.org
X-WR-CALDESC:Events for The Towers
REFRESH-INTERVAL;VALUE=DURATION:PT1H
X-Robots-Tag:noindex
X-PUBLISHED-TTL:PT1H
BEGIN:VTIMEZONE
TZID:America/New_York
BEGIN:DAYLIGHT
TZOFFSETFROM:-0500
TZOFFSETTO:-0400
TZNAME:EDT
DTSTART:20260308T070000
END:DAYLIGHT
BEGIN:STANDARD
TZOFFSETFROM:-0400
TZOFFSETTO:-0500
TZNAME:EST
DTSTART:20261101T060000
END:STANDARD
END:VTIMEZONE
BEGIN:VEVENT
DTSTART;TZID=America/New_York:20260222T153000
DTEND;TZID=America/New_York:20260222T153000
DTSTAMP:20260420T104549
CREATED:20260131T161911Z
LAST-MODIFIED:20260131T161911Z
UID:19454-1771774200-1771774200@towerlane.org
SUMMARY:Nourish Program
DESCRIPTION:Part of our Intellectual Pathway.\nYale student-led 8 week wellness/education program. Promotes longevity\, healthy aging\, social connectedness etc. (Seasonal)
URL:https://towerlane.org/event/nourish-program-9/2026-02-22/
LOCATION:Sanctuary
END:VEVENT
BEGIN:VEVENT
DTSTART;TZID=America/New_York:20260215T153000
DTEND;TZID=America/New_York:20260215T153000
DTSTAMP:20260420T104549
CREATED:20260131T161911Z
LAST-MODIFIED:20260131T161911Z
UID:19453-1771169400-1771169400@towerlane.org
SUMMARY:Nourish Program
DESCRIPTION:Part of our Intellectual Pathway.\nYale student-led 8 week wellness/education program. Promotes longevity\, healthy aging\, social connectedness etc. (Seasonal)
URL:https://towerlane.org/event/nourish-program-9/2026-02-15/
LOCATION:Sanctuary
END:VEVENT
BEGIN:VEVENT
DTSTART;TZID=America/New_York:20260208T153000
DTEND;TZID=America/New_York:20260208T153000
DTSTAMP:20260420T104549
CREATED:20260131T161911Z
LAST-MODIFIED:20260131T161911Z
UID:19452-1770564600-1770564600@towerlane.org
SUMMARY:Nourish Program
DESCRIPTION:Part of our Intellectual Pathway.\nYale student-led 8 week wellness/education program. Promotes longevity\, healthy aging\, social connectedness etc. (Seasonal)
URL:https://towerlane.org/event/nourish-program-9/2026-02-08/
LOCATION:Sanctuary
END:VEVENT
END:VCALENDAR