BEGIN:VCALENDAR
VERSION:2.0
PRODID:-//The Towers - ECPv6.10.3//NONSGML v1.0//EN
CALSCALE:GREGORIAN
METHOD:PUBLISH
X-ORIGINAL-URL:https://towerlane.org
X-WR-CALDESC:Events for The Towers
REFRESH-INTERVAL;VALUE=DURATION:PT1H
X-Robots-Tag:noindex
X-PUBLISHED-TTL:PT1H
BEGIN:VTIMEZONE
TZID:America/New_York
BEGIN:DAYLIGHT
TZOFFSETFROM:-0500
TZOFFSETTO:-0400
TZNAME:EDT
DTSTART:20230312T070000
END:DAYLIGHT
BEGIN:STANDARD
TZOFFSETFROM:-0400
TZOFFSETTO:-0500
TZNAME:EST
DTSTART:20231105T060000
END:STANDARD
END:VTIMEZONE
BEGIN:VEVENT
DTSTART;TZID=America/New_York:20230301T103000
DTEND;TZID=America/New_York:20230301T103000
DTSTAMP:20260425T144634
CREATED:20230301T174608Z
LAST-MODIFIED:20230301T174608Z
UID:9684-1677666600-1677666600@towerlane.org
SUMMARY:Chorus Rehearsal
DESCRIPTION:
URL:https://towerlane.org/event/chorus-rehearsal-6/2023-03-01/
LOCATION:Tower East Meeting Room
END:VEVENT
BEGIN:VEVENT
DTSTART;TZID=America/New_York:20230301T130000
DTEND;TZID=America/New_York:20230301T130000
DTSTAMP:20260425T144634
CREATED:20230301T174852Z
LAST-MODIFIED:20230301T174852Z
UID:9689-1677675600-1677675600@towerlane.org
SUMMARY:Exercise
DESCRIPTION:
URL:https://towerlane.org/event/exercise-27/2023-03-01/
LOCATION:Tower East Meeting Room
END:VEVENT
BEGIN:VEVENT
DTSTART;TZID=America/New_York:20230301T140000
DTEND;TZID=America/New_York:20230301T140000
DTSTAMP:20260425T144634
CREATED:20230301T175037Z
LAST-MODIFIED:20230301T175037Z
UID:9695-1677679200-1677679200@towerlane.org
SUMMARY:JFS Support Group
DESCRIPTION:
URL:https://towerlane.org/event/jfs-support-group-14/2023-03-01/
LOCATION:Tower East Meeting Room
END:VEVENT
BEGIN:VEVENT
DTSTART;TZID=America/New_York:20230301T184500
DTEND;TZID=America/New_York:20230301T184500
DTSTAMP:20260425T144634
CREATED:20230301T175119Z
LAST-MODIFIED:20230301T175119Z
UID:9701-1677696300-1677696300@towerlane.org
SUMMARY:Charles "Piano Man" Thomas
DESCRIPTION:
URL:https://towerlane.org/event/charles-piano-man-thomas-2/
LOCATION:Tower East Meeting Room
END:VEVENT
BEGIN:VEVENT
DTSTART;TZID=America/New_York:20230302T110000
DTEND;TZID=America/New_York:20230302T110000
DTSTAMP:20260425T144634
CREATED:20230301T175248Z
LAST-MODIFIED:20230301T175248Z
UID:9703-1677754800-1677754800@towerlane.org
SUMMARY:Blood Pressure Clinic with Sacred Heart Students
DESCRIPTION:
URL:https://towerlane.org/event/blood-pressure-clinic-with-sacred-heart-students/
LOCATION:Tower East Meeting Room
END:VEVENT
BEGIN:VEVENT
DTSTART;TZID=America/New_York:20230302T130000
DTEND;TZID=America/New_York:20230302T130000
DTSTAMP:20260425T144634
CREATED:20230301T175750Z
LAST-MODIFIED:20230301T175750Z
UID:9705-1677762000-1677762000@towerlane.org
SUMMARY:Catholic Mass
DESCRIPTION:
URL:https://towerlane.org/event/catholic-mass-13/
LOCATION:Tower East Meeting Room
END:VEVENT
BEGIN:VEVENT
DTSTART;TZID=America/New_York:20230302T130000
DTEND;TZID=America/New_York:20230302T130000
DTSTAMP:20260425T144634
CREATED:20230301T180709Z
LAST-MODIFIED:20230301T180709Z
UID:9707-1677762000-1677762000@towerlane.org
SUMMARY:Torah Study with Ruthie
DESCRIPTION:
URL:https://towerlane.org/event/torah-study-with-ruthie/2023-03-02/
LOCATION:Tower One 19th Floor
END:VEVENT
BEGIN:VEVENT
DTSTART;TZID=America/New_York:20230302T140000
DTEND;TZID=America/New_York:20230302T140000
DTSTAMP:20260425T144634
CREATED:20230301T180759Z
LAST-MODIFIED:20230301T180759Z
UID:9711-1677765600-1677765600@towerlane.org
SUMMARY:AARP Fraud Watch: Inside the Criminal Mind
DESCRIPTION:
URL:https://towerlane.org/event/aarp-fraud-watch-inside-the-criminal-mind/
LOCATION:Tower East Meeting Room
END:VEVENT
BEGIN:VEVENT
DTSTART;TZID=America/New_York:20230303T110000
DTEND;TZID=America/New_York:20230303T110000
DTSTAMP:20260425T144634
CREATED:20230301T180843Z
LAST-MODIFIED:20230301T180843Z
UID:9713-1677841200-1677841200@towerlane.org
SUMMARY:Welcome Mayor Elicker
DESCRIPTION:
URL:https://towerlane.org/event/welcome-mayor-elicker/
LOCATION:Tower East Meeting Room
END:VEVENT
BEGIN:VEVENT
DTSTART;TZID=America/New_York:20230303T110000
DTEND;TZID=America/New_York:20230303T110000
DTSTAMP:20260425T144634
CREATED:20230301T180952Z
LAST-MODIFIED:20230301T180952Z
UID:9715-1677841200-1677841200@towerlane.org
SUMMARY:Knitting Group
DESCRIPTION:
URL:https://towerlane.org/event/knitting-group-25/
LOCATION:Tower One 19th Floor
END:VEVENT
BEGIN:VEVENT
DTSTART;TZID=America/New_York:20230303T130000
DTEND;TZID=America/New_York:20230303T130000
DTSTAMP:20260425T144634
CREATED:20230301T181125Z
LAST-MODIFIED:20230301T181125Z
UID:9717-1677848400-1677848400@towerlane.org
SUMMARY:Exercise
DESCRIPTION:
URL:https://towerlane.org/event/exercise-28/2023-03-03/
LOCATION:Tower East Meeting Room
END:VEVENT
BEGIN:VEVENT
DTSTART;TZID=America/New_York:20230303T140000
DTEND;TZID=America/New_York:20230303T140000
DTSTAMP:20260425T144634
CREATED:20230301T181241Z
LAST-MODIFIED:20230301T181241Z
UID:9723-1677852000-1677852000@towerlane.org
SUMMARY:Current Events
DESCRIPTION:
URL:https://towerlane.org/event/current-events-9/2023-03-03/
LOCATION:Tower East Meeting Room
END:VEVENT
BEGIN:VEVENT
DTSTART;TZID=America/New_York:20230303T184500
DTEND;TZID=America/New_York:20230303T184500
DTSTAMP:20260425T144634
CREATED:20230301T181333Z
LAST-MODIFIED:20230301T181333Z
UID:9729-1677869100-1677869100@towerlane.org
SUMMARY:Shabbat
DESCRIPTION:
URL:https://towerlane.org/event/shabbat-13/2023-03-03/
LOCATION:Tower East Meeting Room
END:VEVENT
BEGIN:VEVENT
DTSTART;TZID=America/New_York:20230304T100000
DTEND;TZID=America/New_York:20230304T100000
DTSTAMP:20260425T144634
CREATED:20230301T181448Z
LAST-MODIFIED:20230301T181448Z
UID:9735-1677924000-1677924000@towerlane.org
SUMMARY:Shabbat
DESCRIPTION:
URL:https://towerlane.org/event/shabbat-14/2023-03-04/
LOCATION:Tower East Meeting Room
END:VEVENT
BEGIN:VEVENT
DTSTART;TZID=America/New_York:20230304T140000
DTEND;TZID=America/New_York:20230304T140000
DTSTAMP:20260425T144634
CREATED:20230301T181603Z
LAST-MODIFIED:20230301T181603Z
UID:9740-1677938400-1677938400@towerlane.org
SUMMARY:Bingo
DESCRIPTION:
URL:https://towerlane.org/event/bingo-59/2023-03-04/
LOCATION:Tower East Meeting Room
END:VEVENT
BEGIN:VEVENT
DTSTART;TZID=America/New_York:20230304T190000
DTEND;TZID=America/New_York:20230304T190000
DTSTAMP:20260425T144634
CREATED:20230301T181656Z
LAST-MODIFIED:20230301T181656Z
UID:9745-1677956400-1677956400@towerlane.org
SUMMARY:Movie Night
DESCRIPTION:
URL:https://towerlane.org/event/movie-night-22/2023-03-04/
LOCATION:Tower East Meeting Room
END:VEVENT
BEGIN:VEVENT
DTSTART;TZID=America/New_York:20230305T110000
DTEND;TZID=America/New_York:20230305T110000
DTSTAMP:20260425T144634
CREATED:20230301T181829Z
LAST-MODIFIED:20230301T181829Z
UID:9751-1678014000-1678014000@towerlane.org
SUMMARY:Chair Yoga
DESCRIPTION:
URL:https://towerlane.org/event/chair-yoga-7/
LOCATION:Tower East Meeting Room
END:VEVENT
BEGIN:VEVENT
DTSTART;TZID=America/New_York:20230305T140000
DTEND;TZID=America/New_York:20230305T140000
DTSTAMP:20260425T144634
CREATED:20230301T182014Z
LAST-MODIFIED:20230301T182014Z
UID:9753-1678024800-1678024800@towerlane.org
SUMMARY:Movie
DESCRIPTION:
URL:https://towerlane.org/event/movie-38/
LOCATION:Tower East Meeting Room
END:VEVENT
BEGIN:VEVENT
DTSTART;VALUE=DATE:20230306
DTEND;VALUE=DATE:20230307
DTSTAMP:20260425T144634
CREATED:20230301T182141Z
LAST-MODIFIED:20230301T182141Z
UID:9755-1678060800-1678147199@towerlane.org
SUMMARY:Happy Purim!
DESCRIPTION:
URL:https://towerlane.org/event/happy-purim/
END:VEVENT
BEGIN:VEVENT
DTSTART;TZID=America/New_York:20230306T100000
DTEND;TZID=America/New_York:20230306T100000
DTSTAMP:20260425T144634
CREATED:20230301T182224Z
LAST-MODIFIED:20230301T182224Z
UID:9757-1678096800-1678096800@towerlane.org
SUMMARY:Coffee Klatch
DESCRIPTION:
URL:https://towerlane.org/event/coffee-klatch-9/2023-03-06/
LOCATION:Tower East Meeting Room
END:VEVENT
BEGIN:VEVENT
DTSTART;TZID=America/New_York:20230306T110000
DTEND;TZID=America/New_York:20230306T110000
DTSTAMP:20260425T144634
CREATED:20230301T182348Z
LAST-MODIFIED:20230301T182348Z
UID:9762-1678100400-1678100400@towerlane.org
SUMMARY:Creative Art
DESCRIPTION:
URL:https://towerlane.org/event/creative-art-5/2023-03-06/
LOCATION:Tower East Meeting Room
END:VEVENT
BEGIN:VEVENT
DTSTART;TZID=America/New_York:20230306T130000
DTEND;TZID=America/New_York:20230306T130000
DTSTAMP:20260425T144634
CREATED:20230301T182505Z
LAST-MODIFIED:20230301T182505Z
UID:9766-1678107600-1678107600@towerlane.org
SUMMARY:Exercise
DESCRIPTION:
URL:https://towerlane.org/event/exercise-29/2023-03-06/
LOCATION:Tower East Meeting Room
END:VEVENT
BEGIN:VEVENT
DTSTART;TZID=America/New_York:20230306T141500
DTEND;TZID=America/New_York:20230306T141500
DTSTAMP:20260425T144634
CREATED:20230301T182825Z
LAST-MODIFIED:20230301T182825Z
UID:9771-1678112100-1678112100@towerlane.org
SUMMARY:Bingo
DESCRIPTION:
URL:https://towerlane.org/event/bingo-60/2023-03-06/
LOCATION:Tower East Meeting Room
END:VEVENT
BEGIN:VEVENT
DTSTART;TZID=America/New_York:20230306T184500
DTEND;TZID=America/New_York:20230306T184500
DTSTAMP:20260425T144634
CREATED:20230301T182921Z
LAST-MODIFIED:20230301T182921Z
UID:9775-1678128300-1678128300@towerlane.org
SUMMARY:Purim Service with Ruthie
DESCRIPTION:
URL:https://towerlane.org/event/purim-service-with-ruthie/
LOCATION:Tower East Meeting Room
END:VEVENT
BEGIN:VEVENT
DTSTART;TZID=America/New_York:20230307T100000
DTEND;TZID=America/New_York:20230307T100000
DTSTAMP:20260425T144634
CREATED:20230301T183022Z
LAST-MODIFIED:20230301T183022Z
UID:9777-1678183200-1678183200@towerlane.org
SUMMARY:Dining Scarf Project
DESCRIPTION:
URL:https://towerlane.org/event/dining-scarf-project-13/
LOCATION:Tower East Meeting Room
END:VEVENT
BEGIN:VEVENT
DTSTART;TZID=America/New_York:20230307T104500
DTEND;TZID=America/New_York:20230307T104500
DTSTAMP:20260425T144634
CREATED:20230301T183229Z
LAST-MODIFIED:20230301T183229Z
UID:9779-1678185900-1678185900@towerlane.org
SUMMARY:Create a Word
DESCRIPTION:
URL:https://towerlane.org/event/create-a-word-10/2023-03-07/
LOCATION:Tower One 20th Floor
END:VEVENT
BEGIN:VEVENT
DTSTART;TZID=America/New_York:20230307T130000
DTEND;TZID=America/New_York:20230307T130000
DTSTAMP:20260425T144634
CREATED:20230301T183359Z
LAST-MODIFIED:20230301T183359Z
UID:9783-1678194000-1678194000@towerlane.org
SUMMARY:Interactive Music
DESCRIPTION:
URL:https://towerlane.org/event/interactive-music-6/2023-03-07/
LOCATION:Tower East Meeting Room
END:VEVENT
BEGIN:VEVENT
DTSTART;TZID=America/New_York:20230307T140000
DTEND;TZID=America/New_York:20230307T140000
DTSTAMP:20260425T144634
CREATED:20230301T183537Z
LAST-MODIFIED:20230301T183537Z
UID:9787-1678197600-1678197600@towerlane.org
SUMMARY:Yiddish
DESCRIPTION:
URL:https://towerlane.org/event/yiddish-6/2023-03-07/
LOCATION:Tower East Meeting Room
END:VEVENT
BEGIN:VEVENT
DTSTART;TZID=America/New_York:20230307T150000
DTEND;TZID=America/New_York:20230307T150000
DTSTAMP:20260425T144634
CREATED:20230301T183621Z
LAST-MODIFIED:20230301T183621Z
UID:9792-1678201200-1678201200@towerlane.org
SUMMARY:Dining Meeting
DESCRIPTION:
URL:https://towerlane.org/event/dining-meeting-3/
LOCATION:Tower East Meeting Room
END:VEVENT
BEGIN:VEVENT
DTSTART;TZID=America/New_York:20230307T190000
DTEND;TZID=America/New_York:20230307T190000
DTSTAMP:20260425T144634
CREATED:20230301T183706Z
LAST-MODIFIED:20230301T183706Z
UID:9794-1678215600-1678215600@towerlane.org
SUMMARY:Movie and Discussion with Jim Brochin
DESCRIPTION:
URL:https://towerlane.org/event/movie-and-discussion-with-jim-brochin-6/
LOCATION:Tower East Meeting Room
END:VEVENT
END:VCALENDAR