BEGIN:VCALENDAR
VERSION:2.0
PRODID:-//The Towers - ECPv6.10.3//NONSGML v1.0//EN
CALSCALE:GREGORIAN
METHOD:PUBLISH
X-WR-CALNAME:The Towers
X-ORIGINAL-URL:https://towerlane.org
X-WR-CALDESC:Events for The Towers
REFRESH-INTERVAL;VALUE=DURATION:PT1H
X-Robots-Tag:noindex
X-PUBLISHED-TTL:PT1H
BEGIN:VTIMEZONE
TZID:America/New_York
BEGIN:DAYLIGHT
TZOFFSETFROM:-0500
TZOFFSETTO:-0400
TZNAME:EDT
DTSTART:20230312T070000
END:DAYLIGHT
BEGIN:STANDARD
TZOFFSETFROM:-0400
TZOFFSETTO:-0500
TZNAME:EST
DTSTART:20231105T060000
END:STANDARD
END:VTIMEZONE
BEGIN:VEVENT
DTSTART;TZID=America/New_York:20230701T100000
DTEND;TZID=America/New_York:20230701T100000
DTSTAMP:20260425T083534
CREATED:20230630T173932Z
LAST-MODIFIED:20230630T173932Z
UID:11020-1688205600-1688205600@towerlane.org
SUMMARY:Shabbat
DESCRIPTION:
URL:https://towerlane.org/event/shabbat-21/2023-07-01/
LOCATION:Tower East Meeting Room
END:VEVENT
BEGIN:VEVENT
DTSTART;TZID=America/New_York:20230701T140000
DTEND;TZID=America/New_York:20230701T140000
DTSTAMP:20260425T083534
CREATED:20230630T174057Z
LAST-MODIFIED:20230630T174057Z
UID:11026-1688220000-1688220000@towerlane.org
SUMMARY:Bingo
DESCRIPTION:
URL:https://towerlane.org/event/bingo-68/2023-07-01/
LOCATION:Tower East Meeting Room
END:VEVENT
BEGIN:VEVENT
DTSTART;TZID=America/New_York:20230701T153000
DTEND;TZID=America/New_York:20230701T153000
DTSTAMP:20260425T083534
CREATED:20230630T174139Z
LAST-MODIFIED:20230630T174139Z
UID:11032-1688225400-1688225400@towerlane.org
SUMMARY:Christian Worship Service
DESCRIPTION:
URL:https://towerlane.org/event/christian-worship-service-10/
LOCATION:Tower East Meeting Room
END:VEVENT
BEGIN:VEVENT
DTSTART;TZID=America/New_York:20230701T190000
DTEND;TZID=America/New_York:20230701T190000
DTSTAMP:20260425T083534
CREATED:20230630T174250Z
LAST-MODIFIED:20230630T174250Z
UID:11034-1688238000-1688238000@towerlane.org
SUMMARY:Movie Night
DESCRIPTION:
URL:https://towerlane.org/event/movie-night-26/2023-07-01/
LOCATION:Tower East Meeting Room
END:VEVENT
BEGIN:VEVENT
DTSTART;TZID=America/New_York:20230702T130000
DTEND;TZID=America/New_York:20230702T130000
DTSTAMP:20260425T083534
CREATED:20230630T174652Z
LAST-MODIFIED:20230630T174652Z
UID:11040-1688302800-1688302800@towerlane.org
SUMMARY:Movie
DESCRIPTION:
URL:https://towerlane.org/event/movie-43/2023-07-02/
LOCATION:Tower East Meeting Room
END:VEVENT
BEGIN:VEVENT
DTSTART;TZID=America/New_York:20230703T100000
DTEND;TZID=America/New_York:20230703T100000
DTSTAMP:20260425T083534
CREATED:20230630T175003Z
LAST-MODIFIED:20230630T175003Z
UID:11046-1688378400-1688378400@towerlane.org
SUMMARY:Coffee Klatch
DESCRIPTION:
URL:https://towerlane.org/event/coffee-klatch-13/2023-07-03/
LOCATION:Tower East Meeting Room
END:VEVENT
BEGIN:VEVENT
DTSTART;TZID=America/New_York:20230703T110000
DTEND;TZID=America/New_York:20230703T110000
DTSTAMP:20260425T083534
CREATED:20230630T175150Z
LAST-MODIFIED:20230630T175150Z
UID:11052-1688382000-1688382000@towerlane.org
SUMMARY:Creative Art
DESCRIPTION:
URL:https://towerlane.org/event/creative-art-9/2023-07-03/
LOCATION:Tower East Meeting Room
END:VEVENT
BEGIN:VEVENT
DTSTART;TZID=America/New_York:20230703T130000
DTEND;TZID=America/New_York:20230703T130000
DTSTAMP:20260425T083534
CREATED:20230630T175311Z
LAST-MODIFIED:20230630T175311Z
UID:11058-1688389200-1688389200@towerlane.org
SUMMARY:Healthy & Fit
DESCRIPTION:
URL:https://towerlane.org/event/healthy-fit-20/
LOCATION:Tower East Meeting Room
END:VEVENT
BEGIN:VEVENT
DTSTART;TZID=America/New_York:20230703T141500
DTEND;TZID=America/New_York:20230703T141500
DTSTAMP:20260425T083534
CREATED:20230630T175500Z
LAST-MODIFIED:20230630T175500Z
UID:11060-1688393700-1688393700@towerlane.org
SUMMARY:Bingo
DESCRIPTION:
URL:https://towerlane.org/event/bingo-69/2023-07-03/
LOCATION:Tower East Meeting Room
END:VEVENT
BEGIN:VEVENT
DTSTART;TZID=America/New_York:20230703T190000
DTEND;TZID=America/New_York:20230703T190000
DTSTAMP:20260425T083534
CREATED:20230630T175547Z
LAST-MODIFIED:20230630T175547Z
UID:11066-1688410800-1688410800@towerlane.org
SUMMARY:Classic TV Night
DESCRIPTION:
URL:https://towerlane.org/event/classic-tv-night-3/
LOCATION:Tower East Meeting Room
END:VEVENT
BEGIN:VEVENT
DTSTART;VALUE=DATE:20230704
DTEND;VALUE=DATE:20230705
DTSTAMP:20260425T083534
CREATED:20230630T175621Z
LAST-MODIFIED:20230630T175621Z
UID:11068-1688428800-1688515199@towerlane.org
SUMMARY:HAPPY FOURTH OF JULY
DESCRIPTION:
URL:https://towerlane.org/event/happy-fourth-of-july/
END:VEVENT
BEGIN:VEVENT
DTSTART;TZID=America/New_York:20230704T104500
DTEND;TZID=America/New_York:20230704T104500
DTSTAMP:20260425T083534
CREATED:20230630T180840Z
LAST-MODIFIED:20230630T180840Z
UID:11070-1688467500-1688467500@towerlane.org
SUMMARY:Create a Word
DESCRIPTION:
URL:https://towerlane.org/event/create-a-word-14/2023-07-04/
LOCATION:Tower One 20th Floor
END:VEVENT
BEGIN:VEVENT
DTSTART;TZID=America/New_York:20230704T120000
DTEND;TZID=America/New_York:20230704T120000
DTSTAMP:20260425T083534
CREATED:20230630T181009Z
LAST-MODIFIED:20230630T181009Z
UID:11075-1688472000-1688472000@towerlane.org
SUMMARY:Grill Lunch (dinner will be delivered)
DESCRIPTION:
URL:https://towerlane.org/event/grill-lunch-dinner-will-be-delivered/
LOCATION:Tower East Meeting Room
END:VEVENT
BEGIN:VEVENT
DTSTART;TZID=America/New_York:20230705T110000
DTEND;TZID=America/New_York:20230705T110000
DTSTAMP:20260425T083534
CREATED:20230630T181107Z
LAST-MODIFIED:20230630T181107Z
UID:11077-1688554800-1688554800@towerlane.org
SUMMARY:Quinnipiac University Students
DESCRIPTION:
URL:https://towerlane.org/event/quinnipiac-university-students/
LOCATION:Tower East Meeting Room
END:VEVENT
BEGIN:VEVENT
DTSTART;TZID=America/New_York:20230705T130000
DTEND;TZID=America/New_York:20230705T130000
DTSTAMP:20260425T083534
CREATED:20230630T181221Z
LAST-MODIFIED:20230630T181221Z
UID:11079-1688562000-1688562000@towerlane.org
SUMMARY:Healthy & Fit
DESCRIPTION:
URL:https://towerlane.org/event/healthy-fit-21/2023-07-05/
LOCATION:Tower East Meeting Room
END:VEVENT
BEGIN:VEVENT
DTSTART;TZID=America/New_York:20230705T140000
DTEND;TZID=America/New_York:20230705T140000
DTSTAMP:20260425T083534
CREATED:20230630T181423Z
LAST-MODIFIED:20230630T181423Z
UID:11084-1688565600-1688565600@towerlane.org
SUMMARY:JFS Support Group
DESCRIPTION:
URL:https://towerlane.org/event/jfs-support-group-20/2023-07-05/
LOCATION:Tower One 19th Floor
END:VEVENT
BEGIN:VEVENT
DTSTART;TZID=America/New_York:20230705T140000
DTEND;TZID=America/New_York:20230705T140000
DTSTAMP:20260425T083534
CREATED:20230630T181510Z
LAST-MODIFIED:20230630T181510Z
UID:11089-1688565600-1688565600@towerlane.org
SUMMARY:Steve Rabin Documentary Series
DESCRIPTION:
URL:https://towerlane.org/event/steve-rabin-documentary-series-9/
LOCATION:Tower East Meeting Room
END:VEVENT
BEGIN:VEVENT
DTSTART;TZID=America/New_York:20230706T100000
DTEND;TZID=America/New_York:20230706T100000
DTSTAMP:20260425T083534
CREATED:20230630T181614Z
LAST-MODIFIED:20230630T181614Z
UID:11091-1688637600-1688637600@towerlane.org
SUMMARY:Hospitality Group Meeting
DESCRIPTION:
URL:https://towerlane.org/event/hospitality-group-meeting/
LOCATION:Tower One 20th Floor
END:VEVENT
BEGIN:VEVENT
DTSTART;TZID=America/New_York:20230706T110000
DTEND;TZID=America/New_York:20230706T110000
DTSTAMP:20260425T083534
CREATED:20230630T181730Z
LAST-MODIFIED:20230630T181730Z
UID:11093-1688641200-1688641200@towerlane.org
SUMMARY:Mindfulness and Movement
DESCRIPTION:
URL:https://towerlane.org/event/mindfulness-and-movement-11/
LOCATION:Tower East Meeting Room
END:VEVENT
BEGIN:VEVENT
DTSTART;TZID=America/New_York:20230706T130000
DTEND;TZID=America/New_York:20230706T130000
DTSTAMP:20260425T083534
CREATED:20230630T181822Z
LAST-MODIFIED:20230630T181822Z
UID:11095-1688648400-1688648400@towerlane.org
SUMMARY:Catholic Mass
DESCRIPTION:
URL:https://towerlane.org/event/catholic-mass-21/
LOCATION:Tower East Meeting Room
END:VEVENT
BEGIN:VEVENT
DTSTART;TZID=America/New_York:20230706T130000
DTEND;TZID=America/New_York:20230706T130000
DTSTAMP:20260425T083534
CREATED:20230630T181955Z
LAST-MODIFIED:20230630T181955Z
UID:11097-1688648400-1688648400@towerlane.org
SUMMARY:Torah Study with Ruthie
DESCRIPTION:
URL:https://towerlane.org/event/torah-study-with-ruthie-6/2023-07-06/
LOCATION:Tower One 19th Floor
END:VEVENT
BEGIN:VEVENT
DTSTART;TZID=America/New_York:20230706T140000
DTEND;TZID=America/New_York:20230706T140000
DTSTAMP:20260425T083534
CREATED:20230630T182047Z
LAST-MODIFIED:20230630T182047Z
UID:11102-1688652000-1688652000@towerlane.org
SUMMARY:Quinnipiac University Students
DESCRIPTION:
URL:https://towerlane.org/event/quinnipiac-university-students-2/
LOCATION:Tower East Meeting Room
END:VEVENT
BEGIN:VEVENT
DTSTART;TZID=America/New_York:20230707T100000
DTEND;TZID=America/New_York:20230707T100000
DTSTAMP:20260425T083534
CREATED:20230630T182150Z
LAST-MODIFIED:20230630T182150Z
UID:11104-1688724000-1688724000@towerlane.org
SUMMARY:Bible Study
DESCRIPTION:
URL:https://towerlane.org/event/bible-study-36/
LOCATION:Tower East Meeting Room
END:VEVENT
BEGIN:VEVENT
DTSTART;TZID=America/New_York:20230707T110000
DTEND;TZID=America/New_York:20230707T110000
DTSTAMP:20260425T083534
CREATED:20230630T182313Z
LAST-MODIFIED:20230630T182313Z
UID:11106-1688727600-1688727600@towerlane.org
SUMMARY:Knitting Group
DESCRIPTION:
URL:https://towerlane.org/event/knitting-group-32/2023-07-07/
LOCATION:Tower One 19th Floor
END:VEVENT
BEGIN:VEVENT
DTSTART;TZID=America/New_York:20230707T110000
DTEND;TZID=America/New_York:20230707T110000
DTSTAMP:20260425T083534
CREATED:20230630T182528Z
LAST-MODIFIED:20230630T182528Z
UID:11111-1688727600-1688727600@towerlane.org
SUMMARY:Quinnipiac University Students
DESCRIPTION:
URL:https://towerlane.org/event/quinnipiac-university-students-3/2023-07-07/
LOCATION:Tower East Meeting Room
END:VEVENT
BEGIN:VEVENT
DTSTART;TZID=America/New_York:20230707T133000
DTEND;TZID=America/New_York:20230707T133000
DTSTAMP:20260425T083534
CREATED:20230630T182722Z
LAST-MODIFIED:20230630T182722Z
UID:11116-1688736600-1688736600@towerlane.org
SUMMARY:Morse Music Academy Students Perform
DESCRIPTION:
URL:https://towerlane.org/event/morse-music-academy-students-perform/
LOCATION:Courtyard
END:VEVENT
BEGIN:VEVENT
DTSTART;TZID=America/New_York:20230707T141500
DTEND;TZID=America/New_York:20230707T141500
DTSTAMP:20260425T083534
CREATED:20230630T182906Z
LAST-MODIFIED:20230630T182906Z
UID:11118-1688739300-1688739300@towerlane.org
SUMMARY:Current Events
DESCRIPTION:
URL:https://towerlane.org/event/current-events-13/2023-07-07/
LOCATION:Tower East Meeting Room
END:VEVENT
BEGIN:VEVENT
DTSTART;TZID=America/New_York:20230707T184500
DTEND;TZID=America/New_York:20230707T184500
DTSTAMP:20260425T083534
CREATED:20230630T183032Z
LAST-MODIFIED:20230630T183032Z
UID:11123-1688755500-1688755500@towerlane.org
SUMMARY:Shabbat
DESCRIPTION:
URL:https://towerlane.org/event/shabbat-22/2023-07-07/
LOCATION:Tower East Meeting Room
END:VEVENT
BEGIN:VEVENT
DTSTART;TZID=America/New_York:20230709T110000
DTEND;TZID=America/New_York:20230709T110000
DTSTAMP:20260425T083534
CREATED:20230630T183215Z
LAST-MODIFIED:20230630T183215Z
UID:11128-1688900400-1688900400@towerlane.org
SUMMARY:Chair Yoga
DESCRIPTION:
URL:https://towerlane.org/event/chair-yoga-14/
LOCATION:Tower East Meeting Room
END:VEVENT
BEGIN:VEVENT
DTSTART;TZID=America/New_York:20230710T130000
DTEND;TZID=America/New_York:20230710T130000
DTSTAMP:20260425T083534
CREATED:20230630T183334Z
LAST-MODIFIED:20230630T183334Z
UID:11130-1688994000-1688994000@towerlane.org
SUMMARY:Tai Chi
DESCRIPTION:
URL:https://towerlane.org/event/tai-chi/2023-07-10/
LOCATION:Tower East Meeting Room
END:VEVENT
END:VCALENDAR