BEGIN:VCALENDAR
VERSION:2.0
PRODID:-//The Towers - ECPv6.10.3//NONSGML v1.0//EN
CALSCALE:GREGORIAN
METHOD:PUBLISH
X-WR-CALNAME:The Towers
X-ORIGINAL-URL:https://towerlane.org
X-WR-CALDESC:Events for The Towers
REFRESH-INTERVAL;VALUE=DURATION:PT1H
X-Robots-Tag:noindex
X-PUBLISHED-TTL:PT1H
BEGIN:VTIMEZONE
TZID:America/New_York
BEGIN:DAYLIGHT
TZOFFSETFROM:-0500
TZOFFSETTO:-0400
TZNAME:EDT
DTSTART:20230312T070000
END:DAYLIGHT
BEGIN:STANDARD
TZOFFSETFROM:-0400
TZOFFSETTO:-0500
TZNAME:EST
DTSTART:20231105T060000
END:STANDARD
END:VTIMEZONE
BEGIN:VEVENT
DTSTART;TZID=America/New_York:20231101T104500
DTEND;TZID=America/New_York:20231101T104500
DTSTAMP:20260424T231803
CREATED:20231031T215915Z
LAST-MODIFIED:20231031T215915Z
UID:12080-1698835500-1698835500@towerlane.org
SUMMARY:Chorus Rehearsal
DESCRIPTION:
URL:https://towerlane.org/event/chorus-rehearsal-8/2023-11-01/
LOCATION:Tower East Meeting Room
END:VEVENT
BEGIN:VEVENT
DTSTART;TZID=America/New_York:20231101T130000
DTEND;TZID=America/New_York:20231101T130000
DTSTAMP:20260424T231803
CREATED:20231031T220022Z
LAST-MODIFIED:20231031T220022Z
UID:12086-1698843600-1698843600@towerlane.org
SUMMARY:Healthy & Fit
DESCRIPTION:
URL:https://towerlane.org/event/healthy-fit-31/2023-11-01/
LOCATION:Tower East Meeting Room
END:VEVENT
BEGIN:VEVENT
DTSTART;TZID=America/New_York:20231101T140000
DTEND;TZID=America/New_York:20231101T140000
DTSTAMP:20260424T231803
CREATED:20231031T220211Z
LAST-MODIFIED:20231031T220211Z
UID:12092-1698847200-1698847200@towerlane.org
SUMMARY:JFS Support Group
DESCRIPTION:
URL:https://towerlane.org/event/jfs-support-group-25/2023-11-01/
LOCATION:Tower One 19th Floor
END:VEVENT
BEGIN:VEVENT
DTSTART;TZID=America/New_York:20231101T140000
DTEND;TZID=America/New_York:20231101T140000
DTSTAMP:20260424T231803
CREATED:20231031T220257Z
LAST-MODIFIED:20231031T220257Z
UID:12098-1698847200-1698847200@towerlane.org
SUMMARY:New Haven History Talk with Ted Eastwood
DESCRIPTION:
URL:https://towerlane.org/event/new-haven-history-talk-with-ted-eastwood/
LOCATION:Tower East Meeting Room
END:VEVENT
BEGIN:VEVENT
DTSTART;TZID=America/New_York:20231101T184500
DTEND;TZID=America/New_York:20231101T184500
DTSTAMP:20260424T231803
CREATED:20231031T220347Z
LAST-MODIFIED:20231031T220347Z
UID:12100-1698864300-1698864300@towerlane.org
SUMMARY:Sing Along with Richard Gans
DESCRIPTION:
URL:https://towerlane.org/event/sing-along-with-richard-gans-3/
LOCATION:Tower East Meeting Room
END:VEVENT
BEGIN:VEVENT
DTSTART;TZID=America/New_York:20231102T110000
DTEND;TZID=America/New_York:20231102T110000
DTSTAMP:20260424T231803
CREATED:20231031T222419Z
LAST-MODIFIED:20231031T222419Z
UID:12102-1698922800-1698922800@towerlane.org
SUMMARY:Catholic Mass
DESCRIPTION:
URL:https://towerlane.org/event/catholic-mass-30/
LOCATION:Tower East Meeting Room
END:VEVENT
BEGIN:VEVENT
DTSTART;TZID=America/New_York:20231102T130000
DTEND;TZID=America/New_York:20231102T130000
DTSTAMP:20260424T231803
CREATED:20231031T222826Z
LAST-MODIFIED:20231031T222826Z
UID:12104-1698930000-1698930000@towerlane.org
SUMMARY:Healthy & Fit
DESCRIPTION:
URL:https://towerlane.org/event/healthy-fit-32/
LOCATION:Tower East Meeting Room
END:VEVENT
BEGIN:VEVENT
DTSTART;TZID=America/New_York:20231102T140000
DTEND;TZID=America/New_York:20231102T140000
DTSTAMP:20260424T231803
CREATED:20231031T223114Z
LAST-MODIFIED:20231031T223114Z
UID:12106-1698933600-1698933600@towerlane.org
SUMMARY:Torah Study with Ruthie
DESCRIPTION:
URL:https://towerlane.org/event/torah-study-with-ruthie-7/
LOCATION:Tower One 19th Floor
END:VEVENT
BEGIN:VEVENT
DTSTART;TZID=America/New_York:20231102T184500
DTEND;TZID=America/New_York:20231102T184500
DTSTAMP:20260424T231803
CREATED:20231031T223155Z
LAST-MODIFIED:20231031T223155Z
UID:12108-1698950700-1698950700@towerlane.org
SUMMARY:Welcome Mayoral Candidate Tom Goldenberg
DESCRIPTION:
URL:https://towerlane.org/event/welcome-mayoral-candidate-tom-goldenberg/
LOCATION:Tower East Meeting Room
END:VEVENT
BEGIN:VEVENT
DTSTART;TZID=America/New_York:20231103T110000
DTEND;TZID=America/New_York:20231103T110000
DTSTAMP:20260424T231803
CREATED:20231031T223308Z
LAST-MODIFIED:20231031T223308Z
UID:12110-1699009200-1699009200@towerlane.org
SUMMARY:All About You with Guest Jill Martin
DESCRIPTION:
URL:https://towerlane.org/event/all-about-you-with-guest-jill-martin/
LOCATION:Tower One 19th Floor
END:VEVENT
BEGIN:VEVENT
DTSTART;TZID=America/New_York:20231103T110000
DTEND;TZID=America/New_York:20231103T110000
DTSTAMP:20260424T231803
CREATED:20231031T223433Z
LAST-MODIFIED:20231031T223433Z
UID:12112-1699009200-1699009200@towerlane.org
SUMMARY:Knitting Group
DESCRIPTION:
URL:https://towerlane.org/event/knitting-group-36/
LOCATION:Tower One 20th Floor
END:VEVENT
BEGIN:VEVENT
DTSTART;TZID=America/New_York:20231103T130000
DTEND;TZID=America/New_York:20231103T130000
DTSTAMP:20260424T231803
CREATED:20231031T223624Z
LAST-MODIFIED:20231031T223624Z
UID:12114-1699016400-1699016400@towerlane.org
SUMMARY:Tai Chi
DESCRIPTION:
URL:https://towerlane.org/event/tai-chi-9/2023-11-03/
LOCATION:Tower East Meeting Room
END:VEVENT
BEGIN:VEVENT
DTSTART;TZID=America/New_York:20231103T140000
DTEND;TZID=America/New_York:20231103T140000
DTSTAMP:20260424T231803
CREATED:20231031T223728Z
LAST-MODIFIED:20231031T223728Z
UID:12118-1699020000-1699020000@towerlane.org
SUMMARY:Current Events
DESCRIPTION:
URL:https://towerlane.org/event/current-events-17/2023-11-03/
LOCATION:Tower East Meeting Room
END:VEVENT
BEGIN:VEVENT
DTSTART;TZID=America/New_York:20231103T184500
DTEND;TZID=America/New_York:20231103T184500
DTSTAMP:20260424T231803
CREATED:20231031T223833Z
LAST-MODIFIED:20231031T223833Z
UID:12123-1699037100-1699037100@towerlane.org
SUMMARY:Shabbat
DESCRIPTION:
URL:https://towerlane.org/event/shabbat-31/2023-11-03/
LOCATION:Tower East Meeting Room
END:VEVENT
BEGIN:VEVENT
DTSTART;TZID=America/New_York:20231104T100000
DTEND;TZID=America/New_York:20231104T100000
DTSTAMP:20260424T231803
CREATED:20231031T224001Z
LAST-MODIFIED:20231031T224001Z
UID:12128-1699092000-1699092000@towerlane.org
SUMMARY:Shabbat
DESCRIPTION:
URL:https://towerlane.org/event/shabbat-32/2023-11-04/
LOCATION:Tower East Meeting Room
END:VEVENT
BEGIN:VEVENT
DTSTART;TZID=America/New_York:20231104T140000
DTEND;TZID=America/New_York:20231104T140000
DTSTAMP:20260424T231803
CREATED:20231031T224114Z
LAST-MODIFIED:20231031T224114Z
UID:12133-1699106400-1699106400@towerlane.org
SUMMARY:Bingo
DESCRIPTION:
URL:https://towerlane.org/event/bingo-78/2023-11-04/
LOCATION:Tower East Meeting Room
END:VEVENT
BEGIN:VEVENT
DTSTART;TZID=America/New_York:20231104T190000
DTEND;TZID=America/New_York:20231104T190000
DTSTAMP:20260424T231803
CREATED:20231031T224220Z
LAST-MODIFIED:20231031T224220Z
UID:12138-1699124400-1699124400@towerlane.org
SUMMARY:Movie Night
DESCRIPTION:
URL:https://towerlane.org/event/movie-night-32/2023-11-04/
LOCATION:Tower East Meeting Room
END:VEVENT
BEGIN:VEVENT
DTSTART;TZID=America/New_York:20231105T110000
DTEND;TZID=America/New_York:20231105T110000
DTSTAMP:20260424T231803
CREATED:20231031T224412Z
LAST-MODIFIED:20231031T224412Z
UID:12143-1699182000-1699182000@towerlane.org
SUMMARY:Chair Yoga
DESCRIPTION:
URL:https://towerlane.org/event/chair-yoga-20/2023-11-05/
LOCATION:Tower East Meeting Room
END:VEVENT
BEGIN:VEVENT
DTSTART;TZID=America/New_York:20231105T130000
DTEND;TZID=America/New_York:20231105T130000
DTSTAMP:20260424T231803
CREATED:20231031T224528Z
LAST-MODIFIED:20231031T224528Z
UID:12148-1699189200-1699189200@towerlane.org
SUMMARY:Classic TV
DESCRIPTION:
URL:https://towerlane.org/event/classic-tv/2023-11-05/
LOCATION:Tower East Meeting Room
END:VEVENT
BEGIN:VEVENT
DTSTART;TZID=America/New_York:20231106T100000
DTEND;TZID=America/New_York:20231106T100000
DTSTAMP:20260424T231803
CREATED:20231101T193148Z
LAST-MODIFIED:20231101T193148Z
UID:12153-1699264800-1699264800@towerlane.org
SUMMARY:Coffee Klatch
DESCRIPTION:
URL:https://towerlane.org/event/coffee-klatch-17/2023-11-06/
LOCATION:Tower East Meeting Room
END:VEVENT
BEGIN:VEVENT
DTSTART;TZID=America/New_York:20231106T110000
DTEND;TZID=America/New_York:20231106T110000
DTSTAMP:20260424T231803
CREATED:20231101T193320Z
LAST-MODIFIED:20231101T193320Z
UID:12158-1699268400-1699268400@towerlane.org
SUMMARY:Creative Art
DESCRIPTION:
URL:https://towerlane.org/event/creative-art-15/2023-11-06/
LOCATION:Tower One 20th Floor
END:VEVENT
BEGIN:VEVENT
DTSTART;TZID=America/New_York:20231106T130000
DTEND;TZID=America/New_York:20231106T130000
DTSTAMP:20260424T231803
CREATED:20231101T193411Z
LAST-MODIFIED:20231101T193411Z
UID:12163-1699275600-1699275600@towerlane.org
SUMMARY:Tai Chi
DESCRIPTION:
URL:https://towerlane.org/event/tai-chi-10/2023-11-06/
LOCATION:Tower East Meeting Room
END:VEVENT
BEGIN:VEVENT
DTSTART;TZID=America/New_York:20231106T140000
DTEND;TZID=America/New_York:20231106T140000
DTSTAMP:20260424T231803
CREATED:20231101T193540Z
LAST-MODIFIED:20231101T193540Z
UID:12168-1699279200-1699279200@towerlane.org
SUMMARY:Sports Trivia
DESCRIPTION:
URL:https://towerlane.org/event/sports-trivia/2023-11-06/
LOCATION:Tower One 20th Floor
END:VEVENT
BEGIN:VEVENT
DTSTART;TZID=America/New_York:20231106T141500
DTEND;TZID=America/New_York:20231106T141500
DTSTAMP:20260424T231803
CREATED:20231101T193726Z
LAST-MODIFIED:20231101T193726Z
UID:12171-1699280100-1699280100@towerlane.org
SUMMARY:Bingo
DESCRIPTION:
URL:https://towerlane.org/event/bingo-79/2023-11-06/
LOCATION:Tower East Meeting Room
END:VEVENT
BEGIN:VEVENT
DTSTART;TZID=America/New_York:20231106T184500
DTEND;TZID=America/New_York:20231106T184500
DTSTAMP:20260424T231803
CREATED:20231101T193924Z
LAST-MODIFIED:20231101T193924Z
UID:12175-1699296300-1699296300@towerlane.org
SUMMARY:The Nourish Project
DESCRIPTION:
URL:https://towerlane.org/event/the-nourish-project/2023-11-06/
LOCATION:Tower East Meeting Room
END:VEVENT
BEGIN:VEVENT
DTSTART;TZID=America/New_York:20231107T104500
DTEND;TZID=America/New_York:20231107T104500
DTSTAMP:20260424T231803
CREATED:20231101T194153Z
LAST-MODIFIED:20231101T194153Z
UID:12179-1699353900-1699353900@towerlane.org
SUMMARY:Create a Word
DESCRIPTION:
URL:https://towerlane.org/event/create-a-word-20/2023-11-07/
LOCATION:Tower One 20th Floor
END:VEVENT
BEGIN:VEVENT
DTSTART;TZID=America/New_York:20231107T113000
DTEND;TZID=America/New_York:20231107T113000
DTSTAMP:20260424T231803
CREATED:20231101T194351Z
LAST-MODIFIED:20231101T194351Z
UID:12183-1699356600-1699356600@towerlane.org
SUMMARY:30 Minute Balance
DESCRIPTION:
URL:https://towerlane.org/event/30-minute-balance-6/2023-11-07/
LOCATION:Tower East Meeting Room
END:VEVENT
BEGIN:VEVENT
DTSTART;TZID=America/New_York:20231107T130000
DTEND;TZID=America/New_York:20231107T130000
DTSTAMP:20260424T231803
CREATED:20231101T194510Z
LAST-MODIFIED:20231101T194510Z
UID:12187-1699362000-1699362000@towerlane.org
SUMMARY:Interactive Music
DESCRIPTION:
URL:https://towerlane.org/event/interactive-music-15/2023-11-07/
LOCATION:Tower East Meeting Room
END:VEVENT
BEGIN:VEVENT
DTSTART;TZID=America/New_York:20231107T140000
DTEND;TZID=America/New_York:20231107T140000
DTSTAMP:20260424T231803
CREATED:20231101T194643Z
LAST-MODIFIED:20231101T194643Z
UID:12191-1699365600-1699365600@towerlane.org
SUMMARY:Yiddish
DESCRIPTION:
URL:https://towerlane.org/event/yiddish-18/2023-11-07/
LOCATION:Tower East Meeting Room
END:VEVENT
BEGIN:VEVENT
DTSTART;TZID=America/New_York:20231107T184500
DTEND;TZID=America/New_York:20231107T184500
DTSTAMP:20260424T231803
CREATED:20231101T194736Z
LAST-MODIFIED:20231101T194736Z
UID:12195-1699382700-1699382700@towerlane.org
SUMMARY:Game Night with Charles Rosenay
DESCRIPTION:
URL:https://towerlane.org/event/game-night-with-charles-rosenay-6/
LOCATION:Tower East Meeting Room
END:VEVENT
END:VCALENDAR