BEGIN:VCALENDAR
VERSION:2.0
PRODID:-//The Towers - ECPv6.10.3//NONSGML v1.0//EN
CALSCALE:GREGORIAN
METHOD:PUBLISH
X-ORIGINAL-URL:https://towerlane.org
X-WR-CALDESC:Events for The Towers
REFRESH-INTERVAL;VALUE=DURATION:PT1H
X-Robots-Tag:noindex
X-PUBLISHED-TTL:PT1H
BEGIN:VTIMEZONE
TZID:America/New_York
BEGIN:DAYLIGHT
TZOFFSETFROM:-0500
TZOFFSETTO:-0400
TZNAME:EDT
DTSTART:20240310T070000
END:DAYLIGHT
BEGIN:STANDARD
TZOFFSETFROM:-0400
TZOFFSETTO:-0500
TZNAME:EST
DTSTART:20241103T060000
END:STANDARD
END:VTIMEZONE
BEGIN:VEVENT
DTSTART;TZID=America/New_York:20240501T140000
DTEND;TZID=America/New_York:20240501T140000
DTSTAMP:20260424T133745
CREATED:20240507T133147Z
LAST-MODIFIED:20240507T133147Z
UID:13434-1714572000-1714572000@towerlane.org
SUMMARY:JFS Support Group
DESCRIPTION:
URL:https://towerlane.org/event/jfs-support-group-31/
LOCATION:Tower One 19th Floor
END:VEVENT
BEGIN:VEVENT
DTSTART;TZID=America/New_York:20240502T130000
DTEND;TZID=America/New_York:20240502T130000
DTSTAMP:20260424T133745
CREATED:20240507T133257Z
LAST-MODIFIED:20240507T133257Z
UID:13439-1714654800-1714654800@towerlane.org
SUMMARY:Garden Club Meeting
DESCRIPTION:
URL:https://towerlane.org/event/garden-club-meeting/
LOCATION:Courtyard
END:VEVENT
BEGIN:VEVENT
DTSTART;TZID=America/New_York:20240503T110000
DTEND;TZID=America/New_York:20240503T110000
DTSTAMP:20260424T133745
CREATED:20240507T133409Z
LAST-MODIFIED:20240507T133409Z
UID:13441-1714734000-1714734000@towerlane.org
SUMMARY:Knitting Group
DESCRIPTION:
URL:https://towerlane.org/event/knitting-group-49/
LOCATION:Tower One 19th Floor
END:VEVENT
BEGIN:VEVENT
DTSTART;TZID=America/New_York:20240503T110000
DTEND;TZID=America/New_York:20240503T110000
DTSTAMP:20260424T133745
CREATED:20240507T133458Z
LAST-MODIFIED:20240507T133458Z
UID:13443-1714734000-1714734000@towerlane.org
SUMMARY:Walker/Manual Device Cleaning with Hopkins Students
DESCRIPTION:
URL:https://towerlane.org/event/walker-manual-device-cleaning-with-hopkins-students/
LOCATION:Courtyard
END:VEVENT
BEGIN:VEVENT
DTSTART;TZID=America/New_York:20240503T130000
DTEND;TZID=America/New_York:20240503T130000
DTSTAMP:20260424T133745
CREATED:20240507T133652Z
LAST-MODIFIED:20240507T133652Z
UID:13445-1714741200-1714741200@towerlane.org
SUMMARY:Tai Chi
DESCRIPTION:
URL:https://towerlane.org/event/tai-chi-20/
LOCATION:Courtyard
END:VEVENT
BEGIN:VEVENT
DTSTART;TZID=America/New_York:20240503T140000
DTEND;TZID=America/New_York:20240503T140000
DTSTAMP:20260424T133745
CREATED:20240507T133802Z
LAST-MODIFIED:20240507T133802Z
UID:13450-1714744800-1714744800@towerlane.org
SUMMARY:Current Events
DESCRIPTION:
URL:https://towerlane.org/event/current-events-23/
LOCATION:East Lounge
END:VEVENT
BEGIN:VEVENT
DTSTART;TZID=America/New_York:20240503T184500
DTEND;TZID=America/New_York:20240503T184500
DTSTAMP:20260424T133745
CREATED:20240507T133916Z
LAST-MODIFIED:20240507T133916Z
UID:13456-1714761900-1714761900@towerlane.org
SUMMARY:Shabbat
DESCRIPTION:
URL:https://towerlane.org/event/shabbat-45/
LOCATION:East Lounge
END:VEVENT
BEGIN:VEVENT
DTSTART;TZID=America/New_York:20240504T100000
DTEND;TZID=America/New_York:20240504T100000
DTSTAMP:20260424T133745
CREATED:20240507T134026Z
LAST-MODIFIED:20240507T134026Z
UID:13462-1714816800-1714816800@towerlane.org
SUMMARY:Shabbat
DESCRIPTION:
URL:https://towerlane.org/event/shabbat-46/
LOCATION:East Lounge
END:VEVENT
BEGIN:VEVENT
DTSTART;TZID=America/New_York:20240504T190000
DTEND;TZID=America/New_York:20240504T190000
DTSTAMP:20260424T133745
CREATED:20240507T134130Z
LAST-MODIFIED:20240507T134130Z
UID:13467-1714849200-1714849200@towerlane.org
SUMMARY:Movie Night
DESCRIPTION:
URL:https://towerlane.org/event/movie-night-39/
LOCATION:East Lounge
END:VEVENT
BEGIN:VEVENT
DTSTART;TZID=America/New_York:20240505T140000
DTEND;TZID=America/New_York:20240505T140000
DTSTAMP:20260424T133745
CREATED:20240507T134217Z
LAST-MODIFIED:20240507T134217Z
UID:13472-1714917600-1714917600@towerlane.org
SUMMARY:Musical Performance with Hopkins Students
DESCRIPTION:
URL:https://towerlane.org/event/musical-performance-with-hopkins-students/
LOCATION:Courtyard
END:VEVENT
BEGIN:VEVENT
DTSTART;TZID=America/New_York:20240506T100000
DTEND;TZID=America/New_York:20240506T100000
DTSTAMP:20260424T133745
CREATED:20240507T134408Z
LAST-MODIFIED:20240507T134408Z
UID:13474-1714989600-1714989600@towerlane.org
SUMMARY:Coffee Klatch
DESCRIPTION:
URL:https://towerlane.org/event/coffee-klatch-21/
LOCATION:Courtyard or East Lounge
END:VEVENT
BEGIN:VEVENT
DTSTART;TZID=America/New_York:20240506T111500
DTEND;TZID=America/New_York:20240506T111500
DTSTAMP:20260424T133745
CREATED:20240507T134645Z
LAST-MODIFIED:20240507T134645Z
UID:13478-1714994100-1714994100@towerlane.org
SUMMARY:Creative Art
DESCRIPTION:
URL:https://towerlane.org/event/creative-art-21/
LOCATION:Tower One 20th Floor
END:VEVENT
BEGIN:VEVENT
DTSTART;TZID=America/New_York:20240506T130000
DTEND;TZID=America/New_York:20240506T130000
DTSTAMP:20260424T133745
CREATED:20240507T134750Z
LAST-MODIFIED:20240507T134750Z
UID:13482-1715000400-1715000400@towerlane.org
SUMMARY:Healthy & Fit
DESCRIPTION:
URL:https://towerlane.org/event/healthy-fit-42/
LOCATION:Courtyard
END:VEVENT
BEGIN:VEVENT
DTSTART;TZID=America/New_York:20240507T100000
DTEND;TZID=America/New_York:20240507T100000
DTSTAMP:20260424T133745
CREATED:20240506T203018Z
LAST-MODIFIED:20240506T203018Z
UID:13407-1715076000-1715076000@towerlane.org
SUMMARY:Sewing Project
DESCRIPTION:
URL:https://towerlane.org/event/sewing-project-13/
LOCATION:Tower One 20th Floor
END:VEVENT
BEGIN:VEVENT
DTSTART;TZID=America/New_York:20240507T104500
DTEND;TZID=America/New_York:20240507T104500
DTSTAMP:20260424T133745
CREATED:20240506T203203Z
LAST-MODIFIED:20240506T203203Z
UID:13409-1715078700-1715078700@towerlane.org
SUMMARY:Create a Word
DESCRIPTION:
URL:https://towerlane.org/event/create-a-word-26/
LOCATION:Tower One 19th Floor
END:VEVENT
BEGIN:VEVENT
DTSTART;TZID=America/New_York:20240507T113000
DTEND;TZID=America/New_York:20240507T113000
DTSTAMP:20260424T133745
CREATED:20240506T203357Z
LAST-MODIFIED:20240506T203357Z
UID:13414-1715081400-1715081400@towerlane.org
SUMMARY:30 Minute Balance
DESCRIPTION:
URL:https://towerlane.org/event/30-minute-balance-14/
LOCATION:Courtyard
END:VEVENT
BEGIN:VEVENT
DTSTART;TZID=America/New_York:20240507T130000
DTEND;TZID=America/New_York:20240507T130000
DTSTAMP:20260424T133745
CREATED:20240506T204608Z
LAST-MODIFIED:20240506T204608Z
UID:13422-1715086800-1715086800@towerlane.org
SUMMARY:Interactive Music
DESCRIPTION:
URL:https://towerlane.org/event/interactive-music-21/
LOCATION:Courtyard or East Lounge
END:VEVENT
BEGIN:VEVENT
DTSTART;TZID=America/New_York:20240507T141500
DTEND;TZID=America/New_York:20240507T141500
DTSTAMP:20260424T133745
CREATED:20240506T204841Z
LAST-MODIFIED:20240506T204841Z
UID:13427-1715091300-1715091300@towerlane.org
SUMMARY:Mindfulness & Movement
DESCRIPTION:
URL:https://towerlane.org/event/mindfulness-movement-15/
LOCATION:Courtyard or Tower One 20th Floor
END:VEVENT
BEGIN:VEVENT
DTSTART;TZID=America/New_York:20240508T110000
DTEND;TZID=America/New_York:20240508T130000
DTSTAMP:20260424T133745
CREATED:20240506T205007Z
LAST-MODIFIED:20240506T205007Z
UID:13430-1715166000-1715173200@towerlane.org
SUMMARY:Kristy Manning from Wilson Library
DESCRIPTION:
URL:https://towerlane.org/event/kristy-manning-from-wilson-library-4/
LOCATION:East Lounge
END:VEVENT
BEGIN:VEVENT
DTSTART;TZID=America/New_York:20240508T130000
DTEND;TZID=America/New_York:20240508T130000
DTSTAMP:20260424T133745
CREATED:20240507T134925Z
LAST-MODIFIED:20240507T134925Z
UID:13484-1715173200-1715173200@towerlane.org
SUMMARY:Healthy & Fit
DESCRIPTION:
URL:https://towerlane.org/event/healthy-fit-43/
LOCATION:Courtyard
END:VEVENT
BEGIN:VEVENT
DTSTART;TZID=America/New_York:20240509T110000
DTEND;TZID=America/New_York:20240509T110000
DTSTAMP:20260424T133745
CREATED:20240506T205059Z
LAST-MODIFIED:20240506T205059Z
UID:13432-1715252400-1715252400@towerlane.org
SUMMARY:St. Thomas School Students Choir
DESCRIPTION:
URL:https://towerlane.org/event/st-thomas-school-students-choir/
LOCATION:Courtyard or East Lounge
END:VEVENT
BEGIN:VEVENT
DTSTART;TZID=America/New_York:20240509T130000
DTEND;TZID=America/New_York:20240509T130000
DTSTAMP:20260424T133745
CREATED:20240507T135125Z
LAST-MODIFIED:20240507T135125Z
UID:13491-1715259600-1715259600@towerlane.org
SUMMARY:Catholic Mass
DESCRIPTION:
URL:https://towerlane.org/event/catholic-mass-43/
LOCATION:Courtyard or Tower One 19th Floor
END:VEVENT
BEGIN:VEVENT
DTSTART;TZID=America/New_York:20240509T140000
DTEND;TZID=America/New_York:20240509T140000
DTSTAMP:20260424T133745
CREATED:20240507T135210Z
LAST-MODIFIED:20240507T135210Z
UID:13493-1715263200-1715263200@towerlane.org
SUMMARY:JFS Support Group
DESCRIPTION:
URL:https://towerlane.org/event/jfs-support-group-32/
LOCATION:Tower One 19th Floor
END:VEVENT
BEGIN:VEVENT
DTSTART;TZID=America/New_York:20240510T110000
DTEND;TZID=America/New_York:20240510T110000
DTSTAMP:20260424T133745
CREATED:20240507T135310Z
LAST-MODIFIED:20240507T135310Z
UID:13495-1715338800-1715338800@towerlane.org
SUMMARY:All About You
DESCRIPTION:
URL:https://towerlane.org/event/all-about-you-26/
LOCATION:Tower One 19th Floor
END:VEVENT
BEGIN:VEVENT
DTSTART;TZID=America/New_York:20240510T110000
DTEND;TZID=America/New_York:20240510T110000
DTSTAMP:20260424T133745
CREATED:20240507T135451Z
LAST-MODIFIED:20240507T135451Z
UID:13497-1715338800-1715338800@towerlane.org
SUMMARY:Knitting Group
DESCRIPTION:
URL:https://towerlane.org/event/knitting-group-50/
LOCATION:Tower One 20th Floor
END:VEVENT
BEGIN:VEVENT
DTSTART;TZID=America/New_York:20240510T130000
DTEND;TZID=America/New_York:20240510T130000
DTSTAMP:20260424T133745
CREATED:20240507T135554Z
LAST-MODIFIED:20240507T135554Z
UID:13502-1715346000-1715346000@towerlane.org
SUMMARY:Healthy & Fit
DESCRIPTION:
URL:https://towerlane.org/event/healthy-fit-44/
LOCATION:Courtyard
END:VEVENT
BEGIN:VEVENT
DTSTART;TZID=America/New_York:20240510T140000
DTEND;TZID=America/New_York:20240510T140000
DTSTAMP:20260424T133745
CREATED:20240507T133802Z
LAST-MODIFIED:20240507T133802Z
UID:13451-1715349600-1715349600@towerlane.org
SUMMARY:Current Events
DESCRIPTION:
URL:https://towerlane.org/event/current-events-23/2024-05-10/
LOCATION:East Lounge
END:VEVENT
BEGIN:VEVENT
DTSTART;TZID=America/New_York:20240510T184500
DTEND;TZID=America/New_York:20240510T184500
DTSTAMP:20260424T133745
CREATED:20240507T133916Z
LAST-MODIFIED:20240507T133916Z
UID:13457-1715366700-1715366700@towerlane.org
SUMMARY:Shabbat
DESCRIPTION:
URL:https://towerlane.org/event/shabbat-45/2024-05-10/
LOCATION:East Lounge
END:VEVENT
BEGIN:VEVENT
DTSTART;TZID=America/New_York:20240511T100000
DTEND;TZID=America/New_York:20240511T100000
DTSTAMP:20260424T133745
CREATED:20240507T134026Z
LAST-MODIFIED:20240507T134026Z
UID:13463-1715421600-1715421600@towerlane.org
SUMMARY:Shabbat
DESCRIPTION:
URL:https://towerlane.org/event/shabbat-46/2024-05-11/
LOCATION:East Lounge
END:VEVENT
BEGIN:VEVENT
DTSTART;TZID=America/New_York:20240511T153000
DTEND;TZID=America/New_York:20240511T153000
DTSTAMP:20260424T133745
CREATED:20240507T135651Z
LAST-MODIFIED:20240507T135651Z
UID:13504-1715441400-1715441400@towerlane.org
SUMMARY:Christian Worship Service
DESCRIPTION:
URL:https://towerlane.org/event/christian-worship-service-29/
LOCATION:Courtyard or Tower One 20th Floor
END:VEVENT
END:VCALENDAR