BEGIN:VCALENDAR
VERSION:2.0
PRODID:-//The Towers - ECPv6.10.3//NONSGML v1.0//EN
CALSCALE:GREGORIAN
METHOD:PUBLISH
X-ORIGINAL-URL:https://towerlane.org
X-WR-CALDESC:Events for The Towers
REFRESH-INTERVAL;VALUE=DURATION:PT1H
X-Robots-Tag:noindex
X-PUBLISHED-TTL:PT1H
BEGIN:VTIMEZONE
TZID:America/New_York
BEGIN:DAYLIGHT
TZOFFSETFROM:-0500
TZOFFSETTO:-0400
TZNAME:EDT
DTSTART:20250309T070000
END:DAYLIGHT
BEGIN:STANDARD
TZOFFSETFROM:-0400
TZOFFSETTO:-0500
TZNAME:EST
DTSTART:20251102T060000
END:STANDARD
END:VTIMEZONE
BEGIN:VEVENT
DTSTART;VALUE=DATE:20250201
DTEND;VALUE=DATE:20250202
DTSTAMP:20260422T045701
CREATED:20250204T172102Z
LAST-MODIFIED:20250204T172102Z
UID:15297-1738368000-1738454399@towerlane.org
SUMMARY:Black History Month
DESCRIPTION:
URL:https://towerlane.org/event/black-history-month/
END:VEVENT
BEGIN:VEVENT
DTSTART;TZID=America/New_York:20250207T100000
DTEND;TZID=America/New_York:20250207T100000
DTSTAMP:20260422T045701
CREATED:20250204T171621Z
LAST-MODIFIED:20250204T171621Z
UID:15272-1738922400-1738922400@towerlane.org
SUMMARY:Interfaith Bible Study
DESCRIPTION:
URL:https://towerlane.org/event/interfaith-bible-study/
LOCATION:Dining Room
END:VEVENT
BEGIN:VEVENT
DTSTART;TZID=America/New_York:20250207T110000
DTEND;TZID=America/New_York:20250207T110000
DTSTAMP:20260422T045701
CREATED:20250204T171723Z
LAST-MODIFIED:20250204T171723Z
UID:15277-1738926000-1738926000@towerlane.org
SUMMARY:Knitting Group
DESCRIPTION:
URL:https://towerlane.org/event/knitting-group-67/
LOCATION:Solarium
END:VEVENT
BEGIN:VEVENT
DTSTART;TZID=America/New_York:20250207T130000
DTEND;TZID=America/New_York:20250207T130000
DTSTAMP:20260422T045701
CREATED:20250204T171828Z
LAST-MODIFIED:20250204T171828Z
UID:15282-1738933200-1738933200@towerlane.org
SUMMARY:Tai Chi
DESCRIPTION:
URL:https://towerlane.org/event/tai-chi-29/
LOCATION:Dining Room
END:VEVENT
BEGIN:VEVENT
DTSTART;TZID=America/New_York:20250207T140000
DTEND;TZID=America/New_York:20250207T140000
DTSTAMP:20260422T045701
CREATED:20250204T171927Z
LAST-MODIFIED:20250204T171927Z
UID:15287-1738936800-1738936800@towerlane.org
SUMMARY:Current Events
DESCRIPTION:
URL:https://towerlane.org/event/current-events-29/
LOCATION:Solarium
END:VEVENT
BEGIN:VEVENT
DTSTART;TZID=America/New_York:20250207T183000
DTEND;TZID=America/New_York:20250207T183000
DTSTAMP:20260422T045701
CREATED:20250204T172028Z
LAST-MODIFIED:20250204T172028Z
UID:15292-1738953000-1738953000@towerlane.org
SUMMARY:Shabbat
DESCRIPTION:
URL:https://towerlane.org/event/shabbat-63/
LOCATION:Solarium
END:VEVENT
BEGIN:VEVENT
DTSTART;TZID=America/New_York:20250208T100000
DTEND;TZID=America/New_York:20250208T220000
DTSTAMP:20260422T045701
CREATED:20250204T172348Z
LAST-MODIFIED:20250204T172348Z
UID:15299-1739008800-1739052000@towerlane.org
SUMMARY:Shabbat
DESCRIPTION:
URL:https://towerlane.org/event/shabbat-64/
LOCATION:Solarium
END:VEVENT
BEGIN:VEVENT
DTSTART;TZID=America/New_York:20250208T140000
DTEND;TZID=America/New_York:20250208T140000
DTSTAMP:20260422T045701
CREATED:20250204T172440Z
LAST-MODIFIED:20250204T172440Z
UID:15303-1739023200-1739023200@towerlane.org
SUMMARY:Bingo
DESCRIPTION:
URL:https://towerlane.org/event/bingo-118/
LOCATION:Solarium
END:VEVENT
BEGIN:VEVENT
DTSTART;TZID=America/New_York:20250208T190000
DTEND;TZID=America/New_York:20250208T190000
DTSTAMP:20260422T045701
CREATED:20250204T172533Z
LAST-MODIFIED:20250204T172533Z
UID:15307-1739041200-1739041200@towerlane.org
SUMMARY:Movie Night
DESCRIPTION:
URL:https://towerlane.org/event/movie-night-56/
LOCATION:Conference Room
END:VEVENT
BEGIN:VEVENT
DTSTART;TZID=America/New_York:20250209T113000
DTEND;TZID=America/New_York:20250209T113000
DTSTAMP:20260422T045701
CREATED:20250204T172821Z
LAST-MODIFIED:20250204T172821Z
UID:15311-1739100600-1739100600@towerlane.org
SUMMARY:Zumba for Seniors (Last Session)
DESCRIPTION:
URL:https://towerlane.org/event/zumba-for-seniors-last-session/
LOCATION:Solarium
END:VEVENT
BEGIN:VEVENT
DTSTART;TZID=America/New_York:20250209T140000
DTEND;TZID=America/New_York:20250209T140000
DTSTAMP:20260422T045701
CREATED:20250204T172907Z
LAST-MODIFIED:20250204T172907Z
UID:15313-1739109600-1739109600@towerlane.org
SUMMARY:Music with BEKI Youth Group
DESCRIPTION:
URL:https://towerlane.org/event/music-with-beki-youth-group/
LOCATION:Dining Room
END:VEVENT
BEGIN:VEVENT
DTSTART;TZID=America/New_York:20250209T180000
DTEND;TZID=America/New_York:20250209T180000
DTSTAMP:20260422T045701
CREATED:20250204T173011Z
LAST-MODIFIED:20250204T173011Z
UID:15315-1739124000-1739124000@towerlane.org
SUMMARY:Super Bowl Viewing
DESCRIPTION:
URL:https://towerlane.org/event/super-bowl-viewing/
LOCATION:Conference Room
END:VEVENT
BEGIN:VEVENT
DTSTART;TZID=America/New_York:20250210T100000
DTEND;TZID=America/New_York:20250210T100000
DTSTAMP:20260422T045701
CREATED:20250204T173142Z
LAST-MODIFIED:20250204T173142Z
UID:15317-1739181600-1739181600@towerlane.org
SUMMARY:Coffee Klatch
DESCRIPTION:
URL:https://towerlane.org/event/coffee-klatch-30/
LOCATION:Dining Room
END:VEVENT
BEGIN:VEVENT
DTSTART;TZID=America/New_York:20250210T111500
DTEND;TZID=America/New_York:20250210T111500
DTSTAMP:20260422T045701
CREATED:20250204T173254Z
LAST-MODIFIED:20250204T173254Z
UID:15321-1739186100-1739186100@towerlane.org
SUMMARY:Mindful Art with Amee
DESCRIPTION:
URL:https://towerlane.org/event/mindful-art-with-amee/
LOCATION:Solarium
END:VEVENT
BEGIN:VEVENT
DTSTART;TZID=America/New_York:20250210T130000
DTEND;TZID=America/New_York:20250210T130000
DTSTAMP:20260422T045701
CREATED:20250204T173519Z
LAST-MODIFIED:20250204T173519Z
UID:15325-1739192400-1739192400@towerlane.org
SUMMARY:Chair Yoga
DESCRIPTION:
URL:https://towerlane.org/event/chair-yoga-25/
LOCATION:Dining Room
END:VEVENT
BEGIN:VEVENT
DTSTART;TZID=America/New_York:20250210T140000
DTEND;TZID=America/New_York:20250210T140000
DTSTAMP:20260422T045701
CREATED:20250204T173613Z
LAST-MODIFIED:20250204T173613Z
UID:15329-1739196000-1739196000@towerlane.org
SUMMARY:Discussion with Rabbi Scolnic
DESCRIPTION:
URL:https://towerlane.org/event/discussion-with-rabbi-scolnic-12/
LOCATION:Solarium
END:VEVENT
BEGIN:VEVENT
DTSTART;TZID=America/New_York:20250210T190000
DTEND;TZID=America/New_York:20250210T190000
DTSTAMP:20260422T045701
CREATED:20250204T173700Z
LAST-MODIFIED:20250204T173700Z
UID:15331-1739214000-1739214000@towerlane.org
SUMMARY:Nourish Program
DESCRIPTION:
URL:https://towerlane.org/event/nourish-program-4/
LOCATION:Dining Room
END:VEVENT
BEGIN:VEVENT
DTSTART;TZID=America/New_York:20250211T104500
DTEND;TZID=America/New_York:20250211T104500
DTSTAMP:20260422T045701
CREATED:20250204T173826Z
LAST-MODIFIED:20250204T173826Z
UID:15335-1739270700-1739270700@towerlane.org
SUMMARY:Create a Word
DESCRIPTION:
URL:https://towerlane.org/event/create-a-word-35/
LOCATION:Tower One 19th Floor
END:VEVENT
BEGIN:VEVENT
DTSTART;TZID=America/New_York:20250211T113000
DTEND;TZID=America/New_York:20250211T113000
DTSTAMP:20260422T045701
CREATED:20250204T173936Z
LAST-MODIFIED:20250204T173936Z
UID:15339-1739273400-1739273400@towerlane.org
SUMMARY:30 Minute Exercise
DESCRIPTION:
URL:https://towerlane.org/event/30-minute-exercise-6/
LOCATION:Solarium
END:VEVENT
BEGIN:VEVENT
DTSTART;TZID=America/New_York:20250211T130000
DTEND;TZID=America/New_York:20250211T130000
DTSTAMP:20260422T045701
CREATED:20250204T174035Z
LAST-MODIFIED:20250204T174035Z
UID:15343-1739278800-1739278800@towerlane.org
SUMMARY:Interactive Music
DESCRIPTION:
URL:https://towerlane.org/event/interactive-music-33/
LOCATION:Dining Room
END:VEVENT
BEGIN:VEVENT
DTSTART;TZID=America/New_York:20250211T140000
DTEND;TZID=America/New_York:20250211T140000
DTSTAMP:20260422T045701
CREATED:20250204T174342Z
LAST-MODIFIED:20250204T174342Z
UID:15347-1739282400-1739282400@towerlane.org
SUMMARY:Volunteer Meeting with Sarah: "Flower Arranging for The Towers Dining Room"
DESCRIPTION:
URL:https://towerlane.org/event/volunteer-meeting-with-sarah-flower-arranging-for-the-towers-dining-room/
LOCATION:Dining Room
END:VEVENT
BEGIN:VEVENT
DTSTART;TZID=America/New_York:20250212T104500
DTEND;TZID=America/New_York:20250212T104500
DTSTAMP:20260422T045701
CREATED:20250204T184245Z
LAST-MODIFIED:20250204T184245Z
UID:15349-1739357100-1739357100@towerlane.org
SUMMARY:Chorus Rehearsal
DESCRIPTION:
URL:https://towerlane.org/event/chorus-rehearsal-19/
LOCATION:Solarium
END:VEVENT
BEGIN:VEVENT
DTSTART;TZID=America/New_York:20250212T110000
DTEND;TZID=America/New_York:20250212T130000
DTSTAMP:20260422T045701
CREATED:20250204T184339Z
LAST-MODIFIED:20250204T184339Z
UID:15353-1739358000-1739365200@towerlane.org
SUMMARY:Wilson Library
DESCRIPTION:
URL:https://towerlane.org/event/wilson-library-3/
LOCATION:Dining Room
END:VEVENT
BEGIN:VEVENT
DTSTART;TZID=America/New_York:20250212T130000
DTEND;TZID=America/New_York:20250212T130000
DTSTAMP:20260422T045701
CREATED:20250204T184435Z
LAST-MODIFIED:20250204T184435Z
UID:15355-1739365200-1739365200@towerlane.org
SUMMARY:Healthy & Fit
DESCRIPTION:
URL:https://towerlane.org/event/healthy-fit-58/
LOCATION:Solarium
END:VEVENT
BEGIN:VEVENT
DTSTART;TZID=America/New_York:20250212T140000
DTEND;TZID=America/New_York:20250212T140000
DTSTAMP:20260422T045701
CREATED:20250204T184557Z
LAST-MODIFIED:20250204T184557Z
UID:15359-1739368800-1739368800@towerlane.org
SUMMARY:JFS Support Group
DESCRIPTION:
URL:https://towerlane.org/event/jfs-support-group-41/
LOCATION:Tower One 19th Floor
END:VEVENT
BEGIN:VEVENT
DTSTART;TZID=America/New_York:20250212T190000
DTEND;TZID=America/New_York:20250212T190000
DTSTAMP:20260422T045701
CREATED:20250204T184654Z
LAST-MODIFIED:20250204T184654Z
UID:15363-1739386800-1739386800@towerlane.org
SUMMARY:Beatles/60s Sing Along Night
DESCRIPTION:
URL:https://towerlane.org/event/beatles-60s-sing-along-night/
LOCATION:Solarium
END:VEVENT
BEGIN:VEVENT
DTSTART;VALUE=DATE:20250213
DTEND;VALUE=DATE:20250214
DTSTAMP:20260422T045701
CREATED:20250204T184849Z
LAST-MODIFIED:20250204T184849Z
UID:15365-1739404800-1739491199@towerlane.org
SUMMARY:Tu B'Shevat - New Year for the Trees
DESCRIPTION:
URL:https://towerlane.org/event/tu-bshevat-new-year-for-the-trees/
END:VEVENT
BEGIN:VEVENT
DTSTART;TZID=America/New_York:20250213T113000
DTEND;TZID=America/New_York:20250213T113000
DTSTAMP:20260422T045701
CREATED:20250204T184949Z
LAST-MODIFIED:20250204T184949Z
UID:15367-1739446200-1739446200@towerlane.org
SUMMARY:30 Minute Exercise
DESCRIPTION:
URL:https://towerlane.org/event/30-minute-exercise-7/
LOCATION:Solarium
END:VEVENT
BEGIN:VEVENT
DTSTART;TZID=America/New_York:20250213T133000
DTEND;TZID=America/New_York:20250213T133000
DTSTAMP:20260422T045701
CREATED:20250204T185039Z
LAST-MODIFIED:20250204T185039Z
UID:15369-1739453400-1739453400@towerlane.org
SUMMARY:Chorus Concert
DESCRIPTION:
URL:https://towerlane.org/event/chorus-concert-6/
LOCATION:Dining Room
END:VEVENT
BEGIN:VEVENT
DTSTART;TZID=America/New_York:20250213T150000
DTEND;TZID=America/New_York:20250213T150000
DTSTAMP:20260422T045701
CREATED:20250204T185130Z
LAST-MODIFIED:20250204T185130Z
UID:15371-1739458800-1739458800@towerlane.org
SUMMARY:Book Club Meeting
DESCRIPTION:
URL:https://towerlane.org/event/book-club-meeting-20/
LOCATION:Tower One 20th Floor
END:VEVENT
END:VCALENDAR