BEGIN:VCALENDAR
VERSION:2.0
PRODID:-//The Towers - ECPv6.10.3//NONSGML v1.0//EN
CALSCALE:GREGORIAN
METHOD:PUBLISH
X-ORIGINAL-URL:https://towerlane.org
X-WR-CALDESC:Events for The Towers
REFRESH-INTERVAL;VALUE=DURATION:PT1H
X-Robots-Tag:noindex
X-PUBLISHED-TTL:PT1H
BEGIN:VTIMEZONE
TZID:America/New_York
BEGIN:DAYLIGHT
TZOFFSETFROM:-0500
TZOFFSETTO:-0400
TZNAME:EDT
DTSTART:20250309T070000
END:DAYLIGHT
BEGIN:STANDARD
TZOFFSETFROM:-0400
TZOFFSETTO:-0500
TZNAME:EST
DTSTART:20251102T060000
END:STANDARD
END:VTIMEZONE
BEGIN:VEVENT
DTSTART;TZID=America/New_York:20250701T080000
DTEND;TZID=America/New_York:20250701T120000
DTSTAMP:20260421T215841
CREATED:20250701T142748Z
LAST-MODIFIED:20250701T142748Z
UID:17146-1751356800-1751371200@towerlane.org
SUMMARY:Renters Rebate
DESCRIPTION:
URL:https://towerlane.org/event/renters-rebate-2/
LOCATION:Founders Conference Room
END:VEVENT
BEGIN:VEVENT
DTSTART;TZID=America/New_York:20250701T103000
DTEND;TZID=America/New_York:20250701T103000
DTSTAMP:20260421T215841
CREATED:20250701T143049Z
LAST-MODIFIED:20250701T143049Z
UID:17148-1751365800-1751365800@towerlane.org
SUMMARY:Sewing Group
DESCRIPTION:Part of our Intellectual Pathway \nVolunteers assist residents sewing scarves\, pillow cases\,  or other projects for community donation. Typically meets twice per month.
URL:https://towerlane.org/event/sewing-group-9/
LOCATION:Creativity Studio
END:VEVENT
BEGIN:VEVENT
DTSTART;TZID=America/New_York:20250701T104500
DTEND;TZID=America/New_York:20250701T104500
DTSTAMP:20260421T215841
CREATED:20250701T143329Z
LAST-MODIFIED:20250701T143329Z
UID:17150-1751366700-1751366700@towerlane.org
SUMMARY:Create a Word
DESCRIPTION:Part of our Intellectual Pathway \nPopular resident-led word puzzle game that challenges the mind.
URL:https://towerlane.org/event/create-a-word-41/2025-07-01/
LOCATION:Tower One 19th Floor
END:VEVENT
BEGIN:VEVENT
DTSTART;TZID=America/New_York:20250701T113000
DTEND;TZID=America/New_York:20250701T113000
DTSTAMP:20260421T215841
CREATED:20250701T143610Z
LAST-MODIFIED:20250701T143610Z
UID:17156-1751369400-1751369400@towerlane.org
SUMMARY:30 Minute Exercise
DESCRIPTION:Part of our Physical Pathway\n\n A shortened\, modified version of our Healthy & Fit. These sessions are typically performed half seated\, half standing\, and can be modified to most ability levels. Practical strategies for minimizing fall risk are discussed.
URL:https://towerlane.org/event/30-minute-exercise-15/2025-07-01/
LOCATION:Sanctuary
END:VEVENT
BEGIN:VEVENT
DTSTART;TZID=America/New_York:20250701T130000
DTEND;TZID=America/New_York:20250701T130000
DTSTAMP:20260421T215841
CREATED:20250701T143815Z
LAST-MODIFIED:20250701T143815Z
UID:17162-1751374800-1751374800@towerlane.org
SUMMARY:Interactive Music
DESCRIPTION:Part of our Psychological Pathway\nMusic therapy uses several different interventions to promote wellness and manage stress. It encourages communication and expression through musical interaction and it is just a lot of fun!  Led by certified music therapist Tess Sandler.
URL:https://towerlane.org/event/interactive-music-38/2025-07-01/
LOCATION:Dining Room
END:VEVENT
BEGIN:VEVENT
DTSTART;TZID=America/New_York:20250701T140000
DTEND;TZID=America/New_York:20250701T140000
DTSTAMP:20260421T215841
CREATED:20250701T143921Z
LAST-MODIFIED:20250701T143921Z
UID:17168-1751378400-1751378400@towerlane.org
SUMMARY:Dining Meeting
DESCRIPTION:
URL:https://towerlane.org/event/dining-meeting-13/
LOCATION:Dining Room
END:VEVENT
BEGIN:VEVENT
DTSTART;TZID=America/New_York:20250701T150000
DTEND;TZID=America/New_York:20250701T150000
DTSTAMP:20260421T215841
CREATED:20250701T144050Z
LAST-MODIFIED:20250701T144050Z
UID:17170-1751382000-1751382000@towerlane.org
SUMMARY:QU Students Group
DESCRIPTION:Group led by Quinnipiac Doctorate Students. Topics vary.
URL:https://towerlane.org/event/qu-students-group-33/
LOCATION:Sanctuary
END:VEVENT
BEGIN:VEVENT
DTSTART;TZID=America/New_York:20250701T190000
DTEND;TZID=America/New_York:20250701T190000
DTSTAMP:20260421T215841
CREATED:20250701T144238Z
LAST-MODIFIED:20250701T144238Z
UID:17172-1751396400-1751396400@towerlane.org
SUMMARY:Movie and Discussion with Jim Brochin
DESCRIPTION:Part of our Social Pathway \nFilm studies teacher Jim Brochin screens and discusses films.
URL:https://towerlane.org/event/movie-and-discussion-with-jim-brochin-39/
LOCATION:Sanctuary
END:VEVENT
BEGIN:VEVENT
DTSTART;TZID=America/New_York:20250702T110000
DTEND;TZID=America/New_York:20250702T110000
DTSTAMP:20260421T215841
CREATED:20250701T144617Z
LAST-MODIFIED:20250701T144617Z
UID:17174-1751454000-1751454000@towerlane.org
SUMMARY:QU Students Group
DESCRIPTION:Group led by Quinnipiac Doctorate Students. Topics vary.
URL:https://towerlane.org/event/qu-students-group-34/2025-07-02/
LOCATION:Founders Conference Room
END:VEVENT
BEGIN:VEVENT
DTSTART;TZID=America/New_York:20250702T130000
DTEND;TZID=America/New_York:20250702T130000
DTSTAMP:20260421T215841
CREATED:20250701T144848Z
LAST-MODIFIED:20250701T144848Z
UID:17180-1751461200-1751461200@towerlane.org
SUMMARY:Healthy & Fit
DESCRIPTION:Part of our Physical Pathway \nA full body exercise session that can be scaled to most ability levels. These workouts aim to increase strength and balance\, improve flexibility and overall fitness levels.”
URL:https://towerlane.org/event/healthy-fit-63/2025-07-02/
LOCATION:Sanctuary
END:VEVENT
BEGIN:VEVENT
DTSTART;TZID=America/New_York:20250702T140000
DTEND;TZID=America/New_York:20250702T140000
DTSTAMP:20260421T215841
CREATED:20250701T145118Z
LAST-MODIFIED:20250701T145118Z
UID:17186-1751464800-1751464800@towerlane.org
SUMMARY:JFS Support Group
DESCRIPTION:Part of our Emotional Pathway \nWeekly support group with LCSW Elanit Linder from Jewish Family Service.
URL:https://towerlane.org/event/jfs-support-group-48/2025-07-02/
LOCATION:Sanctuary
END:VEVENT
BEGIN:VEVENT
DTSTART;TZID=America/New_York:20250703T104500
DTEND;TZID=America/New_York:20250703T104500
DTSTAMP:20260421T215841
CREATED:20250701T145252Z
LAST-MODIFIED:20250701T145252Z
UID:17192-1751539500-1751539500@towerlane.org
SUMMARY:Beach Volleyball
DESCRIPTION:
URL:https://towerlane.org/event/beach-volleyball/
LOCATION:Courtyard
END:VEVENT
BEGIN:VEVENT
DTSTART;TZID=America/New_York:20250703T113000
DTEND;TZID=America/New_York:20250703T113000
DTSTAMP:20260421T215841
CREATED:20250701T145431Z
LAST-MODIFIED:20250701T145431Z
UID:17194-1751542200-1751542200@towerlane.org
SUMMARY:Mindfulness & Movement
DESCRIPTION:Part of our Psychological Pathway\nConnect with your body and de-stress through meditation\, light body movements\, chanting\, and breathing exercises.  Led by wellness coach Stacey Battat.
URL:https://towerlane.org/event/mindfulness-movement-30/
LOCATION:Dining Room
END:VEVENT
BEGIN:VEVENT
DTSTART;TZID=America/New_York:20250703T130000
DTEND;TZID=America/New_York:20250703T130000
DTSTAMP:20260421T215841
CREATED:20250701T145607Z
LAST-MODIFIED:20250701T145607Z
UID:17196-1751547600-1751547600@towerlane.org
SUMMARY:Catholic Mass
DESCRIPTION:Part of our Spiritual Pathway\nTwice per month Catholic service with Father Ryan Lerner.
URL:https://towerlane.org/event/catholic-mass-69/
LOCATION:Sanctuary
END:VEVENT
BEGIN:VEVENT
DTSTART;TZID=America/New_York:20250703T130000
DTEND;TZID=America/New_York:20250703T130000
DTSTAMP:20260421T215841
CREATED:20250701T145822Z
LAST-MODIFIED:20250701T145822Z
UID:17198-1751547600-1751547600@towerlane.org
SUMMARY:Torah Study
DESCRIPTION:Part of our Spiritual Pathway\nDiscuss the Torah portion of the week and Holy Day prayers with Ruthie Greenblatt.
URL:https://towerlane.org/event/torah-study/2025-07-03/
LOCATION:Founders Conference Room
END:VEVENT
BEGIN:VEVENT
DTSTART;TZID=America/New_York:20250703T140000
DTEND;TZID=America/New_York:20250703T140000
DTSTAMP:20260421T215841
CREATED:20250701T145919Z
LAST-MODIFIED:20250701T145919Z
UID:17201-1751551200-1751551200@towerlane.org
SUMMARY:QU Students Group
DESCRIPTION:Group led by Quinnipiac Doctorate Students. Topics vary.
URL:https://towerlane.org/event/qu-students-group-35/
LOCATION:Sanctuary
END:VEVENT
BEGIN:VEVENT
DTSTART;TZID=America/New_York:20250703T174500
DTEND;TZID=America/New_York:20250703T174500
DTSTAMP:20260421T215841
CREATED:20250701T150145Z
LAST-MODIFIED:20250701T150145Z
UID:17203-1751564700-1751564700@towerlane.org
SUMMARY:Pianist Larry Batter
DESCRIPTION:Part of our Social Pathway \nConcerts\, themed game nights\, trivia and more scheduled throughout the month.
URL:https://towerlane.org/event/pianist-larry-batter-4/
LOCATION:Dining Room
END:VEVENT
BEGIN:VEVENT
DTSTART;VALUE=DATE:20250704
DTEND;VALUE=DATE:20250705
DTSTAMP:20260421T215841
CREATED:20250701T150222Z
LAST-MODIFIED:20250701T150222Z
UID:17205-1751587200-1751673599@towerlane.org
SUMMARY:Independence Day
DESCRIPTION:
URL:https://towerlane.org/event/independence-day/
END:VEVENT
BEGIN:VEVENT
DTSTART;TZID=America/New_York:20250704T183000
DTEND;TZID=America/New_York:20250704T183000
DTSTAMP:20260421T215841
CREATED:20250701T150353Z
LAST-MODIFIED:20250701T150353Z
UID:17207-1751653800-1751653800@towerlane.org
SUMMARY:Shabbat
DESCRIPTION:Part of our Spiritual Pathway\nFriday night and Saturday morning Shabbat services with Ruthie Greenblatt and Sarah Moskowitz.
URL:https://towerlane.org/event/shabbat-73/2025-07-04/
LOCATION:Sanctuary
END:VEVENT
BEGIN:VEVENT
DTSTART;TZID=America/New_York:20250705T100000
DTEND;TZID=America/New_York:20250705T100000
DTSTAMP:20260421T215841
CREATED:20250701T150737Z
LAST-MODIFIED:20250701T150737Z
UID:17212-1751709600-1751709600@towerlane.org
SUMMARY:Shabbat
DESCRIPTION:Part of our Spiritual Pathway\nFriday night and Saturday morning Shabbat services with Ruthie Greenblatt and Sarah Moskowitz.
URL:https://towerlane.org/event/shabbat-74/2025-07-05/
LOCATION:Sanctuary
END:VEVENT
BEGIN:VEVENT
DTSTART;TZID=America/New_York:20250705T140000
DTEND;TZID=America/New_York:20250705T140000
DTSTAMP:20260421T215841
CREATED:20250701T150916Z
LAST-MODIFIED:20250701T150916Z
UID:17217-1751724000-1751724000@towerlane.org
SUMMARY:Bingo
DESCRIPTION:Part of our Social Pathway\nThe classic game.
URL:https://towerlane.org/event/bingo-128/2025-07-05/
LOCATION:Sanctuary
END:VEVENT
BEGIN:VEVENT
DTSTART;TZID=America/New_York:20250705T190000
DTEND;TZID=America/New_York:20250705T190000
DTSTAMP:20260421T215841
CREATED:20250701T151025Z
LAST-MODIFIED:20250701T151025Z
UID:17222-1751742000-1751742000@towerlane.org
SUMMARY:Movie Night
DESCRIPTION:
URL:https://towerlane.org/event/movie-night-69/2025-07-05/
LOCATION:Sanctuary
END:VEVENT
BEGIN:VEVENT
DTSTART;TZID=America/New_York:20250706T190000
DTEND;TZID=America/New_York:20250706T190000
DTSTAMP:20260421T215841
CREATED:20250701T151159Z
LAST-MODIFIED:20250701T151159Z
UID:17227-1751828400-1751828400@towerlane.org
SUMMARY:Movie Night
DESCRIPTION:
URL:https://towerlane.org/event/movie-night-70/2025-07-06/
LOCATION:Sanctuary
END:VEVENT
BEGIN:VEVENT
DTSTART;TZID=America/New_York:20250707T100000
DTEND;TZID=America/New_York:20250707T100000
DTSTAMP:20260421T215841
CREATED:20250701T151400Z
LAST-MODIFIED:20250701T151400Z
UID:17232-1751882400-1751882400@towerlane.org
SUMMARY:Coffee Klatch
DESCRIPTION:Part of our Social Pathway\nWeekly resident social hour.
URL:https://towerlane.org/event/coffee-klatch-35/2025-07-07/
LOCATION:Dining Room
END:VEVENT
BEGIN:VEVENT
DTSTART;TZID=America/New_York:20250707T130000
DTEND;TZID=America/New_York:20250707T130000
DTSTAMP:20260421T215841
CREATED:20250701T151554Z
LAST-MODIFIED:20250701T151554Z
UID:17237-1751893200-1751893200@towerlane.org
SUMMARY:Chair Yoga
DESCRIPTION:Part of our Physical Pathway \nA lower intensity exercise session performed mostly seated. This is a great option for residents not ready for the frequent standing exercise during a Healthy and Fit session. Led by Yoga/Tai Chi instructor Bil Banick.
URL:https://towerlane.org/event/chair-yoga-30/2025-07-07/
LOCATION:Dining Room
END:VEVENT
BEGIN:VEVENT
DTSTART;TZID=America/New_York:20250707T140000
DTEND;TZID=America/New_York:20250707T140000
DTSTAMP:20260421T215841
CREATED:20250701T151854Z
LAST-MODIFIED:20250701T151854Z
UID:17242-1751896800-1751896800@towerlane.org
SUMMARY:Bingo
DESCRIPTION:Part of our Social Pathway\nThe classic game.
URL:https://towerlane.org/event/bingo-129/2025-07-07/
LOCATION:Sanctuary
END:VEVENT
BEGIN:VEVENT
DTSTART;TZID=America/New_York:20250707T190000
DTEND;TZID=America/New_York:20250707T190000
DTSTAMP:20260421T215841
CREATED:20250701T152013Z
LAST-MODIFIED:20250701T152013Z
UID:17248-1751914800-1751914800@towerlane.org
SUMMARY:Movie Night
DESCRIPTION:
URL:https://towerlane.org/event/movie-night-71/2025-07-07/
LOCATION:Sanctuary
END:VEVENT
BEGIN:VEVENT
DTSTART;TZID=America/New_York:20250708T104500
DTEND;TZID=America/New_York:20250708T104500
DTSTAMP:20260421T215841
CREATED:20250701T143329Z
LAST-MODIFIED:20250701T143329Z
UID:17151-1751971500-1751971500@towerlane.org
SUMMARY:Create a Word
DESCRIPTION:Part of our Intellectual Pathway \nPopular resident-led word puzzle game that challenges the mind.
URL:https://towerlane.org/event/create-a-word-41/2025-07-08/
LOCATION:Tower One 19th Floor
END:VEVENT
BEGIN:VEVENT
DTSTART;TZID=America/New_York:20250708T113000
DTEND;TZID=America/New_York:20250708T113000
DTSTAMP:20260421T215841
CREATED:20250701T143610Z
LAST-MODIFIED:20250701T143610Z
UID:17157-1751974200-1751974200@towerlane.org
SUMMARY:30 Minute Exercise
DESCRIPTION:Part of our Physical Pathway\n\n A shortened\, modified version of our Healthy & Fit. These sessions are typically performed half seated\, half standing\, and can be modified to most ability levels. Practical strategies for minimizing fall risk are discussed.
URL:https://towerlane.org/event/30-minute-exercise-15/2025-07-08/
LOCATION:Sanctuary
END:VEVENT
BEGIN:VEVENT
DTSTART;TZID=America/New_York:20250708T130000
DTEND;TZID=America/New_York:20250708T130000
DTSTAMP:20260421T215841
CREATED:20250701T143815Z
LAST-MODIFIED:20250701T143815Z
UID:17163-1751979600-1751979600@towerlane.org
SUMMARY:Interactive Music
DESCRIPTION:Part of our Psychological Pathway\nMusic therapy uses several different interventions to promote wellness and manage stress. It encourages communication and expression through musical interaction and it is just a lot of fun!  Led by certified music therapist Tess Sandler.
URL:https://towerlane.org/event/interactive-music-38/2025-07-08/
LOCATION:Dining Room
END:VEVENT
END:VCALENDAR