BEGIN:VCALENDAR
VERSION:2.0
PRODID:-//The Towers - ECPv6.10.3//NONSGML v1.0//EN
CALSCALE:GREGORIAN
METHOD:PUBLISH
X-ORIGINAL-URL:https://towerlane.org
X-WR-CALDESC:Events for The Towers
REFRESH-INTERVAL;VALUE=DURATION:PT1H
X-Robots-Tag:noindex
X-PUBLISHED-TTL:PT1H
BEGIN:VTIMEZONE
TZID:America/New_York
BEGIN:DAYLIGHT
TZOFFSETFROM:-0500
TZOFFSETTO:-0400
TZNAME:EDT
DTSTART:20250309T070000
END:DAYLIGHT
BEGIN:STANDARD
TZOFFSETFROM:-0400
TZOFFSETTO:-0500
TZNAME:EST
DTSTART:20251102T060000
END:STANDARD
END:VTIMEZONE
BEGIN:VEVENT
DTSTART;VALUE=DATE:20250901
DTEND;VALUE=DATE:20250902
DTSTAMP:20260421T154128
CREATED:20250830T152103Z
LAST-MODIFIED:20250830T152103Z
UID:17632-1756684800-1756771199@towerlane.org
SUMMARY:LABOR DAY
DESCRIPTION:
URL:https://towerlane.org/event/labor-day/
END:VEVENT
BEGIN:VEVENT
DTSTART;TZID=America/New_York:20250901T100000
DTEND;TZID=America/New_York:20250901T100000
DTSTAMP:20260421T154128
CREATED:20250830T151657Z
LAST-MODIFIED:20250830T151657Z
UID:17619-1756720800-1756720800@towerlane.org
SUMMARY:Coffee Klatch
DESCRIPTION:Part of our Social Pathway.\nWeekly resident social hour.
URL:https://towerlane.org/event/coffee-klatch-37/2025-09-01/
LOCATION:Dining Room
END:VEVENT
BEGIN:VEVENT
DTSTART;TZID=America/New_York:20250901T140000
DTEND;TZID=America/New_York:20250901T140000
DTSTAMP:20260421T154128
CREATED:20250830T151910Z
LAST-MODIFIED:20250830T151910Z
UID:17625-1756735200-1756735200@towerlane.org
SUMMARY:Bingo
DESCRIPTION:Part of our Social Pathway.\nThe classic game.
URL:https://towerlane.org/event/bingo-132/
LOCATION:Sanctuary
END:VEVENT
BEGIN:VEVENT
DTSTART;TZID=America/New_York:20250901T190000
DTEND;TZID=America/New_York:20250901T190000
DTSTAMP:20260421T154128
CREATED:20250830T152030Z
LAST-MODIFIED:20250830T152030Z
UID:17627-1756753200-1756753200@towerlane.org
SUMMARY:Movie Night
DESCRIPTION:
URL:https://towerlane.org/event/movie-night-75/2025-09-01/
LOCATION:Sanctuary
END:VEVENT
BEGIN:VEVENT
DTSTART;TZID=America/New_York:20250902T104500
DTEND;TZID=America/New_York:20250902T104500
DTSTAMP:20260421T154128
CREATED:20250830T152425Z
LAST-MODIFIED:20250830T152425Z
UID:17634-1756809900-1756809900@towerlane.org
SUMMARY:Create-A-Word
DESCRIPTION:Part of our Intellectual Pathway.\nPopular resident-led word puzzle game that challenges the mind.
URL:https://towerlane.org/event/create-a-word-43/2025-09-02/
LOCATION:Tower One 19th Floor
END:VEVENT
BEGIN:VEVENT
DTSTART;TZID=America/New_York:20250902T113000
DTEND;TZID=America/New_York:20250902T113000
DTSTAMP:20260421T154128
CREATED:20250830T152633Z
LAST-MODIFIED:20250830T152633Z
UID:17639-1756812600-1756812600@towerlane.org
SUMMARY:30-Minute Exercise
DESCRIPTION:Part of our Physical Pathway.\n\n A shortened\, modified version of our Healthy & Fit. These sessions are typically performed half seated\, half standing\, and can be modified to most ability levels. Practical strategies for minimizing fall risk are discussed.
URL:https://towerlane.org/event/30-minute-exercise-22/2025-09-02/
LOCATION:Sanctuary
END:VEVENT
BEGIN:VEVENT
DTSTART;TZID=America/New_York:20250902T130000
DTEND;TZID=America/New_York:20250902T130000
DTSTAMP:20260421T154128
CREATED:20250830T152822Z
LAST-MODIFIED:20250830T152822Z
UID:17644-1756818000-1756818000@towerlane.org
SUMMARY:Interactive Music
DESCRIPTION:Part of our Psychological Pathway.\nMusic therapy uses several different interventions to promote wellness and manage stress. It encourages communication and expression through musical interaction and it is just a lot of fun!  Led by certified music therapist Tess Sandler.
URL:https://towerlane.org/event/interactive-music-40/2025-09-02/
LOCATION:Dining Room
END:VEVENT
BEGIN:VEVENT
DTSTART;TZID=America/New_York:20250902T190000
DTEND;TZID=America/New_York:20250902T190000
DTSTAMP:20260421T154128
CREATED:20250830T153016Z
LAST-MODIFIED:20250830T153016Z
UID:17649-1756839600-1756839600@towerlane.org
SUMMARY:Lecture Series: "The Cosmos"
DESCRIPTION:
URL:https://towerlane.org/event/lecture-series-the-cosmos-3/
LOCATION:Sanctuary
END:VEVENT
BEGIN:VEVENT
DTSTART;TZID=America/New_York:20250903T110000
DTEND;TZID=America/New_York:20250903T110000
DTSTAMP:20260421T154128
CREATED:20250830T162906Z
LAST-MODIFIED:20250830T162906Z
UID:17651-1756897200-1756897200@towerlane.org
SUMMARY:Brain Boosters
DESCRIPTION:Part of our Intellectual Pathway.\nA lively\, game-based cognitive program that keeps the mind active through puzzles and creative challenges. Designed for fun\, flexibility\, and fast-paced brain stimulation.
URL:https://towerlane.org/event/brain-boosters-2/2025-09-03/
LOCATION:Sanctuary
END:VEVENT
BEGIN:VEVENT
DTSTART;TZID=America/New_York:20250903T130000
DTEND;TZID=America/New_York:20250903T130000
DTSTAMP:20260421T154128
CREATED:20250830T163156Z
LAST-MODIFIED:20250830T163156Z
UID:17656-1756904400-1756904400@towerlane.org
SUMMARY:Healthy & Fit
DESCRIPTION:Part of our Physical Pathway. \nA full body exercise session that can be scaled to most ability levels. These workouts aim to increase strength and balance\, improve flexibility and overall fitness levels.”
URL:https://towerlane.org/event/healthy-fit-65/2025-09-03/
LOCATION:Sanctuary
END:VEVENT
BEGIN:VEVENT
DTSTART;TZID=America/New_York:20250903T140000
DTEND;TZID=America/New_York:20250903T140000
DTSTAMP:20260421T154128
CREATED:20250830T163349Z
LAST-MODIFIED:20250830T163349Z
UID:17660-1756908000-1756908000@towerlane.org
SUMMARY:JFS Support Group
DESCRIPTION:Part of our Emotional Pathway.\nWeekly support group with LCSW Elanit Linder from Jewish Family Service.
URL:https://towerlane.org/event/jfs-support-group-50/2025-09-03/
LOCATION:Sanctuary
END:VEVENT
BEGIN:VEVENT
DTSTART;TZID=America/New_York:20250903T190000
DTEND;TZID=America/New_York:20250903T190000
DTSTAMP:20260421T154128
CREATED:20250830T163550Z
LAST-MODIFIED:20250830T163550Z
UID:17664-1756926000-1756926000@towerlane.org
SUMMARY:Game Night with Charles Rosenay
DESCRIPTION:Part of our Social Pathway. \nConcerts\, themed game nights\, trivia and more scheduled throughout the month.
URL:https://towerlane.org/event/game-night-with-charles-rosenay-23/
LOCATION:Sanctuary
END:VEVENT
BEGIN:VEVENT
DTSTART;TZID=America/New_York:20250904T104500
DTEND;TZID=America/New_York:20250904T104500
DTSTAMP:20260421T154128
CREATED:20250830T163755Z
LAST-MODIFIED:20250830T163755Z
UID:17666-1756982700-1756982700@towerlane.org
SUMMARY:30-Minute Exercise
DESCRIPTION:Part of our Physical Pathway.\n\n A shortened\, modified version of our Healthy & Fit. These sessions are typically performed half seated\, half standing\, and can be modified to most ability levels. Practical strategies for minimizing fall risk are discussed.
URL:https://towerlane.org/event/30-minute-exercise-23/2025-09-04/
LOCATION:Sanctuary
END:VEVENT
BEGIN:VEVENT
DTSTART;TZID=America/New_York:20250904T130000
DTEND;TZID=America/New_York:20250904T130000
DTSTAMP:20260421T154128
CREATED:20250830T164002Z
LAST-MODIFIED:20250830T164002Z
UID:17670-1756990800-1756990800@towerlane.org
SUMMARY:Get Moving! Health Talk with Ali and Dean
DESCRIPTION:Part of our Physical/Intellectual Pathway. \nInformation sessions on various health topics. Facilitated both in-house and through partnerships with local health organizations
URL:https://towerlane.org/event/get-moving-health-talk-with-ali-and-dean/
LOCATION:Sanctuary
END:VEVENT
BEGIN:VEVENT
DTSTART;TZID=America/New_York:20250904T140000
DTEND;TZID=America/New_York:20250904T140000
DTSTAMP:20260421T154128
CREATED:20250830T164138Z
LAST-MODIFIED:20250830T164138Z
UID:17672-1756994400-1756994400@towerlane.org
SUMMARY:Sing Along with Richard Gans
DESCRIPTION:Part of our Social Pathway.\nGreat alternative for people who don’t want the formality or commitment of the chorus but love to sing! Pianist Richard Gans leads the group in singing classic songs.
URL:https://towerlane.org/event/sing-along-with-richard-gans-23/
LOCATION:Dining Room
END:VEVENT
BEGIN:VEVENT
DTSTART;TZID=America/New_York:20250905T100000
DTEND;TZID=America/New_York:20250905T100000
DTSTAMP:20260421T154128
CREATED:20250830T164326Z
LAST-MODIFIED:20250830T164326Z
UID:17674-1757066400-1757066400@towerlane.org
SUMMARY:Interfaith Bible Study
DESCRIPTION:Part of our Spiritual Pathway.\nDiscuss selected passages from the Old and New Testaments.
URL:https://towerlane.org/event/interfaith-bible-study-9/2025-09-05/
LOCATION:Sanctuary
END:VEVENT
BEGIN:VEVENT
DTSTART;TZID=America/New_York:20250905T110000
DTEND;TZID=America/New_York:20250905T110000
DTSTAMP:20260421T154128
CREATED:20250830T164520Z
LAST-MODIFIED:20250830T164520Z
UID:17679-1757070000-1757070000@towerlane.org
SUMMARY:Knitting Group
DESCRIPTION:Part of our Intellectual Pathway. \nMeets weekly to knit or crochet blankets for community donation.
URL:https://towerlane.org/event/knitting-group-74/2025-09-05/
LOCATION:Solarium
END:VEVENT
BEGIN:VEVENT
DTSTART;TZID=America/New_York:20250905T120000
DTEND;TZID=America/New_York:20250905T120000
DTSTAMP:20260421T154128
CREATED:20250830T164700Z
LAST-MODIFIED:20250830T164700Z
UID:17684-1757073600-1757073600@towerlane.org
SUMMARY:Tai Chi
DESCRIPTION:Part of our Physical Pathway.\nOffers an enhancement of traditional Tai Ji Quan by transforming the movements into therapeutic training for balance and mobility. Evidence –based program recommended by the National Council on Aging. Led by TJQ certified instructor\, Bill Banick.
URL:https://towerlane.org/event/tai-chi-37/
LOCATION:Dining Room
END:VEVENT
BEGIN:VEVENT
DTSTART;TZID=America/New_York:20250905T140000
DTEND;TZID=America/New_York:20250905T140000
DTSTAMP:20260421T154128
CREATED:20250830T164917Z
LAST-MODIFIED:20250830T164917Z
UID:17686-1757080800-1757080800@towerlane.org
SUMMARY:Current Events
DESCRIPTION:Part of our Intellectual Pathway.\nResident-led interactive discussion group.
URL:https://towerlane.org/event/current-events-36/2025-09-05/
LOCATION:Sanctuary
END:VEVENT
BEGIN:VEVENT
DTSTART;TZID=America/New_York:20250905T183000
DTEND;TZID=America/New_York:20250905T183000
DTSTAMP:20260421T154128
CREATED:20250830T165045Z
LAST-MODIFIED:20250830T165045Z
UID:17691-1757097000-1757097000@towerlane.org
SUMMARY:Shabbat
DESCRIPTION:Part of our Spiritual Pathway.\nFriday night and Saturday morning Shabbat services with Ruthie Greenblatt and Sarah Moskowitz.
URL:https://towerlane.org/event/shabbat-77/2025-09-05/
LOCATION:Sanctuary
END:VEVENT
BEGIN:VEVENT
DTSTART;TZID=America/New_York:20250906T100000
DTEND;TZID=America/New_York:20250906T100000
DTSTAMP:20260421T154128
CREATED:20250830T165141Z
LAST-MODIFIED:20250830T165141Z
UID:17696-1757152800-1757152800@towerlane.org
SUMMARY:Shabbat
DESCRIPTION:Part of our Spiritual Pathway.\nFriday night and Saturday morning Shabbat services with Ruthie Greenblatt and Sarah Moskowitz.
URL:https://towerlane.org/event/shabbat-78/2025-09-06/
LOCATION:Sanctuary
END:VEVENT
BEGIN:VEVENT
DTSTART;TZID=America/New_York:20250906T140000
DTEND;TZID=America/New_York:20250906T140000
DTSTAMP:20260421T154128
CREATED:20250830T165310Z
LAST-MODIFIED:20250830T165310Z
UID:17701-1757167200-1757167200@towerlane.org
SUMMARY:Bingo
DESCRIPTION:Part of our Social Pathway.\nThe classic game.
URL:https://towerlane.org/event/bingo-133/2025-09-06/
LOCATION:Sanctuary
END:VEVENT
BEGIN:VEVENT
DTSTART;TZID=America/New_York:20250906T190000
DTEND;TZID=America/New_York:20250906T190000
DTSTAMP:20260421T154128
CREATED:20250830T165415Z
LAST-MODIFIED:20250830T165415Z
UID:17706-1757185200-1757185200@towerlane.org
SUMMARY:Movie Night
DESCRIPTION:
URL:https://towerlane.org/event/movie-night-76/2025-09-06/
LOCATION:Sanctuary
END:VEVENT
BEGIN:VEVENT
DTSTART;TZID=America/New_York:20250907T190000
DTEND;TZID=America/New_York:20250907T190000
DTSTAMP:20260421T154128
CREATED:20250830T165607Z
LAST-MODIFIED:20250830T165607Z
UID:17711-1757271600-1757271600@towerlane.org
SUMMARY:Movie Night
DESCRIPTION:
URL:https://towerlane.org/event/movie-night-77/2025-09-07/
LOCATION:Sanctuary
END:VEVENT
BEGIN:VEVENT
DTSTART;TZID=America/New_York:20250908T100000
DTEND;TZID=America/New_York:20250908T100000
DTSTAMP:20260421T154128
CREATED:20250830T151657Z
LAST-MODIFIED:20250830T151657Z
UID:17620-1757325600-1757325600@towerlane.org
SUMMARY:Coffee Klatch
DESCRIPTION:Part of our Social Pathway.\nWeekly resident social hour.
URL:https://towerlane.org/event/coffee-klatch-37/2025-09-08/
LOCATION:Dining Room
END:VEVENT
BEGIN:VEVENT
DTSTART;TZID=America/New_York:20250908T111500
DTEND;TZID=America/New_York:20250908T111500
DTSTAMP:20260421T154128
CREATED:20250830T165905Z
LAST-MODIFIED:20250830T165905Z
UID:17716-1757330100-1757330100@towerlane.org
SUMMARY:Mindful Art
DESCRIPTION:Part of our Psychological Pathway.\nCounselor Amee Marcantonio utilizes many visual arts techniques to facilitate the creative process. An elevated mood\, improved mental status and better processing of emotions have been reported by participants.
URL:https://towerlane.org/event/mindful-art-8/2025-09-08/
LOCATION:Creativity Studio
END:VEVENT
BEGIN:VEVENT
DTSTART;TZID=America/New_York:20250908T130000
DTEND;TZID=America/New_York:20250908T130000
DTSTAMP:20260421T154128
CREATED:20250830T170204Z
LAST-MODIFIED:20250830T170204Z
UID:17721-1757336400-1757336400@towerlane.org
SUMMARY:Chair Yoga
DESCRIPTION:Part of our Physical Pathway.\nA lower intensity exercise session performed mostly seated. This is a great option for residents not ready for the frequent standing exercise during a Healthy and Fit session. Led by Yoga/Tai Chi instructor Bil Banick.
URL:https://towerlane.org/event/chair-yoga-33/2025-09-08/
LOCATION:Dining Room
END:VEVENT
BEGIN:VEVENT
DTSTART;TZID=America/New_York:20250908T140000
DTEND;TZID=America/New_York:20250908T140000
DTSTAMP:20260421T154128
CREATED:20250830T170529Z
LAST-MODIFIED:20250830T170529Z
UID:17727-1757340000-1757340000@towerlane.org
SUMMARY:Welcome Rabbi Scolnic: "What it Means to be Kosher"
DESCRIPTION:
URL:https://towerlane.org/event/welcome-rabbi-scolnic-what-it-means-to-be-kosher/
LOCATION:Sanctuary
END:VEVENT
BEGIN:VEVENT
DTSTART;TZID=America/New_York:20250908T190000
DTEND;TZID=America/New_York:20250908T190000
DTSTAMP:20260421T154128
CREATED:20250830T152030Z
LAST-MODIFIED:20250830T152030Z
UID:17628-1757358000-1757358000@towerlane.org
SUMMARY:Movie Night
DESCRIPTION:
URL:https://towerlane.org/event/movie-night-75/2025-09-08/
LOCATION:Sanctuary
END:VEVENT
BEGIN:VEVENT
DTSTART;TZID=America/New_York:20250909T103000
DTEND;TZID=America/New_York:20250909T103000
DTSTAMP:20260421T154128
CREATED:20250830T170718Z
LAST-MODIFIED:20250830T170718Z
UID:17729-1757413800-1757413800@towerlane.org
SUMMARY:Sewing Group
DESCRIPTION:Part of our Intellectual Pathway.\nVolunteers assist residents sewing scarves\, pillow cases\,  or other projects for community donation. Typically meets twice per month.
URL:https://towerlane.org/event/sewing-group-12/
LOCATION:Creativity Studio
END:VEVENT
END:VCALENDAR