BEGIN:VCALENDAR
VERSION:2.0
PRODID:-//The Towers - ECPv6.10.3//NONSGML v1.0//EN
CALSCALE:GREGORIAN
METHOD:PUBLISH
X-ORIGINAL-URL:https://towerlane.org
X-WR-CALDESC:Events for The Towers
REFRESH-INTERVAL;VALUE=DURATION:PT1H
X-Robots-Tag:noindex
X-PUBLISHED-TTL:PT1H
BEGIN:VTIMEZONE
TZID:America/New_York
BEGIN:DAYLIGHT
TZOFFSETFROM:-0500
TZOFFSETTO:-0400
TZNAME:EDT
DTSTART:20260308T070000
END:DAYLIGHT
BEGIN:STANDARD
TZOFFSETFROM:-0400
TZOFFSETTO:-0500
TZNAME:EST
DTSTART:20261101T060000
END:STANDARD
END:VTIMEZONE
BEGIN:VEVENT
DTSTART;VALUE=DATE:20260101
DTEND;VALUE=DATE:20260102
DTSTAMP:20260421T091140
CREATED:20251229T194203Z
LAST-MODIFIED:20251229T194203Z
UID:18824-1767225600-1767311999@towerlane.org
SUMMARY:New Year's Day - Happy New Year!
DESCRIPTION:
URL:https://towerlane.org/event/new-years-day-happy-new-year/
END:VEVENT
BEGIN:VEVENT
DTSTART;TZID=America/New_York:20260101T190000
DTEND;TZID=America/New_York:20260101T190000
DTSTAMP:20260421T091140
CREATED:20251229T194301Z
LAST-MODIFIED:20251229T194301Z
UID:18826-1767294000-1767294000@towerlane.org
SUMMARY:Movie Night
DESCRIPTION:
URL:https://towerlane.org/event/movie-night-90/
LOCATION:Sanctuary
END:VEVENT
BEGIN:VEVENT
DTSTART;TZID=America/New_York:20260102T110000
DTEND;TZID=America/New_York:20260102T110000
DTSTAMP:20260421T091140
CREATED:20251229T194801Z
LAST-MODIFIED:20251229T194801Z
UID:18829-1767351600-1767351600@towerlane.org
SUMMARY:Knitting Group
DESCRIPTION:Part of our Intellectual Pathway.\nMeets weekly to knit or crochet blankets for community donation.
URL:https://towerlane.org/event/knitting-group-78/2026-01-02/
LOCATION:Solarium
END:VEVENT
BEGIN:VEVENT
DTSTART;TZID=America/New_York:20260102T110000
DTEND;TZID=America/New_York:20260102T110000
DTSTAMP:20260421T091140
CREATED:20251229T195016Z
LAST-MODIFIED:20251229T195016Z
UID:18835-1767351600-1767351600@towerlane.org
SUMMARY:Age-ing and Sage-ing
DESCRIPTION:Part of our Intellectual Pathway.\nThe group will be studying what Judaism has to say about old age and explore how we pass down hard-earned wisdom to the next generations.  The group will use sections from Rabbi Zalman Schachter-Shalomi’s book From Age-ing to Sage-ing and a variety of Jewish texts\, for discussion . There will be opportunities for sharing experiences and exploring what is important for teaching your children\, grandchildren and great-grandchildren.
URL:https://towerlane.org/event/age-ing-and-sage-ing/2026-01-02/
LOCATION:Sanctuary
END:VEVENT
BEGIN:VEVENT
DTSTART;TZID=America/New_York:20260102T130000
DTEND;TZID=America/New_York:20260102T130000
DTSTAMP:20260421T091140
CREATED:20251229T195216Z
LAST-MODIFIED:20251229T195216Z
UID:18840-1767358800-1767358800@towerlane.org
SUMMARY:Tai Chi
DESCRIPTION:Part of our Physical Pathway.\nOffers an enhancement of traditional Tai Ji Quan by transforming the movements into therapeutic training for balance and mobility. Evidence –based program recommended by the National Council on Aging. Led by TJQ certified instructor\, Bill Banick.
URL:https://towerlane.org/event/tai-chi-42/2026-01-02/
LOCATION:Dining Room
END:VEVENT
BEGIN:VEVENT
DTSTART;TZID=America/New_York:20260102T140000
DTEND;TZID=America/New_York:20260102T140000
DTSTAMP:20260421T091140
CREATED:20251229T195340Z
LAST-MODIFIED:20251229T195340Z
UID:18846-1767362400-1767362400@towerlane.org
SUMMARY:Current Events
DESCRIPTION:Part of our Intellectual Pathway.\nResident-led interactive discussion group.
URL:https://towerlane.org/event/current-events-40/2026-01-02/
LOCATION:Sanctuary
END:VEVENT
BEGIN:VEVENT
DTSTART;TZID=America/New_York:20260102T183000
DTEND;TZID=America/New_York:20260102T183000
DTSTAMP:20260421T091140
CREATED:20251229T195516Z
LAST-MODIFIED:20251229T195516Z
UID:18852-1767378600-1767378600@towerlane.org
SUMMARY:Shabbat
DESCRIPTION:Part of our Spiritual Pathway.\nFriday night and Saturday morning Shabbat services with Ruthie Greenblatt and Sarah Moskowitz.
URL:https://towerlane.org/event/shabbat-85/2026-01-02/
LOCATION:Sanctuary
END:VEVENT
BEGIN:VEVENT
DTSTART;TZID=America/New_York:20260103T100000
DTEND;TZID=America/New_York:20260103T220000
DTSTAMP:20260421T091140
CREATED:20251229T195731Z
LAST-MODIFIED:20251229T195731Z
UID:18858-1767434400-1767477600@towerlane.org
SUMMARY:Shabbat
DESCRIPTION:Part of our Spiritual Pathway.\nFriday night and Saturday morning Shabbat services with Ruthie Greenblatt and Sarah Moskowitz.
URL:https://towerlane.org/event/shabbat-86/2026-01-03/
LOCATION:Sanctuary
END:VEVENT
BEGIN:VEVENT
DTSTART;TZID=America/New_York:20260103T140000
DTEND;TZID=America/New_York:20260103T140000
DTSTAMP:20260421T091140
CREATED:20251229T195913Z
LAST-MODIFIED:20251229T195913Z
UID:18864-1767448800-1767448800@towerlane.org
SUMMARY:Bingo
DESCRIPTION:Part of our Social Pathway.\nThe classic game.
URL:https://towerlane.org/event/bingo-143/2026-01-03/
LOCATION:Sanctuary
END:VEVENT
BEGIN:VEVENT
DTSTART;TZID=America/New_York:20260103T190000
DTEND;TZID=America/New_York:20260103T190000
DTSTAMP:20260421T091140
CREATED:20251229T200029Z
LAST-MODIFIED:20251229T200029Z
UID:18870-1767466800-1767466800@towerlane.org
SUMMARY:Movie Night
DESCRIPTION:
URL:https://towerlane.org/event/movie-night-91/2026-01-03/
LOCATION:Sanctuary
END:VEVENT
BEGIN:VEVENT
DTSTART;TZID=America/New_York:20260104T123000
DTEND;TZID=America/New_York:20260104T123000
DTSTAMP:20260421T091140
CREATED:20251229T200404Z
LAST-MODIFIED:20251229T200404Z
UID:18876-1767529800-1767529800@towerlane.org
SUMMARY:Joy of Drumming
DESCRIPTION:Part of our Physical Pathway. \nParticipants will be led through a warmup then play along to simple rhythmic patterns with classic songs. The numerous benefits of drumming include increased hand-eye coordination\, focus\, mental clarity\, and motor skill. Led by resident volunteer Ruby Benarroch.
URL:https://towerlane.org/event/joy-of-drumming-7/2026-01-04/
LOCATION:Sanctuary
END:VEVENT
BEGIN:VEVENT
DTSTART;TZID=America/New_York:20260104T190000
DTEND;TZID=America/New_York:20260104T190000
DTSTAMP:20260421T091140
CREATED:20251229T200529Z
LAST-MODIFIED:20251229T200529Z
UID:18879-1767553200-1767553200@towerlane.org
SUMMARY:Movie Night
DESCRIPTION:
URL:https://towerlane.org/event/movie-night-92/2026-01-04/
LOCATION:Sanctuary
END:VEVENT
BEGIN:VEVENT
DTSTART;TZID=America/New_York:20260105T100000
DTEND;TZID=America/New_York:20260105T100000
DTSTAMP:20260421T091140
CREATED:20251229T200747Z
LAST-MODIFIED:20251229T200747Z
UID:18884-1767607200-1767607200@towerlane.org
SUMMARY:Coffee Klatch
DESCRIPTION:Part of our Social Pathway.\nWeekly resident social hour.
URL:https://towerlane.org/event/coffee-klatch-41/2026-01-05/
LOCATION:Dining Room
END:VEVENT
BEGIN:VEVENT
DTSTART;TZID=America/New_York:20260105T111500
DTEND;TZID=America/New_York:20260105T111500
DTSTAMP:20260421T091140
CREATED:20251229T201010Z
LAST-MODIFIED:20251229T201010Z
UID:18889-1767611700-1767611700@towerlane.org
SUMMARY:Mindful Art
DESCRIPTION:Part of our Psychological Pathway.\nCounselor Amee Marcantonio utilizes many visual arts techniques to facilitate the creative process. An elevated mood\, improved mental status and better processing of emotions have been reported by participants.
URL:https://towerlane.org/event/mindful-art-12/2026-01-05/
LOCATION:Creativity Studio
END:VEVENT
BEGIN:VEVENT
DTSTART;TZID=America/New_York:20260105T123000
DTEND;TZID=America/New_York:20260105T123000
DTSTAMP:20260421T091140
CREATED:20251229T201234Z
LAST-MODIFIED:20251229T201234Z
UID:18894-1767616200-1767616200@towerlane.org
SUMMARY:Mynd Immersive VR
DESCRIPTION:
URL:https://towerlane.org/event/mynd-immersive-vr-5/2026-01-05/
LOCATION:Creativity Studio
END:VEVENT
BEGIN:VEVENT
DTSTART;TZID=America/New_York:20260105T130000
DTEND;TZID=America/New_York:20260105T130000
DTSTAMP:20260421T091140
CREATED:20251229T201425Z
LAST-MODIFIED:20251229T201425Z
UID:18899-1767618000-1767618000@towerlane.org
SUMMARY:Chair Yoga
DESCRIPTION:Part of our Physical Pathway.\nA lower intensity exercise session performed mostly seated. This is a great option for residents not ready for the frequent standing exercise during a Healthy and Fit session. Led by Yoga/Tai Chi instructor Bil Banick.
URL:https://towerlane.org/event/chair-yoga-38/2026-01-05/
LOCATION:Dining Room
END:VEVENT
BEGIN:VEVENT
DTSTART;TZID=America/New_York:20260105T140000
DTEND;TZID=America/New_York:20260105T140000
DTSTAMP:20260421T091140
CREATED:20251229T201555Z
LAST-MODIFIED:20251229T201555Z
UID:18904-1767621600-1767621600@towerlane.org
SUMMARY:Bingo
DESCRIPTION:Part of our Social Pathway.\nThe classic game.
URL:https://towerlane.org/event/bingo-144/2026-01-05/
LOCATION:Sanctuary
END:VEVENT
BEGIN:VEVENT
DTSTART;TZID=America/New_York:20260105T190000
DTEND;TZID=America/New_York:20260105T190000
DTSTAMP:20260421T091140
CREATED:20251229T201709Z
LAST-MODIFIED:20251229T201709Z
UID:18909-1767639600-1767639600@towerlane.org
SUMMARY:Documentary: "The Last Days of the New Haven Coliseum"
DESCRIPTION:
URL:https://towerlane.org/event/documentary-the-last-days-of-the-new-haven-coliseum/
END:VEVENT
BEGIN:VEVENT
DTSTART;VALUE=DATE:20260106
DTEND;VALUE=DATE:20260107
DTSTAMP:20260421T091140
CREATED:20251229T202249Z
LAST-MODIFIED:20251229T202249Z
UID:18916-1767657600-1767743999@towerlane.org
SUMMARY:Three Kings Day (Epiphany)
DESCRIPTION:
URL:https://towerlane.org/event/three-kings-day-epiphany/
END:VEVENT
BEGIN:VEVENT
DTSTART;TZID=America/New_York:20260106T103000
DTEND;TZID=America/New_York:20260106T103000
DTSTAMP:20260421T091140
CREATED:20251229T202104Z
LAST-MODIFIED:20251229T202104Z
UID:18911-1767695400-1767695400@towerlane.org
SUMMARY:Meet Cody the Therapy Dog
DESCRIPTION:
URL:https://towerlane.org/event/meet-cody-the-therapy-dog/2026-01-06/
LOCATION:Solarium
END:VEVENT
BEGIN:VEVENT
DTSTART;TZID=America/New_York:20260106T104500
DTEND;TZID=America/New_York:20260106T104500
DTSTAMP:20260421T091140
CREATED:20251229T202431Z
LAST-MODIFIED:20251229T202431Z
UID:18918-1767696300-1767696300@towerlane.org
SUMMARY:Create a Word
DESCRIPTION:Part of our Intellectual Pathway.\nPopular resident-led word puzzle game that challenges the mind.
URL:https://towerlane.org/event/create-a-word-47/2026-01-06/
LOCATION:Tower One 19th Floor
END:VEVENT
BEGIN:VEVENT
DTSTART;TZID=America/New_York:20260106T113000
DTEND;TZID=America/New_York:20260106T113000
DTSTAMP:20260421T091140
CREATED:20251229T202800Z
LAST-MODIFIED:20251229T202800Z
UID:18923-1767699000-1767699000@towerlane.org
SUMMARY:30-Minute Exercise
DESCRIPTION:Part of our Physical Pathway.\n\n A shortened\, modified version of our Healthy & Fit. These sessions are typically performed half seated\, half standing\, and can be modified to most ability levels. Practical strategies for minimizing fall risk are discussed.
URL:https://towerlane.org/event/30-minute-exercise-32/2026-01-06/
LOCATION:Sanctuary
END:VEVENT
BEGIN:VEVENT
DTSTART;TZID=America/New_York:20260106T130000
DTEND;TZID=America/New_York:20260106T130000
DTSTAMP:20260421T091140
CREATED:20251229T205444Z
LAST-MODIFIED:20251229T205444Z
UID:18928-1767704400-1767704400@towerlane.org
SUMMARY:Interactive Music
DESCRIPTION:Part of our Psychological Pathway.\nMusic therapy uses several different interventions to promote wellness and manage stress. It encourages communication and expression through musical interaction and it is just a lot of fun!  Led by certified music therapist Tess Sandler.
URL:https://towerlane.org/event/interactive-music-44/2026-01-06/
LOCATION:Dining Room
END:VEVENT
BEGIN:VEVENT
DTSTART;TZID=America/New_York:20260106T140000
DTEND;TZID=America/New_York:20260106T140000
DTSTAMP:20260421T091140
CREATED:20251229T205602Z
LAST-MODIFIED:20251229T205602Z
UID:18933-1767708000-1767708000@towerlane.org
SUMMARY:Dining Meeting
DESCRIPTION:
URL:https://towerlane.org/event/dining-meeting-17/
LOCATION:Dining Room
END:VEVENT
BEGIN:VEVENT
DTSTART;TZID=America/New_York:20260106T150000
DTEND;TZID=America/New_York:20260106T150000
DTSTAMP:20260421T091140
CREATED:20251229T205840Z
LAST-MODIFIED:20251229T205840Z
UID:18935-1767711600-1767711600@towerlane.org
SUMMARY:Yiddish Group
DESCRIPTION:Part of our Social Pathway.\nYiddish phrases are discussed. Words and phrases bring back memories and stimulate discussion. Reminiscing style group. Led by volunteer Michelle Abrams.
URL:https://towerlane.org/event/yiddish-group-11/
LOCATION:Creativity Studio
END:VEVENT
BEGIN:VEVENT
DTSTART;TZID=America/New_York:20260106T190000
DTEND;TZID=America/New_York:20260106T190000
DTSTAMP:20260421T091140
CREATED:20251229T210027Z
LAST-MODIFIED:20251229T210027Z
UID:18937-1767726000-1767726000@towerlane.org
SUMMARY:Video Series: "The Cosmos"
DESCRIPTION:
URL:https://towerlane.org/event/video-series-the-cosmos/
LOCATION:Sanctuary
END:VEVENT
BEGIN:VEVENT
DTSTART;TZID=America/New_York:20260107T104500
DTEND;TZID=America/New_York:20260107T104500
DTSTAMP:20260421T091140
CREATED:20251229T210233Z
LAST-MODIFIED:20251229T210233Z
UID:18939-1767782700-1767782700@towerlane.org
SUMMARY:Chorus Rehearsal
DESCRIPTION:Part of our Psychological Pathway.\nChorus leader Kevin Mack leads weekly rehearsals culminating in themed performances throughout the year. Runs seasonally.
URL:https://towerlane.org/event/chorus-rehearsal-28/2026-01-07/
LOCATION:Sanctuary
END:VEVENT
BEGIN:VEVENT
DTSTART;TZID=America/New_York:20260107T130000
DTEND;TZID=America/New_York:20260107T130000
DTSTAMP:20260421T091140
CREATED:20251229T210410Z
LAST-MODIFIED:20251229T210410Z
UID:18944-1767790800-1767790800@towerlane.org
SUMMARY:Healthy & Fit
DESCRIPTION:Part of our Physical Pathway.\nA full body exercise session that can be scaled to most ability levels. These workouts aim to increase strength and balance\, improve flexibility and overall fitness levels.
URL:https://towerlane.org/event/healthy-fit-71/2026-01-07/
LOCATION:Sanctuary
END:VEVENT
BEGIN:VEVENT
DTSTART;TZID=America/New_York:20260107T140000
DTEND;TZID=America/New_York:20260107T140000
DTSTAMP:20260421T091140
CREATED:20251229T210819Z
LAST-MODIFIED:20251229T210819Z
UID:18949-1767794400-1767794400@towerlane.org
SUMMARY:NEW: Healthy Minds & Living Support Group
DESCRIPTION:Part of our Emotional Pathway. \nThis group intends to empower older adults and help them evolve through learning new skills\, coping strategies\, and lifestyle tips. A different topic is discussed each week. Led by MSW-LMSW Grace Ford.
URL:https://towerlane.org/event/new-healthy-minds-living-support-group/2026-01-07/
LOCATION:Sanctuary
END:VEVENT
BEGIN:VEVENT
DTSTART;TZID=America/New_York:20260108T103000
DTEND;TZID=America/New_York:20260108T103000
DTSTAMP:20260421T091140
CREATED:20251229T211238Z
LAST-MODIFIED:20251229T211238Z
UID:18954-1767868200-1767868200@towerlane.org
SUMMARY:30-Minute Exercise
DESCRIPTION:Part of our Physical Pathway.\n\nA shortened\, modified version of our Healthy & Fit. These sessions are typically performed half seated\, half standing\, and can be modified to most ability levels. Practical strategies for minimizing fall risk are discussed.
URL:https://towerlane.org/event/30-minute-exercise-33/2026-01-08/
LOCATION:Sanctuary
END:VEVENT
END:VCALENDAR