BEGIN:VCALENDAR
VERSION:2.0
PRODID:-//The Towers - ECPv6.10.3//NONSGML v1.0//EN
CALSCALE:GREGORIAN
METHOD:PUBLISH
X-ORIGINAL-URL:https://towerlane.org
X-WR-CALDESC:Events for The Towers
REFRESH-INTERVAL;VALUE=DURATION:PT1H
X-Robots-Tag:noindex
X-PUBLISHED-TTL:PT1H
BEGIN:VTIMEZONE
TZID:America/New_York
BEGIN:DAYLIGHT
TZOFFSETFROM:-0500
TZOFFSETTO:-0400
TZNAME:EDT
DTSTART:20260308T070000
END:DAYLIGHT
BEGIN:STANDARD
TZOFFSETFROM:-0400
TZOFFSETTO:-0500
TZNAME:EST
DTSTART:20261101T060000
END:STANDARD
END:VTIMEZONE
BEGIN:VEVENT
DTSTART;VALUE=DATE:20260201
DTEND;VALUE=DATE:20260202
DTSTAMP:20260421T073947
CREATED:20260129T202211Z
LAST-MODIFIED:20260129T202211Z
UID:19302-1769904000-1769990399@towerlane.org
SUMMARY:Black History Month
DESCRIPTION:
URL:https://towerlane.org/event/black-history-month-2/
END:VEVENT
BEGIN:VEVENT
DTSTART;VALUE=DATE:20260201
DTEND;VALUE=DATE:20260202
DTSTAMP:20260421T073947
CREATED:20260129T202306Z
LAST-MODIFIED:20260129T202306Z
UID:19304-1769904000-1769990399@towerlane.org
SUMMARY:Tu Bishvat
DESCRIPTION:
URL:https://towerlane.org/event/tu-bishvat/
END:VEVENT
BEGIN:VEVENT
DTSTART;TZID=America/New_York:20260201T113000
DTEND;TZID=America/New_York:20260201T113000
DTSTAMP:20260421T073947
CREATED:20260129T195413Z
LAST-MODIFIED:20260129T204836Z
UID:19295-1769945400-1769945400@towerlane.org
SUMMARY:The Joy of Drumming
DESCRIPTION:Part of our Physical Pathway. \nParticipants will be led through a warmup then play along to simple rhythmic patterns with classic songs. The numerous benefits of drumming include increased hand-eye coordination\, focus\, mental clarity\, and motor skill. Led by resident volunteer Ruby Benarroch.
URL:https://towerlane.org/event/19295/2026-02-01/
LOCATION:Sanctuary
END:VEVENT
BEGIN:VEVENT
DTSTART;TZID=America/New_York:20260201T190000
DTEND;TZID=America/New_York:20260201T190000
DTSTAMP:20260421T073947
CREATED:20260129T195538Z
LAST-MODIFIED:20260129T195538Z
UID:19298-1769972400-1769972400@towerlane.org
SUMMARY:Movie Night
DESCRIPTION:
URL:https://towerlane.org/event/movie-night-93/2026-02-01/
LOCATION:Sanctuary
END:VEVENT
BEGIN:VEVENT
DTSTART;TZID=America/New_York:20260202T100000
DTEND;TZID=America/New_York:20260202T100000
DTSTAMP:20260421T073947
CREATED:20260129T202517Z
LAST-MODIFIED:20260129T202517Z
UID:19306-1770026400-1770026400@towerlane.org
SUMMARY:Coffee Klatch
DESCRIPTION:Part of our Social Pathway.\nWeekly resident social hour
URL:https://towerlane.org/event/coffee-klatch-42/2026-02-02/
LOCATION:Dining Room
END:VEVENT
BEGIN:VEVENT
DTSTART;TZID=America/New_York:20260202T111500
DTEND;TZID=America/New_York:20260202T111500
DTSTAMP:20260421T073947
CREATED:20260129T202816Z
LAST-MODIFIED:20260129T202816Z
UID:19311-1770030900-1770030900@towerlane.org
SUMMARY:Mindful Art
DESCRIPTION:Part of our Psychological Pathway.\nCounselor Amee Marcantonio utilizes many visual arts techniques to facilitate the creative process. An elevated mood\, improved mental status and better processing of emotions have been reported by participants.
URL:https://towerlane.org/event/mindful-art-13/2026-02-02/
LOCATION:Creativity Studio
END:VEVENT
BEGIN:VEVENT
DTSTART;TZID=America/New_York:20260202T123000
DTEND;TZID=America/New_York:20260202T123000
DTSTAMP:20260421T073947
CREATED:20260129T203053Z
LAST-MODIFIED:20260129T203053Z
UID:19316-1770035400-1770035400@towerlane.org
SUMMARY:Mynd Immersive VR
DESCRIPTION:
URL:https://towerlane.org/event/mynd-immersive-vr-6/2026-02-02/
LOCATION:Creativity Studio
END:VEVENT
BEGIN:VEVENT
DTSTART;TZID=America/New_York:20260202T130000
DTEND;TZID=America/New_York:20260202T130000
DTSTAMP:20260421T073947
CREATED:20260129T203244Z
LAST-MODIFIED:20260129T203244Z
UID:19319-1770037200-1770037200@towerlane.org
SUMMARY:Chair Yoga
DESCRIPTION:Part of our Physical Pathway.\nA lower intensity exercise session performed mostly seated. This is a great option for residents not ready for the frequent standing exercise during a Healthy and Fit session. Led by Yoga/Tai Chi instructor Bil Banick.
URL:https://towerlane.org/event/chair-yoga-39/2026-02-02/
LOCATION:Dining Room
END:VEVENT
BEGIN:VEVENT
DTSTART;TZID=America/New_York:20260202T140000
DTEND;TZID=America/New_York:20260202T140000
DTSTAMP:20260421T073947
CREATED:20260129T203453Z
LAST-MODIFIED:20260129T203453Z
UID:19324-1770040800-1770040800@towerlane.org
SUMMARY:Bingo
DESCRIPTION:Part of our Social Pathway.\nThe classic game.
URL:https://towerlane.org/event/bingo-145/2026-02-02/
LOCATION:Sanctuary
END:VEVENT
BEGIN:VEVENT
DTSTART;TZID=America/New_York:20260202T190000
DTEND;TZID=America/New_York:20260202T190000
DTSTAMP:20260421T073947
CREATED:20260129T203757Z
LAST-MODIFIED:20260129T203757Z
UID:19329-1770058800-1770058800@towerlane.org
SUMMARY:Welcome Dr. David Chevan & The Afro-Semitic Experience
DESCRIPTION:Part of our Social Pathway.\nConcerts\, themed game nights\, trivia and more scheduled throughout the month.
URL:https://towerlane.org/event/welcome-dr-david-chevan-the-afro-semitic-experience/
LOCATION:Sanctuary
END:VEVENT
BEGIN:VEVENT
DTSTART;TZID=America/New_York:20260203T103000
DTEND;TZID=America/New_York:20260203T103000
DTSTAMP:20260421T073947
CREATED:20260129T203939Z
LAST-MODIFIED:20260129T203939Z
UID:19331-1770114600-1770114600@towerlane.org
SUMMARY:Meet Cody the Therapy Dog
DESCRIPTION:
URL:https://towerlane.org/event/meet-cody-the-therapy-dog-2/2026-02-03/
LOCATION:Solarium
END:VEVENT
BEGIN:VEVENT
DTSTART;TZID=America/New_York:20260203T104500
DTEND;TZID=America/New_York:20260203T104500
DTSTAMP:20260421T073947
CREATED:20260129T204509Z
LAST-MODIFIED:20260129T204509Z
UID:19336-1770115500-1770115500@towerlane.org
SUMMARY:Create a Word
DESCRIPTION:Part of our Intellectual Pathway.\nPopular resident-led word puzzle game that challenges the mind.
URL:https://towerlane.org/event/create-a-word-48/2026-02-03/
LOCATION:Tower One 19th Floor
END:VEVENT
BEGIN:VEVENT
DTSTART;TZID=America/New_York:20260203T113000
DTEND;TZID=America/New_York:20260203T113000
DTSTAMP:20260421T073947
CREATED:20260129T205053Z
LAST-MODIFIED:20260129T205053Z
UID:19343-1770118200-1770118200@towerlane.org
SUMMARY:30-Minute Exercise
DESCRIPTION:Part of our Physical Pathway.\n\n A shortened\, modified version of our Healthy & Fit. These sessions are typically performed half seated\, half standing\, and can be modified to most ability levels. Practical strategies for minimizing fall risk are discussed.
URL:https://towerlane.org/event/30-minute-exercise-34/2026-02-03/
LOCATION:Sanctuary
END:VEVENT
BEGIN:VEVENT
DTSTART;TZID=America/New_York:20260203T130000
DTEND;TZID=America/New_York:20260203T130000
DTSTAMP:20260421T073947
CREATED:20260129T205232Z
LAST-MODIFIED:20260129T205232Z
UID:19348-1770123600-1770123600@towerlane.org
SUMMARY:Interactive Music
DESCRIPTION:Part of our Psychological Pathway.\nMusic therapy uses several different interventions to promote wellness and manage stress. It encourages communication and expression through musical interaction and it is just a lot of fun!  Led by certified music therapist Tess Sandler.
URL:https://towerlane.org/event/interactive-music-45/2026-02-03/
LOCATION:Dining Room
END:VEVENT
BEGIN:VEVENT
DTSTART;TZID=America/New_York:20260203T140000
DTEND;TZID=America/New_York:20260203T140000
DTSTAMP:20260421T073947
CREATED:20260129T205331Z
LAST-MODIFIED:20260129T205331Z
UID:19353-1770127200-1770127200@towerlane.org
SUMMARY:Dining Meeting
DESCRIPTION:
URL:https://towerlane.org/event/dining-meeting-18/
LOCATION:Dining Room
END:VEVENT
BEGIN:VEVENT
DTSTART;TZID=America/New_York:20260203T190000
DTEND;TZID=America/New_York:20260203T190000
DTSTAMP:20260421T073947
CREATED:20260129T205521Z
LAST-MODIFIED:20260129T205632Z
UID:19355-1770145200-1770145200@towerlane.org
SUMMARY:Documentary: "1964: The Fight for a Right to Vote"
DESCRIPTION:
URL:https://towerlane.org/event/documentary-1964-the-fight-for-the-right-to-vote/
LOCATION:Sanctuary
END:VEVENT
BEGIN:VEVENT
DTSTART;TZID=America/New_York:20260204T104500
DTEND;TZID=America/New_York:20260204T104500
DTSTAMP:20260421T073947
CREATED:20260129T205832Z
LAST-MODIFIED:20260129T205832Z
UID:19358-1770201900-1770201900@towerlane.org
SUMMARY:Chorus Rehearsal
DESCRIPTION:Part of our Psychological Pathway.\nChorus leader Kevin Mack leads weekly rehearsals culminating in themed performances throughout the year. Runs seasonally.
URL:https://towerlane.org/event/chorus-rehearsal-29/2026-02-04/
LOCATION:Sanctuary
END:VEVENT
BEGIN:VEVENT
DTSTART;TZID=America/New_York:20260204T130000
DTEND;TZID=America/New_York:20260204T130000
DTSTAMP:20260421T073947
CREATED:20260129T210006Z
LAST-MODIFIED:20260129T210006Z
UID:19363-1770210000-1770210000@towerlane.org
SUMMARY:Healthy & Fit
DESCRIPTION:Part of our Physical Pathway.\nA full body exercise session that can be scaled to most ability levels. These workouts aim to increase strength and balance\, improve flexibility and overall fitness levels.
URL:https://towerlane.org/event/healthy-fit-72/2026-02-04/
LOCATION:Sanctuary
END:VEVENT
BEGIN:VEVENT
DTSTART;TZID=America/New_York:20260204T140000
DTEND;TZID=America/New_York:20260204T140000
DTSTAMP:20260421T073947
CREATED:20260129T210313Z
LAST-MODIFIED:20260129T210313Z
UID:19368-1770213600-1770213600@towerlane.org
SUMMARY:Healthy Minds & Living Support Group
DESCRIPTION:Part of our Emotional Pathway. \nThis group intends to empower older adults and help them evolve through learning new skills\, coping strategies\, and lifestyle tips. A different topic is discussed each week. Led by MSW-LMSW Grace Ford.
URL:https://towerlane.org/event/healthy-minds-living-support-group/2026-02-04/
LOCATION:Sanctuary
END:VEVENT
BEGIN:VEVENT
DTSTART;TZID=America/New_York:20260204T190000
DTEND;TZID=America/New_York:20260204T190000
DTSTAMP:20260421T073947
CREATED:20260129T210437Z
LAST-MODIFIED:20260129T210437Z
UID:19372-1770231600-1770231600@towerlane.org
SUMMARY:NEW: Applied Civics Series with Victor and Steve
DESCRIPTION:
URL:https://towerlane.org/event/new-applied-civics-series-with-victor-and-steve/
LOCATION:Sanctuary
END:VEVENT
BEGIN:VEVENT
DTSTART;TZID=America/New_York:20260205T103000
DTEND;TZID=America/New_York:20260205T103000
DTSTAMP:20260421T073947
CREATED:20260129T211002Z
LAST-MODIFIED:20260129T211002Z
UID:19374-1770287400-1770287400@towerlane.org
SUMMARY:30-Minute Exercise
DESCRIPTION:Part of our Physical Pathway.\n\nA shortened\, modified version of our Healthy & Fit. These sessions are typically performed half seated\, half standing\, and can be modified to most ability levels. Practical strategies for minimizing fall risk are discussed.
URL:https://towerlane.org/event/30-minute-exercise-35/2026-02-05/
LOCATION:Sanctuary
END:VEVENT
BEGIN:VEVENT
DTSTART;TZID=America/New_York:20260205T111500
DTEND;TZID=America/New_York:20260205T111500
DTSTAMP:20260421T073947
CREATED:20260129T211216Z
LAST-MODIFIED:20260129T211216Z
UID:19378-1770290100-1770290100@towerlane.org
SUMMARY:NEW: Brain Boosters
DESCRIPTION:Part of our Intellectual Pathway.\nA lively\, game-based cognitive program that keeps the mind active through puzzles and creative challenges. Designed for fun\, flexibility\, and fast-paced brain stimulation.
URL:https://towerlane.org/event/new-brain-boosters/2026-02-05/
LOCATION:Sanctuary
END:VEVENT
BEGIN:VEVENT
DTSTART;TZID=America/New_York:20260205T130000
DTEND;TZID=America/New_York:20260205T130000
DTSTAMP:20260421T073947
CREATED:20260129T211413Z
LAST-MODIFIED:20260129T211413Z
UID:19382-1770296400-1770296400@towerlane.org
SUMMARY:Catholic Service
DESCRIPTION:Part of our Spiritual Pathway.\nTwice per month Catholic service with Father Ryan Lerner.
URL:https://towerlane.org/event/catholic-service/
LOCATION:Sanctuary
END:VEVENT
BEGIN:VEVENT
DTSTART;TZID=America/New_York:20260205T140000
DTEND;TZID=America/New_York:20260205T140000
DTSTAMP:20260421T073947
CREATED:20260129T211654Z
LAST-MODIFIED:20260129T211654Z
UID:19384-1770300000-1770300000@towerlane.org
SUMMARY:Art Project with Betsy Karp
DESCRIPTION:
URL:https://towerlane.org/event/art-project-with-betsy-karp-3/
LOCATION:Creativity Studio
END:VEVENT
BEGIN:VEVENT
DTSTART;TZID=America/New_York:20260205T150000
DTEND;TZID=America/New_York:20260205T150000
DTSTAMP:20260421T073947
CREATED:20260129T211806Z
LAST-MODIFIED:20260129T211806Z
UID:19386-1770303600-1770303600@towerlane.org
SUMMARY:Book Club Meeting
DESCRIPTION:Part of our Intellectual Pathway.\nMeets once a month to discuss a chosen book\, which we borrow from local library.
URL:https://towerlane.org/event/book-club-meeting-30/
LOCATION:Creativity Studio
END:VEVENT
BEGIN:VEVENT
DTSTART;TZID=America/New_York:20260206T100000
DTEND;TZID=America/New_York:20260206T100000
DTSTAMP:20260421T073947
CREATED:20260129T211952Z
LAST-MODIFIED:20260129T211952Z
UID:19388-1770372000-1770372000@towerlane.org
SUMMARY:Interfaith Bible Study
DESCRIPTION:Part of our Spiritual Pathway.\nDiscuss selected passages from the Old and New Testaments.
URL:https://towerlane.org/event/interfaith-bible-study-15/2026-02-06/
LOCATION:Koral Conference Room
END:VEVENT
BEGIN:VEVENT
DTSTART;TZID=America/New_York:20260206T110000
DTEND;TZID=America/New_York:20260206T110000
DTSTAMP:20260421T073947
CREATED:20260129T212138Z
LAST-MODIFIED:20260129T212138Z
UID:19393-1770375600-1770375600@towerlane.org
SUMMARY:Knitting Group
DESCRIPTION:Part of our Intellectual Pathway.\nMeets weekly to knit or crochet blankets for community donation.
URL:https://towerlane.org/event/knitting-group-79/2026-02-06/
LOCATION:Solarium
END:VEVENT
BEGIN:VEVENT
DTSTART;TZID=America/New_York:20260206T110000
DTEND;TZID=America/New_York:20260206T110000
DTSTAMP:20260421T073947
CREATED:20260129T212333Z
LAST-MODIFIED:20260129T212333Z
UID:19398-1770375600-1770375600@towerlane.org
SUMMARY:All About You
DESCRIPTION:Part of our Psychological Pathway.\nSenior advocate Bernadette DiGiulian leads a discussion that focuses on personal histories. Residents share various aspects of their lives in an intimate group setting.
URL:https://towerlane.org/event/all-about-you-49/2026-02-06/
LOCATION:Tower One 19th Floor
END:VEVENT
BEGIN:VEVENT
DTSTART;TZID=America/New_York:20260206T110000
DTEND;TZID=America/New_York:20260206T110000
DTSTAMP:20260421T073947
CREATED:20260129T212536Z
LAST-MODIFIED:20260129T212536Z
UID:19401-1770375600-1770375600@towerlane.org
SUMMARY:Hopkins Students Visit
DESCRIPTION:Part of our Social Pathway.\nIntergenerational meetings with local students.
URL:https://towerlane.org/event/hopkins-students-visit-12/2026-02-06/
LOCATION:Creativity Studio
END:VEVENT
BEGIN:VEVENT
DTSTART;TZID=America/New_York:20260206T130000
DTEND;TZID=America/New_York:20260206T130000
DTSTAMP:20260421T073947
CREATED:20260129T212745Z
LAST-MODIFIED:20260129T212745Z
UID:19404-1770382800-1770382800@towerlane.org
SUMMARY:Tai Chi
DESCRIPTION:Part of our Physical Pathway. \nOffers an enhancement of traditional Tai Ji Quan by transforming the movements into therapeutic training for balance and mobility. Evidence –based program recommended by the National Council on Aging. Led by TJQ certified instructor\, Bill Banick.
URL:https://towerlane.org/event/tai-chi-43/2026-02-06/
LOCATION:Dining Room
END:VEVENT
END:VCALENDAR