BEGIN:VCALENDAR
VERSION:2.0
PRODID:-//The Towers - ECPv6.10.3//NONSGML v1.0//EN
CALSCALE:GREGORIAN
METHOD:PUBLISH
X-ORIGINAL-URL:https://towerlane.org
X-WR-CALDESC:Events for The Towers
REFRESH-INTERVAL;VALUE=DURATION:PT1H
X-Robots-Tag:noindex
X-PUBLISHED-TTL:PT1H
BEGIN:VTIMEZONE
TZID:America/New_York
BEGIN:DAYLIGHT
TZOFFSETFROM:-0500
TZOFFSETTO:-0400
TZNAME:EDT
DTSTART:20250309T070000
END:DAYLIGHT
BEGIN:STANDARD
TZOFFSETFROM:-0400
TZOFFSETTO:-0500
TZNAME:EST
DTSTART:20251102T060000
END:STANDARD
END:VTIMEZONE
BEGIN:VEVENT
DTSTART;TZID=America/New_York:20250718T130000
DTEND;TZID=America/New_York:20250718T130000
DTSTAMP:20260420T094253
CREATED:20250701T163955Z
LAST-MODIFIED:20250701T163955Z
UID:17278-1752843600-1752843600@towerlane.org
SUMMARY:Tai Chi
DESCRIPTION:Part of our Physical Pathway\nOffers an enhancement of traditional Tai Ji Quan by transforming the movements into therapeutic training for balance and mobility. Evidence –based program recommended by the National Council on Aging. Led by TJQ certified instructor\, Bill Banick.
URL:https://towerlane.org/event/tai-chi-35/2025-07-18/
LOCATION:Dining Room
END:VEVENT
BEGIN:VEVENT
DTSTART;TZID=America/New_York:20250717T130000
DTEND;TZID=America/New_York:20250717T140000
DTSTAMP:20260420T094253
CREATED:20250701T170115Z
LAST-MODIFIED:20250701T170115Z
UID:17309-1752757200-1752760800@towerlane.org
SUMMARY:Mandatory Fire Safety Training for Tower One
DESCRIPTION:
URL:https://towerlane.org/event/mandatory-fire-safety-training-for-tower-one/
LOCATION:Dining Room
END:VEVENT
BEGIN:VEVENT
DTSTART;TZID=America/New_York:20250717T113000
DTEND;TZID=America/New_York:20250717T123000
DTSTAMP:20260420T094253
CREATED:20250701T170020Z
LAST-MODIFIED:20250701T170020Z
UID:17307-1752751800-1752755400@towerlane.org
SUMMARY:Mandatory Fire Safety Training for Tower East
DESCRIPTION:
URL:https://towerlane.org/event/mandatory-fire-safety-training-for-tower-east/
LOCATION:Dining Room
END:VEVENT
BEGIN:VEVENT
DTSTART;TZID=America/New_York:20250715T140000
DTEND;TZID=America/New_York:20250715T140000
DTSTAMP:20260420T094253
CREATED:20250701T165322Z
LAST-MODIFIED:20250701T165322Z
UID:17297-1752588000-1752588000@towerlane.org
SUMMARY:Morrison Food Talk
DESCRIPTION:Part of our Intellectual Pathway\nFood service provider Morrison. Monthly food sampling. Can feature a special ingredient or have a holiday theme.
URL:https://towerlane.org/event/morrison-food-talk/
LOCATION:Dining Room
END:VEVENT
BEGIN:VEVENT
DTSTART;TZID=America/New_York:20250715T130000
DTEND;TZID=America/New_York:20250715T130000
DTSTAMP:20260420T094253
CREATED:20250701T143815Z
LAST-MODIFIED:20250701T143815Z
UID:17164-1752584400-1752584400@towerlane.org
SUMMARY:Interactive Music
DESCRIPTION:Part of our Psychological Pathway\nMusic therapy uses several different interventions to promote wellness and manage stress. It encourages communication and expression through musical interaction and it is just a lot of fun!  Led by certified music therapist Tess Sandler.
URL:https://towerlane.org/event/interactive-music-38/2025-07-15/
LOCATION:Dining Room
END:VEVENT
BEGIN:VEVENT
DTSTART;TZID=America/New_York:20250714T130000
DTEND;TZID=America/New_York:20250714T130000
DTSTAMP:20260420T094253
CREATED:20250701T151554Z
LAST-MODIFIED:20250701T151554Z
UID:17238-1752498000-1752498000@towerlane.org
SUMMARY:Chair Yoga
DESCRIPTION:Part of our Physical Pathway \nA lower intensity exercise session performed mostly seated. This is a great option for residents not ready for the frequent standing exercise during a Healthy and Fit session. Led by Yoga/Tai Chi instructor Bil Banick.
URL:https://towerlane.org/event/chair-yoga-30/2025-07-14/
LOCATION:Dining Room
END:VEVENT
BEGIN:VEVENT
DTSTART;TZID=America/New_York:20250714T100000
DTEND;TZID=America/New_York:20250714T100000
DTSTAMP:20260420T094253
CREATED:20250701T151400Z
LAST-MODIFIED:20250701T151400Z
UID:17233-1752487200-1752487200@towerlane.org
SUMMARY:Coffee Klatch
DESCRIPTION:Part of our Social Pathway\nWeekly resident social hour.
URL:https://towerlane.org/event/coffee-klatch-35/2025-07-14/
LOCATION:Dining Room
END:VEVENT
BEGIN:VEVENT
DTSTART;TZID=America/New_York:20250712T153000
DTEND;TZID=America/New_York:20250712T153000
DTSTAMP:20260420T094253
CREATED:20250701T164359Z
LAST-MODIFIED:20250701T164359Z
UID:17285-1752334200-1752334200@towerlane.org
SUMMARY:Christian Worship Service
DESCRIPTION:Part of our Spiritual Pathway \nTwice per month Non-denominational Christian service with Pastor Joel Lynch.
URL:https://towerlane.org/event/christian-worship-service-54/2025-07-12/
LOCATION:Dining Room
END:VEVENT
BEGIN:VEVENT
DTSTART;TZID=America/New_York:20250711T130000
DTEND;TZID=America/New_York:20250711T130000
DTSTAMP:20260420T094253
CREATED:20250701T163955Z
LAST-MODIFIED:20250701T163955Z
UID:17277-1752238800-1752238800@towerlane.org
SUMMARY:Tai Chi
DESCRIPTION:Part of our Physical Pathway\nOffers an enhancement of traditional Tai Ji Quan by transforming the movements into therapeutic training for balance and mobility. Evidence –based program recommended by the National Council on Aging. Led by TJQ certified instructor\, Bill Banick.
URL:https://towerlane.org/event/tai-chi-35/2025-07-11/
LOCATION:Dining Room
END:VEVENT
BEGIN:VEVENT
DTSTART;TZID=America/New_York:20250710T140000
DTEND;TZID=America/New_York:20250710T140000
DTSTAMP:20260420T094253
CREATED:20250701T163145Z
LAST-MODIFIED:20250701T163145Z
UID:17265-1752156000-1752156000@towerlane.org
SUMMARY:Sing Along with Richard Gans
DESCRIPTION:Part of our Social Pathway\nGreat alternative for people who don’t want the formality or commitment of the chorus but love to sing! Pianist Richard Gans leads the group in singing classic songs.
URL:https://towerlane.org/event/sing-along-with-richard-gans-21/
LOCATION:Dining Room
END:VEVENT
BEGIN:VEVENT
DTSTART;TZID=America/New_York:20250708T130000
DTEND;TZID=America/New_York:20250708T130000
DTSTAMP:20260420T094253
CREATED:20250701T143815Z
LAST-MODIFIED:20250701T143815Z
UID:17163-1751979600-1751979600@towerlane.org
SUMMARY:Interactive Music
DESCRIPTION:Part of our Psychological Pathway\nMusic therapy uses several different interventions to promote wellness and manage stress. It encourages communication and expression through musical interaction and it is just a lot of fun!  Led by certified music therapist Tess Sandler.
URL:https://towerlane.org/event/interactive-music-38/2025-07-08/
LOCATION:Dining Room
END:VEVENT
BEGIN:VEVENT
DTSTART;TZID=America/New_York:20250707T130000
DTEND;TZID=America/New_York:20250707T130000
DTSTAMP:20260420T094253
CREATED:20250701T151554Z
LAST-MODIFIED:20250701T151554Z
UID:17237-1751893200-1751893200@towerlane.org
SUMMARY:Chair Yoga
DESCRIPTION:Part of our Physical Pathway \nA lower intensity exercise session performed mostly seated. This is a great option for residents not ready for the frequent standing exercise during a Healthy and Fit session. Led by Yoga/Tai Chi instructor Bil Banick.
URL:https://towerlane.org/event/chair-yoga-30/2025-07-07/
LOCATION:Dining Room
END:VEVENT
BEGIN:VEVENT
DTSTART;TZID=America/New_York:20250707T100000
DTEND;TZID=America/New_York:20250707T100000
DTSTAMP:20260420T094253
CREATED:20250701T151400Z
LAST-MODIFIED:20250701T151400Z
UID:17232-1751882400-1751882400@towerlane.org
SUMMARY:Coffee Klatch
DESCRIPTION:Part of our Social Pathway\nWeekly resident social hour.
URL:https://towerlane.org/event/coffee-klatch-35/2025-07-07/
LOCATION:Dining Room
END:VEVENT
BEGIN:VEVENT
DTSTART;TZID=America/New_York:20250703T174500
DTEND;TZID=America/New_York:20250703T174500
DTSTAMP:20260420T094253
CREATED:20250701T150145Z
LAST-MODIFIED:20250701T150145Z
UID:17203-1751564700-1751564700@towerlane.org
SUMMARY:Pianist Larry Batter
DESCRIPTION:Part of our Social Pathway \nConcerts\, themed game nights\, trivia and more scheduled throughout the month.
URL:https://towerlane.org/event/pianist-larry-batter-4/
LOCATION:Dining Room
END:VEVENT
BEGIN:VEVENT
DTSTART;TZID=America/New_York:20250703T113000
DTEND;TZID=America/New_York:20250703T113000
DTSTAMP:20260420T094253
CREATED:20250701T145431Z
LAST-MODIFIED:20250701T145431Z
UID:17194-1751542200-1751542200@towerlane.org
SUMMARY:Mindfulness & Movement
DESCRIPTION:Part of our Psychological Pathway\nConnect with your body and de-stress through meditation\, light body movements\, chanting\, and breathing exercises.  Led by wellness coach Stacey Battat.
URL:https://towerlane.org/event/mindfulness-movement-30/
LOCATION:Dining Room
END:VEVENT
BEGIN:VEVENT
DTSTART;TZID=America/New_York:20250701T140000
DTEND;TZID=America/New_York:20250701T140000
DTSTAMP:20260420T094253
CREATED:20250701T143921Z
LAST-MODIFIED:20250701T143921Z
UID:17168-1751378400-1751378400@towerlane.org
SUMMARY:Dining Meeting
DESCRIPTION:
URL:https://towerlane.org/event/dining-meeting-13/
LOCATION:Dining Room
END:VEVENT
BEGIN:VEVENT
DTSTART;TZID=America/New_York:20250701T130000
DTEND;TZID=America/New_York:20250701T130000
DTSTAMP:20260420T094253
CREATED:20250701T143815Z
LAST-MODIFIED:20250701T143815Z
UID:17162-1751374800-1751374800@towerlane.org
SUMMARY:Interactive Music
DESCRIPTION:Part of our Psychological Pathway\nMusic therapy uses several different interventions to promote wellness and manage stress. It encourages communication and expression through musical interaction and it is just a lot of fun!  Led by certified music therapist Tess Sandler.
URL:https://towerlane.org/event/interactive-music-38/2025-07-01/
LOCATION:Dining Room
END:VEVENT
BEGIN:VEVENT
DTSTART;TZID=America/New_York:20250630T130000
DTEND;TZID=America/New_York:20250630T130000
DTSTAMP:20260420T094253
CREATED:20250601T173013Z
LAST-MODIFIED:20250601T173013Z
UID:16932-1751288400-1751288400@towerlane.org
SUMMARY:Chair Yoga
DESCRIPTION:Part of our Physical Pathway\nA lower intensity exercise session performed mostly seated. This is a great option for residents not ready for the frequent standing exercise during a Healthy and Fit session. Led by Yoga/Tai Chi instructor Bil Banick
URL:https://towerlane.org/event/chair-yoga-29/2025-06-30/
LOCATION:Dining Room
END:VEVENT
BEGIN:VEVENT
DTSTART;TZID=America/New_York:20250630T100000
DTEND;TZID=America/New_York:20250630T100000
DTSTAMP:20260420T094254
CREATED:20250530T201951Z
LAST-MODIFIED:20250530T201951Z
UID:16919-1751277600-1751277600@towerlane.org
SUMMARY:Coffee Klatch
DESCRIPTION:Part of our Social Pathway\, Weekly resident social hour
URL:https://towerlane.org/event/coffee-klatch-34/2025-06-30/
LOCATION:Dining Room
END:VEVENT
BEGIN:VEVENT
DTSTART;TZID=America/New_York:20250627T130000
DTEND;TZID=America/New_York:20250627T130000
DTSTAMP:20260420T094254
CREATED:20250601T183155Z
LAST-MODIFIED:20250604T194106Z
UID:16999-1751029200-1751029200@towerlane.org
SUMMARY:Tai Chi
DESCRIPTION:Part of our Physical Pathway \nOffers an enhancement of traditional Tai Ji Quan by transforming the movements into therapeutic training for balance and mobility. Evidence-based program recommended by the National Council on Aging. Led by TJQ certified instructor\, Bill Banick.
URL:https://towerlane.org/event/tai-chi-34/2025-06-27/
LOCATION:Dining Room
END:VEVENT
BEGIN:VEVENT
DTSTART;TZID=America/New_York:20250626T190000
DTEND;TZID=America/New_York:20250626T190000
DTSTAMP:20260420T094254
CREATED:20250601T212056Z
LAST-MODIFIED:20250601T212056Z
UID:17116-1750964400-1750964400@towerlane.org
SUMMARY:Welcome Charles "Piano Man" Thomas
DESCRIPTION:
URL:https://towerlane.org/event/welcome-charles-piano-man-thomas-4/
LOCATION:Dining Room
END:VEVENT
BEGIN:VEVENT
DTSTART;TZID=America/New_York:20250624T130000
DTEND;TZID=America/New_York:20250624T130000
DTSTAMP:20260420T094254
CREATED:20250601T174457Z
LAST-MODIFIED:20250601T174457Z
UID:16955-1750770000-1750770000@towerlane.org
SUMMARY:Interactive Music
DESCRIPTION:Part of our Psychological Pathway\nMusic therapy uses several different interventions to promote wellness and manage stress. It encourages communication and expression through musical interaction and it is just a lot of fun!  Led by certified music therapist Tess Sandler.
URL:https://towerlane.org/event/interactive-music-37/2025-06-24/
LOCATION:Dining Room
END:VEVENT
BEGIN:VEVENT
DTSTART;TZID=America/New_York:20250623T133000
DTEND;TZID=America/New_York:20250623T133000
DTSTAMP:20260420T094254
CREATED:20250601T211217Z
LAST-MODIFIED:20250601T211217Z
UID:17101-1750685400-1750685400@towerlane.org
SUMMARY:Towers Ice Cream Social
DESCRIPTION:
URL:https://towerlane.org/event/towers-ice-cream-social-2/
LOCATION:Dining Room
END:VEVENT
BEGIN:VEVENT
DTSTART;TZID=America/New_York:20250623T100000
DTEND;TZID=America/New_York:20250623T100000
DTSTAMP:20260420T094254
CREATED:20250530T201951Z
LAST-MODIFIED:20250530T201951Z
UID:16918-1750672800-1750672800@towerlane.org
SUMMARY:Coffee Klatch
DESCRIPTION:Part of our Social Pathway\, Weekly resident social hour
URL:https://towerlane.org/event/coffee-klatch-34/2025-06-23/
LOCATION:Dining Room
END:VEVENT
BEGIN:VEVENT
DTSTART;TZID=America/New_York:20250621T153000
DTEND;TZID=America/New_York:20250621T153000
DTSTAMP:20260420T094254
CREATED:20250601T210943Z
LAST-MODIFIED:20250601T210943Z
UID:17097-1750519800-1750519800@towerlane.org
SUMMARY:Christian Worship Service
DESCRIPTION:Part of our Spiritual Pathway \nTwice per month Non-denominational Christian service with Pastor Joel Lynch.
URL:https://towerlane.org/event/christian-worship-service-53/
LOCATION:Dining Room
END:VEVENT
BEGIN:VEVENT
DTSTART;TZID=America/New_York:20250620T130000
DTEND;TZID=America/New_York:20250620T130000
DTSTAMP:20260420T094254
CREATED:20250601T183155Z
LAST-MODIFIED:20250604T194106Z
UID:16998-1750424400-1750424400@towerlane.org
SUMMARY:Tai Chi
DESCRIPTION:Part of our Physical Pathway \nOffers an enhancement of traditional Tai Ji Quan by transforming the movements into therapeutic training for balance and mobility. Evidence-based program recommended by the National Council on Aging. Led by TJQ certified instructor\, Bill Banick.
URL:https://towerlane.org/event/tai-chi-34/2025-06-20/
LOCATION:Dining Room
END:VEVENT
BEGIN:VEVENT
DTSTART;TZID=America/New_York:20250619T130000
DTEND;TZID=America/New_York:20250619T130000
DTSTAMP:20260420T094254
CREATED:20250601T210250Z
LAST-MODIFIED:20250601T210250Z
UID:17091-1750338000-1750338000@towerlane.org
SUMMARY:Catholic Mass
DESCRIPTION:Part of our Spiritual Pathway \nTwice per month Catholic service with Father Ryan Lerner.
URL:https://towerlane.org/event/catholic-mass-68/
LOCATION:Dining Room
END:VEVENT
BEGIN:VEVENT
DTSTART;TZID=America/New_York:20250619T113000
DTEND;TZID=America/New_York:20250619T113000
DTSTAMP:20260420T094254
CREATED:20250601T210124Z
LAST-MODIFIED:20250601T210124Z
UID:17089-1750332600-1750332600@towerlane.org
SUMMARY:Mindfulness and Movement
DESCRIPTION:Part of our Psychological Pathway\nConnect with your body and de-stress through meditation\, light body movements\, chanting\, and breathing exercises.  Led by wellness coach Stacey Battat.
URL:https://towerlane.org/event/mindfulness-and-movement-28/
LOCATION:Dining Room
END:VEVENT
BEGIN:VEVENT
DTSTART;TZID=America/New_York:20250617T130000
DTEND;TZID=America/New_York:20250617T130000
DTSTAMP:20260420T094254
CREATED:20250601T174457Z
LAST-MODIFIED:20250601T174457Z
UID:16954-1750165200-1750165200@towerlane.org
SUMMARY:Interactive Music
DESCRIPTION:Part of our Psychological Pathway\nMusic therapy uses several different interventions to promote wellness and manage stress. It encourages communication and expression through musical interaction and it is just a lot of fun!  Led by certified music therapist Tess Sandler.
URL:https://towerlane.org/event/interactive-music-37/2025-06-17/
LOCATION:Dining Room
END:VEVENT
BEGIN:VEVENT
DTSTART;TZID=America/New_York:20250616T130000
DTEND;TZID=America/New_York:20250616T130000
DTSTAMP:20260420T094254
CREATED:20250601T173013Z
LAST-MODIFIED:20250601T173013Z
UID:16931-1750078800-1750078800@towerlane.org
SUMMARY:Chair Yoga
DESCRIPTION:Part of our Physical Pathway\nA lower intensity exercise session performed mostly seated. This is a great option for residents not ready for the frequent standing exercise during a Healthy and Fit session. Led by Yoga/Tai Chi instructor Bil Banick
URL:https://towerlane.org/event/chair-yoga-29/2025-06-16/
LOCATION:Dining Room
END:VEVENT
END:VCALENDAR