BEGIN:VCALENDAR
VERSION:2.0
PRODID:-//The Towers - ECPv6.10.3//NONSGML v1.0//EN
CALSCALE:GREGORIAN
METHOD:PUBLISH
X-ORIGINAL-URL:https://towerlane.org
X-WR-CALDESC:Events for The Towers
REFRESH-INTERVAL;VALUE=DURATION:PT1H
X-Robots-Tag:noindex
X-PUBLISHED-TTL:PT1H
BEGIN:VTIMEZONE
TZID:America/New_York
BEGIN:DAYLIGHT
TZOFFSETFROM:-0500
TZOFFSETTO:-0400
TZNAME:EDT
DTSTART:20250309T070000
END:DAYLIGHT
BEGIN:STANDARD
TZOFFSETFROM:-0400
TZOFFSETTO:-0500
TZNAME:EST
DTSTART:20251102T060000
END:STANDARD
END:VTIMEZONE
BEGIN:VEVENT
DTSTART;TZID=America/New_York:20250420T120000
DTEND;TZID=America/New_York:20250420T120000
DTSTAMP:20260420T205230
CREATED:20250402T153918Z
LAST-MODIFIED:20250402T153918Z
UID:16508-1745150400-1745150400@towerlane.org
SUMMARY:Easter Mass with Father Lerner
DESCRIPTION:
URL:https://towerlane.org/event/easter-mass-with-father-lerner/
LOCATION:Dining Room
END:VEVENT
BEGIN:VEVENT
DTSTART;TZID=America/New_York:20250419T153000
DTEND;TZID=America/New_York:20250419T153000
DTSTAMP:20260420T205230
CREATED:20250402T153114Z
LAST-MODIFIED:20250402T153114Z
UID:16488-1745076600-1745076600@towerlane.org
SUMMARY:Christian Worship Service
DESCRIPTION:
URL:https://towerlane.org/event/christian-worship-service-50/
LOCATION:Dining Room
END:VEVENT
BEGIN:VEVENT
DTSTART;TZID=America/New_York:20250418T130000
DTEND;TZID=America/New_York:20250418T130000
DTSTAMP:20260420T205230
CREATED:20250402T150711Z
LAST-MODIFIED:20250402T150711Z
UID:16406-1744981200-1744981200@towerlane.org
SUMMARY:Tai Chi
DESCRIPTION:
URL:https://towerlane.org/event/tai-chi-31/2025-04-18/
LOCATION:Dining Room
END:VEVENT
BEGIN:VEVENT
DTSTART;TZID=America/New_York:20250418T100000
DTEND;TZID=America/New_York:20250418T100000
DTSTAMP:20260420T205230
CREATED:20250402T150442Z
LAST-MODIFIED:20250402T150442Z
UID:16396-1744970400-1744970400@towerlane.org
SUMMARY:Interfaith Bible Study
DESCRIPTION:
URL:https://towerlane.org/event/interfaith-bible-study-3/2025-04-18/
LOCATION:Dining Room
END:VEVENT
BEGIN:VEVENT
DTSTART;TZID=America/New_York:20250415T130000
DTEND;TZID=America/New_York:20250415T130000
DTSTAMP:20260420T205230
CREATED:20250402T145219Z
LAST-MODIFIED:20250402T145219Z
UID:16351-1744722000-1744722000@towerlane.org
SUMMARY:Interactive Music
DESCRIPTION:
URL:https://towerlane.org/event/interactive-music-35/2025-04-15/
LOCATION:Dining Room
END:VEVENT
BEGIN:VEVENT
DTSTART;TZID=America/New_York:20250414T190000
DTEND;TZID=America/New_York:20250414T190000
DTSTAMP:20260420T205230
CREATED:20250402T152256Z
LAST-MODIFIED:20250402T152256Z
UID:16469-1744657200-1744657200@towerlane.org
SUMMARY:Nourish Program
DESCRIPTION:
URL:https://towerlane.org/event/nourish-program-6/2025-04-14/
LOCATION:Dining Room
END:VEVENT
BEGIN:VEVENT
DTSTART;TZID=America/New_York:20250414T130000
DTEND;TZID=America/New_York:20250414T130000
DTSTAMP:20260420T205230
CREATED:20250402T152049Z
LAST-MODIFIED:20250402T152049Z
UID:16459-1744635600-1744635600@towerlane.org
SUMMARY:Chair Yoga
DESCRIPTION:
URL:https://towerlane.org/event/chair-yoga-27/2025-04-14/
LOCATION:Dining Room
END:VEVENT
BEGIN:VEVENT
DTSTART;TZID=America/New_York:20250414T100000
DTEND;TZID=America/New_York:20250414T100000
DTSTAMP:20260420T205230
CREATED:20250402T151856Z
LAST-MODIFIED:20250402T151856Z
UID:16449-1744624800-1744624800@towerlane.org
SUMMARY:Coffee Klatch
DESCRIPTION:
URL:https://towerlane.org/event/coffee-klatch-32/2025-04-14/
LOCATION:Dining Room
END:VEVENT
BEGIN:VEVENT
DTSTART;TZID=America/New_York:20250411T130000
DTEND;TZID=America/New_York:20250411T130000
DTSTAMP:20260420T205230
CREATED:20250402T150711Z
LAST-MODIFIED:20250402T150711Z
UID:16405-1744376400-1744376400@towerlane.org
SUMMARY:Tai Chi
DESCRIPTION:
URL:https://towerlane.org/event/tai-chi-31/2025-04-11/
LOCATION:Dining Room
END:VEVENT
BEGIN:VEVENT
DTSTART;TZID=America/New_York:20250411T100000
DTEND;TZID=America/New_York:20250411T100000
DTSTAMP:20260420T205230
CREATED:20250402T150442Z
LAST-MODIFIED:20250402T150442Z
UID:16395-1744365600-1744365600@towerlane.org
SUMMARY:Interfaith Bible Study
DESCRIPTION:
URL:https://towerlane.org/event/interfaith-bible-study-3/2025-04-11/
LOCATION:Dining Room
END:VEVENT
BEGIN:VEVENT
DTSTART;TZID=America/New_York:20250410T140000
DTEND;TZID=America/New_York:20250410T140000
DTSTAMP:20260420T205230
CREATED:20250402T152902Z
LAST-MODIFIED:20250402T152902Z
UID:16482-1744293600-1744293600@towerlane.org
SUMMARY:Sing Along with Richard Gans
DESCRIPTION:
URL:https://towerlane.org/event/sing-along-with-richard-gans-18/
LOCATION:Dining Room
END:VEVENT
BEGIN:VEVENT
DTSTART;TZID=America/New_York:20250410T113000
DTEND;TZID=America/New_York:20250410T113000
DTSTAMP:20260420T205230
CREATED:20250402T152821Z
LAST-MODIFIED:20250402T152821Z
UID:16480-1744284600-1744284600@towerlane.org
SUMMARY:Mindfulness & Movement
DESCRIPTION:
URL:https://towerlane.org/event/mindfulness-movement-26/
LOCATION:Dining Room
END:VEVENT
BEGIN:VEVENT
DTSTART;TZID=America/New_York:20250409T110000
DTEND;TZID=America/New_York:20250409T130000
DTSTAMP:20260420T205230
CREATED:20250402T152601Z
LAST-MODIFIED:20250402T152601Z
UID:16475-1744196400-1744203600@towerlane.org
SUMMARY:Wilson Library
DESCRIPTION:
URL:https://towerlane.org/event/wilson-library-5/
LOCATION:Dining Room
END:VEVENT
BEGIN:VEVENT
DTSTART;TZID=America/New_York:20250408T130000
DTEND;TZID=America/New_York:20250408T130000
DTSTAMP:20260420T205230
CREATED:20250402T145219Z
LAST-MODIFIED:20250402T145219Z
UID:16350-1744117200-1744117200@towerlane.org
SUMMARY:Interactive Music
DESCRIPTION:
URL:https://towerlane.org/event/interactive-music-35/2025-04-08/
LOCATION:Dining Room
END:VEVENT
BEGIN:VEVENT
DTSTART;TZID=America/New_York:20250407T190000
DTEND;TZID=America/New_York:20250407T190000
DTSTAMP:20260420T205230
CREATED:20250402T152256Z
LAST-MODIFIED:20250402T152256Z
UID:16468-1744052400-1744052400@towerlane.org
SUMMARY:Nourish Program
DESCRIPTION:
URL:https://towerlane.org/event/nourish-program-6/2025-04-07/
LOCATION:Dining Room
END:VEVENT
BEGIN:VEVENT
DTSTART;TZID=America/New_York:20250407T130000
DTEND;TZID=America/New_York:20250407T130000
DTSTAMP:20260420T205230
CREATED:20250402T152049Z
LAST-MODIFIED:20250402T152049Z
UID:16458-1744030800-1744030800@towerlane.org
SUMMARY:Chair Yoga
DESCRIPTION:
URL:https://towerlane.org/event/chair-yoga-27/2025-04-07/
LOCATION:Dining Room
END:VEVENT
BEGIN:VEVENT
DTSTART;TZID=America/New_York:20250407T100000
DTEND;TZID=America/New_York:20250407T100000
DTSTAMP:20260420T205230
CREATED:20250402T151856Z
LAST-MODIFIED:20250402T151856Z
UID:16448-1744020000-1744020000@towerlane.org
SUMMARY:Coffee Klatch
DESCRIPTION:
URL:https://towerlane.org/event/coffee-klatch-32/2025-04-07/
LOCATION:Dining Room
END:VEVENT
BEGIN:VEVENT
DTSTART;TZID=America/New_York:20250406T140000
DTEND;TZID=America/New_York:20250406T140000
DTSTAMP:20260420T205230
CREATED:20250402T151647Z
LAST-MODIFIED:20250402T151647Z
UID:16442-1743948000-1743948000@towerlane.org
SUMMARY:Students from Music Haven Perform
DESCRIPTION:
URL:https://towerlane.org/event/students-from-music-haven-perform/
LOCATION:Dining Room
END:VEVENT
BEGIN:VEVENT
DTSTART;TZID=America/New_York:20250405T153000
DTEND;TZID=America/New_York:20250405T153000
DTSTAMP:20260420T205230
CREATED:20250402T151330Z
LAST-MODIFIED:20250402T151330Z
UID:16433-1743867000-1743867000@towerlane.org
SUMMARY:Christian Worship Service
DESCRIPTION:
URL:https://towerlane.org/event/christian-worship-service-49/
LOCATION:Dining Room
END:VEVENT
BEGIN:VEVENT
DTSTART;TZID=America/New_York:20250404T130000
DTEND;TZID=America/New_York:20250404T130000
DTSTAMP:20260420T205230
CREATED:20250402T150711Z
LAST-MODIFIED:20250402T150711Z
UID:16404-1743771600-1743771600@towerlane.org
SUMMARY:Tai Chi
DESCRIPTION:
URL:https://towerlane.org/event/tai-chi-31/2025-04-04/
LOCATION:Dining Room
END:VEVENT
BEGIN:VEVENT
DTSTART;TZID=America/New_York:20250404T100000
DTEND;TZID=America/New_York:20250404T100000
DTSTAMP:20260420T205230
CREATED:20250402T150442Z
LAST-MODIFIED:20250402T150442Z
UID:16394-1743760800-1743760800@towerlane.org
SUMMARY:Interfaith Bible Study
DESCRIPTION:
URL:https://towerlane.org/event/interfaith-bible-study-3/2025-04-04/
LOCATION:Dining Room
END:VEVENT
BEGIN:VEVENT
DTSTART;TZID=America/New_York:20250403T130000
DTEND;TZID=America/New_York:20250403T130000
DTSTAMP:20260420T205230
CREATED:20250402T150037Z
LAST-MODIFIED:20250402T150037Z
UID:16381-1743685200-1743685200@towerlane.org
SUMMARY:Catholic Mass
DESCRIPTION:
URL:https://towerlane.org/event/catholic-mass-64/
LOCATION:Dining Room
END:VEVENT
BEGIN:VEVENT
DTSTART;TZID=America/New_York:20250401T140000
DTEND;TZID=America/New_York:20250401T140000
DTSTAMP:20260420T205230
CREATED:20250402T145310Z
LAST-MODIFIED:20250402T145310Z
UID:16355-1743516000-1743516000@towerlane.org
SUMMARY:Dining Meeting
DESCRIPTION:
URL:https://towerlane.org/event/dining-meeting-10/
LOCATION:Dining Room
END:VEVENT
BEGIN:VEVENT
DTSTART;TZID=America/New_York:20250401T130000
DTEND;TZID=America/New_York:20250401T130000
DTSTAMP:20260420T205230
CREATED:20250402T145219Z
LAST-MODIFIED:20250402T145219Z
UID:16349-1743512400-1743512400@towerlane.org
SUMMARY:Interactive Music
DESCRIPTION:
URL:https://towerlane.org/event/interactive-music-35/2025-04-01/
LOCATION:Dining Room
END:VEVENT
BEGIN:VEVENT
DTSTART;TZID=America/New_York:20250331T190000
DTEND;TZID=America/New_York:20250331T190000
DTSTAMP:20260420T205230
CREATED:20250304T174141Z
LAST-MODIFIED:20250304T174141Z
UID:16174-1743447600-1743447600@towerlane.org
SUMMARY:Nourish Program
DESCRIPTION:
URL:https://towerlane.org/event/nourish-program-5/2025-03-31/
LOCATION:Dining Room
END:VEVENT
BEGIN:VEVENT
DTSTART;TZID=America/New_York:20250331T130000
DTEND;TZID=America/New_York:20250331T130000
DTSTAMP:20260420T205230
CREATED:20250304T173958Z
LAST-MODIFIED:20250304T173958Z
UID:16162-1743426000-1743426000@towerlane.org
SUMMARY:Chair Yoga
DESCRIPTION:
URL:https://towerlane.org/event/chair-yoga-26/2025-03-31/
LOCATION:Dining Room
END:VEVENT
BEGIN:VEVENT
DTSTART;TZID=America/New_York:20250331T100000
DTEND;TZID=America/New_York:20250331T100000
DTSTAMP:20260420T205230
CREATED:20250304T173114Z
LAST-MODIFIED:20250304T173114Z
UID:16141-1743415200-1743415200@towerlane.org
SUMMARY:Coffee Klatch
DESCRIPTION:
URL:https://towerlane.org/event/coffee-klatch-31/2025-03-31/
LOCATION:Dining Room
END:VEVENT
BEGIN:VEVENT
DTSTART;TZID=America/New_York:20250328T130000
DTEND;TZID=America/New_York:20250328T130000
DTSTAMP:20260420T205230
CREATED:20250304T180129Z
LAST-MODIFIED:20250304T180129Z
UID:16239-1743166800-1743166800@towerlane.org
SUMMARY:Tai Chi
DESCRIPTION:
URL:https://towerlane.org/event/tai-chi-30/2025-03-28/
LOCATION:Dining Room
END:VEVENT
BEGIN:VEVENT
DTSTART;TZID=America/New_York:20250328T100000
DTEND;TZID=America/New_York:20250328T100000
DTSTAMP:20260420T205230
CREATED:20250304T175937Z
LAST-MODIFIED:20250304T175937Z
UID:16229-1743156000-1743156000@towerlane.org
SUMMARY:Interfaith Bible Study
DESCRIPTION:
URL:https://towerlane.org/event/interfaith-bible-study-2/2025-03-28/
LOCATION:Dining Room
END:VEVENT
BEGIN:VEVENT
DTSTART;TZID=America/New_York:20250327T140000
DTEND;TZID=America/New_York:20250327T140000
DTSTAMP:20260420T205230
CREATED:20250305T191230Z
LAST-MODIFIED:20250305T191230Z
UID:16327-1743084000-1743084000@towerlane.org
SUMMARY:Sing Along with Richard Gans
DESCRIPTION:
URL:https://towerlane.org/event/sing-along-with-richard-gans-17/
LOCATION:Dining Room
END:VEVENT
END:VCALENDAR