BEGIN:VCALENDAR
VERSION:2.0
PRODID:-//The Towers - ECPv6.10.3//NONSGML v1.0//EN
CALSCALE:GREGORIAN
METHOD:PUBLISH
X-WR-CALNAME:The Towers
X-ORIGINAL-URL:https://towerlane.org
X-WR-CALDESC:Events for The Towers
REFRESH-INTERVAL;VALUE=DURATION:PT1H
X-Robots-Tag:noindex
X-PUBLISHED-TTL:PT1H
BEGIN:VTIMEZONE
TZID:America/New_York
BEGIN:DAYLIGHT
TZOFFSETFROM:-0500
TZOFFSETTO:-0400
TZNAME:EDT
DTSTART:20250309T070000
END:DAYLIGHT
BEGIN:STANDARD
TZOFFSETFROM:-0400
TZOFFSETTO:-0500
TZNAME:EST
DTSTART:20251102T060000
END:STANDARD
END:VTIMEZONE
BEGIN:VEVENT
DTSTART;TZID=America/New_York:20250303T190000
DTEND;TZID=America/New_York:20250303T190000
DTSTAMP:20260421T071436
CREATED:20250304T174141Z
LAST-MODIFIED:20250304T174141Z
UID:16170-1741028400-1741028400@towerlane.org
SUMMARY:Nourish Program
DESCRIPTION:
URL:https://towerlane.org/event/nourish-program-5/
LOCATION:Dining Room
END:VEVENT
BEGIN:VEVENT
DTSTART;TZID=America/New_York:20250303T130000
DTEND;TZID=America/New_York:20250303T130000
DTSTAMP:20260421T071436
CREATED:20250304T173958Z
LAST-MODIFIED:20250304T173958Z
UID:16158-1741006800-1741006800@towerlane.org
SUMMARY:Chair Yoga
DESCRIPTION:
URL:https://towerlane.org/event/chair-yoga-26/
LOCATION:Dining Room
END:VEVENT
BEGIN:VEVENT
DTSTART;TZID=America/New_York:20250303T100000
DTEND;TZID=America/New_York:20250303T100000
DTSTAMP:20260421T071436
CREATED:20250304T173114Z
LAST-MODIFIED:20250304T173114Z
UID:16137-1740996000-1740996000@towerlane.org
SUMMARY:Coffee Klatch
DESCRIPTION:
URL:https://towerlane.org/event/coffee-klatch-31/
LOCATION:Dining Room
END:VEVENT
BEGIN:VEVENT
DTSTART;TZID=America/New_York:20250228T130000
DTEND;TZID=America/New_York:20250228T130000
DTSTAMP:20260421T071436
CREATED:20250204T171828Z
LAST-MODIFIED:20250204T171828Z
UID:15285-1740747600-1740747600@towerlane.org
SUMMARY:Tai Chi
DESCRIPTION:
URL:https://towerlane.org/event/tai-chi-29/2025-02-28/
LOCATION:Dining Room
END:VEVENT
BEGIN:VEVENT
DTSTART;TZID=America/New_York:20250228T100000
DTEND;TZID=America/New_York:20250228T100000
DTSTAMP:20260421T071436
CREATED:20250204T171621Z
LAST-MODIFIED:20250204T171621Z
UID:15275-1740736800-1740736800@towerlane.org
SUMMARY:Interfaith Bible Study
DESCRIPTION:
URL:https://towerlane.org/event/interfaith-bible-study/2025-02-28/
LOCATION:Dining Room
END:VEVENT
BEGIN:VEVENT
DTSTART;TZID=America/New_York:20250225T130000
DTEND;TZID=America/New_York:20250225T130000
DTSTAMP:20260421T071436
CREATED:20250204T174035Z
LAST-MODIFIED:20250204T174035Z
UID:15345-1740488400-1740488400@towerlane.org
SUMMARY:Interactive Music
DESCRIPTION:
URL:https://towerlane.org/event/interactive-music-33/2025-02-25/
LOCATION:Dining Room
END:VEVENT
BEGIN:VEVENT
DTSTART;TZID=America/New_York:20250224T190000
DTEND;TZID=America/New_York:20250224T190000
DTSTAMP:20260421T071436
CREATED:20250204T173700Z
LAST-MODIFIED:20250204T173700Z
UID:15333-1740423600-1740423600@towerlane.org
SUMMARY:Nourish Program
DESCRIPTION:
URL:https://towerlane.org/event/nourish-program-4/2025-02-24/
LOCATION:Dining Room
END:VEVENT
BEGIN:VEVENT
DTSTART;TZID=America/New_York:20250224T130000
DTEND;TZID=America/New_York:20250224T130000
DTSTAMP:20260421T071436
CREATED:20250204T173519Z
LAST-MODIFIED:20250204T173519Z
UID:15327-1740402000-1740402000@towerlane.org
SUMMARY:Chair Yoga
DESCRIPTION:
URL:https://towerlane.org/event/chair-yoga-25/2025-02-24/
LOCATION:Dining Room
END:VEVENT
BEGIN:VEVENT
DTSTART;TZID=America/New_York:20250224T100000
DTEND;TZID=America/New_York:20250224T100000
DTSTAMP:20260421T071436
CREATED:20250204T173142Z
LAST-MODIFIED:20250204T173142Z
UID:15319-1740391200-1740391200@towerlane.org
SUMMARY:Coffee Klatch
DESCRIPTION:
URL:https://towerlane.org/event/coffee-klatch-30/2025-02-24/
LOCATION:Dining Room
END:VEVENT
BEGIN:VEVENT
DTSTART;TZID=America/New_York:20250221T130000
DTEND;TZID=America/New_York:20250221T130000
DTSTAMP:20260421T071436
CREATED:20250204T171828Z
LAST-MODIFIED:20250204T171828Z
UID:15284-1740142800-1740142800@towerlane.org
SUMMARY:Tai Chi
DESCRIPTION:
URL:https://towerlane.org/event/tai-chi-29/2025-02-21/
LOCATION:Dining Room
END:VEVENT
BEGIN:VEVENT
DTSTART;TZID=America/New_York:20250221T100000
DTEND;TZID=America/New_York:20250221T100000
DTSTAMP:20260421T071436
CREATED:20250204T171621Z
LAST-MODIFIED:20250204T171621Z
UID:15274-1740132000-1740132000@towerlane.org
SUMMARY:Interfaith Bible Study
DESCRIPTION:
URL:https://towerlane.org/event/interfaith-bible-study/2025-02-21/
LOCATION:Dining Room
END:VEVENT
BEGIN:VEVENT
DTSTART;TZID=America/New_York:20250220T130000
DTEND;TZID=America/New_York:20250220T130000
DTSTAMP:20260421T071436
CREATED:20250204T190011Z
LAST-MODIFIED:20250204T190011Z
UID:15395-1740056400-1740056400@towerlane.org
SUMMARY:Catholic Mass
DESCRIPTION:
URL:https://towerlane.org/event/catholic-mass-61/
LOCATION:Dining Room
END:VEVENT
BEGIN:VEVENT
DTSTART;TZID=America/New_York:20250220T113000
DTEND;TZID=America/New_York:20250220T113000
DTSTAMP:20260421T071436
CREATED:20250204T185932Z
LAST-MODIFIED:20250204T185932Z
UID:15393-1740051000-1740051000@towerlane.org
SUMMARY:Sing Along with Richard Gans
DESCRIPTION:
URL:https://towerlane.org/event/sing-along-with-richard-gans-15/
LOCATION:Dining Room
END:VEVENT
BEGIN:VEVENT
DTSTART;TZID=America/New_York:20250218T130000
DTEND;TZID=America/New_York:20250218T130000
DTSTAMP:20260421T071436
CREATED:20250204T174035Z
LAST-MODIFIED:20250204T174035Z
UID:15344-1739883600-1739883600@towerlane.org
SUMMARY:Interactive Music
DESCRIPTION:
URL:https://towerlane.org/event/interactive-music-33/2025-02-18/
LOCATION:Dining Room
END:VEVENT
BEGIN:VEVENT
DTSTART;TZID=America/New_York:20250217T190000
DTEND;TZID=America/New_York:20250217T190000
DTSTAMP:20260421T071436
CREATED:20250204T173700Z
LAST-MODIFIED:20250204T173700Z
UID:15332-1739818800-1739818800@towerlane.org
SUMMARY:Nourish Program
DESCRIPTION:
URL:https://towerlane.org/event/nourish-program-4/2025-02-17/
LOCATION:Dining Room
END:VEVENT
BEGIN:VEVENT
DTSTART;TZID=America/New_York:20250217T130000
DTEND;TZID=America/New_York:20250217T130000
DTSTAMP:20260421T071436
CREATED:20250204T173519Z
LAST-MODIFIED:20250204T173519Z
UID:15326-1739797200-1739797200@towerlane.org
SUMMARY:Chair Yoga
DESCRIPTION:
URL:https://towerlane.org/event/chair-yoga-25/2025-02-17/
LOCATION:Dining Room
END:VEVENT
BEGIN:VEVENT
DTSTART;TZID=America/New_York:20250217T100000
DTEND;TZID=America/New_York:20250217T100000
DTSTAMP:20260421T071436
CREATED:20250204T173142Z
LAST-MODIFIED:20250204T173142Z
UID:15318-1739786400-1739786400@towerlane.org
SUMMARY:Coffee Klatch
DESCRIPTION:
URL:https://towerlane.org/event/coffee-klatch-30/2025-02-17/
LOCATION:Dining Room
END:VEVENT
BEGIN:VEVENT
DTSTART;TZID=America/New_York:20250215T153000
DTEND;TZID=America/New_York:20250215T153000
DTSTAMP:20260421T071436
CREATED:20250204T185343Z
LAST-MODIFIED:20250204T185343Z
UID:15377-1739633400-1739633400@towerlane.org
SUMMARY:Christian Worship Service
DESCRIPTION:
URL:https://towerlane.org/event/christian-worship-service-46/
LOCATION:Dining Room
END:VEVENT
BEGIN:VEVENT
DTSTART;TZID=America/New_York:20250214T130000
DTEND;TZID=America/New_York:20250214T130000
DTSTAMP:20260421T071436
CREATED:20250204T171828Z
LAST-MODIFIED:20250204T171828Z
UID:15283-1739538000-1739538000@towerlane.org
SUMMARY:Tai Chi
DESCRIPTION:
URL:https://towerlane.org/event/tai-chi-29/2025-02-14/
LOCATION:Dining Room
END:VEVENT
BEGIN:VEVENT
DTSTART;TZID=America/New_York:20250214T100000
DTEND;TZID=America/New_York:20250214T100000
DTSTAMP:20260421T071436
CREATED:20250204T171621Z
LAST-MODIFIED:20250204T171621Z
UID:15273-1739527200-1739527200@towerlane.org
SUMMARY:Interfaith Bible Study
DESCRIPTION:
URL:https://towerlane.org/event/interfaith-bible-study/2025-02-14/
LOCATION:Dining Room
END:VEVENT
BEGIN:VEVENT
DTSTART;TZID=America/New_York:20250213T133000
DTEND;TZID=America/New_York:20250213T133000
DTSTAMP:20260421T071436
CREATED:20250204T185039Z
LAST-MODIFIED:20250204T185039Z
UID:15369-1739453400-1739453400@towerlane.org
SUMMARY:Chorus Concert
DESCRIPTION:
URL:https://towerlane.org/event/chorus-concert-6/
LOCATION:Dining Room
END:VEVENT
BEGIN:VEVENT
DTSTART;TZID=America/New_York:20250212T110000
DTEND;TZID=America/New_York:20250212T130000
DTSTAMP:20260421T071436
CREATED:20250204T184339Z
LAST-MODIFIED:20250204T184339Z
UID:15353-1739358000-1739365200@towerlane.org
SUMMARY:Wilson Library
DESCRIPTION:
URL:https://towerlane.org/event/wilson-library-3/
LOCATION:Dining Room
END:VEVENT
BEGIN:VEVENT
DTSTART;TZID=America/New_York:20250211T140000
DTEND;TZID=America/New_York:20250211T140000
DTSTAMP:20260421T071436
CREATED:20250204T174342Z
LAST-MODIFIED:20250204T174342Z
UID:15347-1739282400-1739282400@towerlane.org
SUMMARY:Volunteer Meeting with Sarah: "Flower Arranging for The Towers Dining Room"
DESCRIPTION:
URL:https://towerlane.org/event/volunteer-meeting-with-sarah-flower-arranging-for-the-towers-dining-room/
LOCATION:Dining Room
END:VEVENT
BEGIN:VEVENT
DTSTART;TZID=America/New_York:20250211T130000
DTEND;TZID=America/New_York:20250211T130000
DTSTAMP:20260421T071436
CREATED:20250204T174035Z
LAST-MODIFIED:20250204T174035Z
UID:15343-1739278800-1739278800@towerlane.org
SUMMARY:Interactive Music
DESCRIPTION:
URL:https://towerlane.org/event/interactive-music-33/
LOCATION:Dining Room
END:VEVENT
BEGIN:VEVENT
DTSTART;TZID=America/New_York:20250210T190000
DTEND;TZID=America/New_York:20250210T190000
DTSTAMP:20260421T071436
CREATED:20250204T173700Z
LAST-MODIFIED:20250204T173700Z
UID:15331-1739214000-1739214000@towerlane.org
SUMMARY:Nourish Program
DESCRIPTION:
URL:https://towerlane.org/event/nourish-program-4/
LOCATION:Dining Room
END:VEVENT
BEGIN:VEVENT
DTSTART;TZID=America/New_York:20250210T130000
DTEND;TZID=America/New_York:20250210T130000
DTSTAMP:20260421T071436
CREATED:20250204T173519Z
LAST-MODIFIED:20250204T173519Z
UID:15325-1739192400-1739192400@towerlane.org
SUMMARY:Chair Yoga
DESCRIPTION:
URL:https://towerlane.org/event/chair-yoga-25/
LOCATION:Dining Room
END:VEVENT
BEGIN:VEVENT
DTSTART;TZID=America/New_York:20250210T100000
DTEND;TZID=America/New_York:20250210T100000
DTSTAMP:20260421T071436
CREATED:20250204T173142Z
LAST-MODIFIED:20250204T173142Z
UID:15317-1739181600-1739181600@towerlane.org
SUMMARY:Coffee Klatch
DESCRIPTION:
URL:https://towerlane.org/event/coffee-klatch-30/
LOCATION:Dining Room
END:VEVENT
BEGIN:VEVENT
DTSTART;TZID=America/New_York:20250209T140000
DTEND;TZID=America/New_York:20250209T140000
DTSTAMP:20260421T071436
CREATED:20250204T172907Z
LAST-MODIFIED:20250204T172907Z
UID:15313-1739109600-1739109600@towerlane.org
SUMMARY:Music with BEKI Youth Group
DESCRIPTION:
URL:https://towerlane.org/event/music-with-beki-youth-group/
LOCATION:Dining Room
END:VEVENT
BEGIN:VEVENT
DTSTART;TZID=America/New_York:20250207T130000
DTEND;TZID=America/New_York:20250207T130000
DTSTAMP:20260421T071436
CREATED:20250204T171828Z
LAST-MODIFIED:20250204T171828Z
UID:15282-1738933200-1738933200@towerlane.org
SUMMARY:Tai Chi
DESCRIPTION:
URL:https://towerlane.org/event/tai-chi-29/
LOCATION:Dining Room
END:VEVENT
BEGIN:VEVENT
DTSTART;TZID=America/New_York:20250207T100000
DTEND;TZID=America/New_York:20250207T100000
DTSTAMP:20260421T071436
CREATED:20250204T171621Z
LAST-MODIFIED:20250204T171621Z
UID:15272-1738922400-1738922400@towerlane.org
SUMMARY:Interfaith Bible Study
DESCRIPTION:
URL:https://towerlane.org/event/interfaith-bible-study/
LOCATION:Dining Room
END:VEVENT
END:VCALENDAR