BEGIN:VCALENDAR
VERSION:2.0
PRODID:-//The Towers - ECPv6.10.3//NONSGML v1.0//EN
CALSCALE:GREGORIAN
METHOD:PUBLISH
X-ORIGINAL-URL:https://towerlane.org
X-WR-CALDESC:Events for The Towers
REFRESH-INTERVAL;VALUE=DURATION:PT1H
X-Robots-Tag:noindex
X-PUBLISHED-TTL:PT1H
BEGIN:VTIMEZONE
TZID:America/New_York
BEGIN:DAYLIGHT
TZOFFSETFROM:-0500
TZOFFSETTO:-0400
TZNAME:EDT
DTSTART:20240310T070000
END:DAYLIGHT
BEGIN:STANDARD
TZOFFSETFROM:-0400
TZOFFSETTO:-0500
TZNAME:EST
DTSTART:20241103T060000
END:STANDARD
BEGIN:DAYLIGHT
TZOFFSETFROM:-0500
TZOFFSETTO:-0400
TZNAME:EDT
DTSTART:20250309T070000
END:DAYLIGHT
BEGIN:STANDARD
TZOFFSETFROM:-0400
TZOFFSETTO:-0500
TZNAME:EST
DTSTART:20251102T060000
END:STANDARD
END:VTIMEZONE
BEGIN:VEVENT
DTSTART;TZID=America/New_York:20250113T100000
DTEND;TZID=America/New_York:20250113T100000
DTSTAMP:20260421T131849
CREATED:20241231T164202Z
LAST-MODIFIED:20241231T164202Z
UID:15073-1736762400-1736762400@towerlane.org
SUMMARY:Coffee Klatch
DESCRIPTION:
URL:https://towerlane.org/event/coffee-klatch-29/2025-01-13/
LOCATION:Dining Room
END:VEVENT
BEGIN:VEVENT
DTSTART;TZID=America/New_York:20250112T140000
DTEND;TZID=America/New_York:20250112T140000
DTSTAMP:20260421T131849
CREATED:20241231T171341Z
LAST-MODIFIED:20241231T171341Z
UID:15141-1736690400-1736690400@towerlane.org
SUMMARY:Welcome Pianist Joey Stein
DESCRIPTION:
URL:https://towerlane.org/event/welcome-pianist-joey-stein/
LOCATION:Dining Room
END:VEVENT
BEGIN:VEVENT
DTSTART;TZID=America/New_York:20250111T153000
DTEND;TZID=America/New_York:20250111T153000
DTSTAMP:20260421T131849
CREATED:20241231T171234Z
LAST-MODIFIED:20241231T171234Z
UID:15139-1736609400-1736609400@towerlane.org
SUMMARY:Christian Worship Service
DESCRIPTION:
URL:https://towerlane.org/event/christian-worship-service-44/
LOCATION:Dining Room
END:VEVENT
BEGIN:VEVENT
DTSTART;TZID=America/New_York:20250110T130000
DTEND;TZID=America/New_York:20250110T130000
DTSTAMP:20260421T131849
CREATED:20241231T162919Z
LAST-MODIFIED:20241231T162919Z
UID:15032-1736514000-1736514000@towerlane.org
SUMMARY:Tai Chi
DESCRIPTION:
URL:https://towerlane.org/event/tai-chi-28/2025-01-10/
LOCATION:Dining Room
END:VEVENT
BEGIN:VEVENT
DTSTART;TZID=America/New_York:20250110T100000
DTEND;TZID=America/New_York:20250110T100000
DTSTAMP:20260421T131849
CREATED:20241231T162656Z
LAST-MODIFIED:20241231T162656Z
UID:15020-1736503200-1736503200@towerlane.org
SUMMARY:Bible Study
DESCRIPTION:
URL:https://towerlane.org/event/bible-study-54/2025-01-10/
LOCATION:Dining Room
END:VEVENT
BEGIN:VEVENT
DTSTART;TZID=America/New_York:20250109T140000
DTEND;TZID=America/New_York:20250109T140000
DTSTAMP:20260421T131849
CREATED:20241231T171101Z
LAST-MODIFIED:20241231T171101Z
UID:15135-1736431200-1736431200@towerlane.org
SUMMARY:Sing Along with Richard Gans
DESCRIPTION:
URL:https://towerlane.org/event/sing-along-with-richard-gans-13/
LOCATION:Dining Room
END:VEVENT
BEGIN:VEVENT
DTSTART;TZID=America/New_York:20250109T110000
DTEND;TZID=America/New_York:20250109T110000
DTSTAMP:20260421T131849
CREATED:20241231T165922Z
LAST-MODIFIED:20241231T165922Z
UID:15131-1736420400-1736420400@towerlane.org
SUMMARY:Mindfulness & Movement
DESCRIPTION:
URL:https://towerlane.org/event/mindfulness-movement-23/
LOCATION:Dining Room
END:VEVENT
BEGIN:VEVENT
DTSTART;TZID=America/New_York:20250108T110000
DTEND;TZID=America/New_York:20250108T130000
DTSTAMP:20260421T131849
CREATED:20241231T165530Z
LAST-MODIFIED:20241231T165530Z
UID:15118-1736334000-1736341200@towerlane.org
SUMMARY:Wilson Library
DESCRIPTION:
URL:https://towerlane.org/event/wilson-library-2/
LOCATION:Dining Room
END:VEVENT
BEGIN:VEVENT
DTSTART;TZID=America/New_York:20250107T140000
DTEND;TZID=America/New_York:20250107T140000
DTSTAMP:20260421T131849
CREATED:20241231T165251Z
LAST-MODIFIED:20241231T165251Z
UID:15109-1736258400-1736258400@towerlane.org
SUMMARY:Dining Meeting
DESCRIPTION:
URL:https://towerlane.org/event/dining-meeting-8/
LOCATION:Dining Room
END:VEVENT
BEGIN:VEVENT
DTSTART;TZID=America/New_York:20250106T130000
DTEND;TZID=America/New_York:20250106T130000
DTSTAMP:20260421T131849
CREATED:20241231T164415Z
LAST-MODIFIED:20241231T164415Z
UID:15082-1736168400-1736168400@towerlane.org
SUMMARY:Chair Yoga
DESCRIPTION:
URL:https://towerlane.org/event/chair-yoga-24/
LOCATION:Dining Room
END:VEVENT
BEGIN:VEVENT
DTSTART;TZID=America/New_York:20250106T100000
DTEND;TZID=America/New_York:20250106T100000
DTSTAMP:20260421T131849
CREATED:20241231T164202Z
LAST-MODIFIED:20241231T164202Z
UID:15072-1736157600-1736157600@towerlane.org
SUMMARY:Coffee Klatch
DESCRIPTION:
URL:https://towerlane.org/event/coffee-klatch-29/
LOCATION:Dining Room
END:VEVENT
BEGIN:VEVENT
DTSTART;TZID=America/New_York:20250103T130000
DTEND;TZID=America/New_York:20250103T130000
DTSTAMP:20260421T131849
CREATED:20241231T162919Z
LAST-MODIFIED:20241231T162919Z
UID:15031-1735909200-1735909200@towerlane.org
SUMMARY:Tai Chi
DESCRIPTION:
URL:https://towerlane.org/event/tai-chi-28/
LOCATION:Dining Room
END:VEVENT
BEGIN:VEVENT
DTSTART;TZID=America/New_York:20250103T100000
DTEND;TZID=America/New_York:20250103T100000
DTSTAMP:20260421T131849
CREATED:20241231T162656Z
LAST-MODIFIED:20241231T162656Z
UID:15019-1735898400-1735898400@towerlane.org
SUMMARY:Bible Study
DESCRIPTION:
URL:https://towerlane.org/event/bible-study-54/
LOCATION:Dining Room
END:VEVENT
BEGIN:VEVENT
DTSTART;TZID=America/New_York:20250102T130000
DTEND;TZID=America/New_York:20250102T130000
DTSTAMP:20260421T131849
CREATED:20241231T162442Z
LAST-MODIFIED:20241231T162442Z
UID:15015-1735822800-1735822800@towerlane.org
SUMMARY:Catholic Mass
DESCRIPTION:
URL:https://towerlane.org/event/catholic-mass-59/
LOCATION:Dining Room
END:VEVENT
BEGIN:VEVENT
DTSTART;TZID=America/New_York:20250101T153000
DTEND;TZID=America/New_York:20250101T153000
DTSTAMP:20260421T131849
CREATED:20241231T162231Z
LAST-MODIFIED:20241231T162231Z
UID:15009-1735745400-1735745400@towerlane.org
SUMMARY:Last Hanukkah Candle Lighting with Ellen Iead and Family
DESCRIPTION:
URL:https://towerlane.org/event/last-hanukkah-candle-lighting-with-ellen-iead-and-family/
LOCATION:Dining Room
END:VEVENT
BEGIN:VEVENT
DTSTART;TZID=America/New_York:20241231T153000
DTEND;TZID=America/New_York:20241231T153000
DTSTAMP:20260421T131849
CREATED:20241202T200843Z
LAST-MODIFIED:20241202T200843Z
UID:14934-1735659000-1735659000@towerlane.org
SUMMARY:Hanukkah Candle Lighting
DESCRIPTION:
URL:https://towerlane.org/event/hanukkah-candle-lighting-5/
LOCATION:Dining Room
END:VEVENT
BEGIN:VEVENT
DTSTART;TZID=America/New_York:20241231T130000
DTEND;TZID=America/New_York:20241231T130000
DTSTAMP:20260421T131849
CREATED:20241202T195121Z
LAST-MODIFIED:20241202T195121Z
UID:14892-1735650000-1735650000@towerlane.org
SUMMARY:Interactive Music
DESCRIPTION:
URL:https://towerlane.org/event/interactive-music-30/2024-12-31/
LOCATION:Dining Room
END:VEVENT
BEGIN:VEVENT
DTSTART;TZID=America/New_York:20241230T153000
DTEND;TZID=America/New_York:20241230T153000
DTSTAMP:20260421T131849
CREATED:20241202T200810Z
LAST-MODIFIED:20241202T200810Z
UID:14932-1735572600-1735572600@towerlane.org
SUMMARY:Hanukkah Candle Lighting
DESCRIPTION:
URL:https://towerlane.org/event/hanukkah-candle-lighting-4/
LOCATION:Dining Room
END:VEVENT
BEGIN:VEVENT
DTSTART;TZID=America/New_York:20241230T130000
DTEND;TZID=America/New_York:20241230T130000
DTSTAMP:20260421T131849
CREATED:20241202T191335Z
LAST-MODIFIED:20241202T191335Z
UID:14792-1735563600-1735563600@towerlane.org
SUMMARY:Yoga with Bill
DESCRIPTION:
URL:https://towerlane.org/event/yoga-with-bill-4/2024-12-30/
LOCATION:Dining Room
END:VEVENT
BEGIN:VEVENT
DTSTART;TZID=America/New_York:20241230T100000
DTEND;TZID=America/New_York:20241230T100000
DTSTAMP:20260421T131849
CREATED:20241202T191029Z
LAST-MODIFIED:20241202T191029Z
UID:14780-1735552800-1735552800@towerlane.org
SUMMARY:Coffee Klatch
DESCRIPTION:
URL:https://towerlane.org/event/coffee-klatch-28/2024-12-30/
LOCATION:Dining Room
END:VEVENT
BEGIN:VEVENT
DTSTART;TZID=America/New_York:20241229T153000
DTEND;TZID=America/New_York:20241229T153000
DTSTAMP:20260421T131849
CREATED:20241202T200724Z
LAST-MODIFIED:20241202T200724Z
UID:14930-1735486200-1735486200@towerlane.org
SUMMARY:Hanukkah Candle Lighting
DESCRIPTION:
URL:https://towerlane.org/event/hanukkah-candle-lighting-3/
LOCATION:Dining Room
END:VEVENT
BEGIN:VEVENT
DTSTART;TZID=America/New_York:20241228T173000
DTEND;TZID=America/New_York:20241228T173000
DTSTAMP:20260421T131849
CREATED:20241202T200640Z
LAST-MODIFIED:20241202T200640Z
UID:14928-1735407000-1735407000@towerlane.org
SUMMARY:Hanukkah Candle Lighting and Singing with Richard Gans
DESCRIPTION:
URL:https://towerlane.org/event/hanukkah-candle-lighting-and-singing-with-richard-gans/
LOCATION:Dining Room
END:VEVENT
BEGIN:VEVENT
DTSTART;TZID=America/New_York:20241227T153000
DTEND;TZID=America/New_York:20241227T153000
DTSTAMP:20260421T131849
CREATED:20241202T200433Z
LAST-MODIFIED:20241202T200433Z
UID:14926-1735313400-1735313400@towerlane.org
SUMMARY:Hanukkah Candle Lighting
DESCRIPTION:
URL:https://towerlane.org/event/hanukkah-candle-lighting-2/
LOCATION:Dining Room
END:VEVENT
BEGIN:VEVENT
DTSTART;TZID=America/New_York:20241227T130000
DTEND;TZID=America/New_York:20241227T130000
DTSTAMP:20260421T131849
CREATED:20241202T193523Z
LAST-MODIFIED:20241202T193523Z
UID:14848-1735304400-1735304400@towerlane.org
SUMMARY:Tai Chi with Bill
DESCRIPTION:
URL:https://towerlane.org/event/tai-chi-with-bill-2/2024-12-27/
LOCATION:Dining Room
END:VEVENT
BEGIN:VEVENT
DTSTART;TZID=America/New_York:20241227T100000
DTEND;TZID=America/New_York:20241227T100000
DTSTAMP:20260421T131849
CREATED:20241202T193306Z
LAST-MODIFIED:20241202T193306Z
UID:14839-1735293600-1735293600@towerlane.org
SUMMARY:Christian Bible Study
DESCRIPTION:
URL:https://towerlane.org/event/christian-bible-study/2024-12-27/
LOCATION:Dining Room
END:VEVENT
BEGIN:VEVENT
DTSTART;TZID=America/New_York:20241226T110000
DTEND;TZID=America/New_York:20241226T110000
DTSTAMP:20260421T131849
CREATED:20241202T200237Z
LAST-MODIFIED:20241202T200237Z
UID:14922-1735210800-1735210800@towerlane.org
SUMMARY:Mindfulness and Movement
DESCRIPTION:
URL:https://towerlane.org/event/mindfulness-and-movement-26/
LOCATION:Dining Room
END:VEVENT
BEGIN:VEVENT
DTSTART;TZID=America/New_York:20241225T153000
DTEND;TZID=America/New_York:20241225T153000
DTSTAMP:20260421T131849
CREATED:20241202T200118Z
LAST-MODIFIED:20241202T200118Z
UID:14918-1735140600-1735140600@towerlane.org
SUMMARY:First Hanukkah Candle Lighting
DESCRIPTION:
URL:https://towerlane.org/event/first-hanukkah-candle-lighting-2/
LOCATION:Dining Room
END:VEVENT
BEGIN:VEVENT
DTSTART;TZID=America/New_York:20241223T130000
DTEND;TZID=America/New_York:20241223T130000
DTSTAMP:20260421T131849
CREATED:20241202T191335Z
LAST-MODIFIED:20241202T191335Z
UID:14791-1734958800-1734958800@towerlane.org
SUMMARY:Yoga with Bill
DESCRIPTION:
URL:https://towerlane.org/event/yoga-with-bill-4/2024-12-23/
LOCATION:Dining Room
END:VEVENT
BEGIN:VEVENT
DTSTART;TZID=America/New_York:20241223T100000
DTEND;TZID=America/New_York:20241223T100000
DTSTAMP:20260421T131849
CREATED:20241202T191029Z
LAST-MODIFIED:20241202T191029Z
UID:14779-1734948000-1734948000@towerlane.org
SUMMARY:Coffee Klatch
DESCRIPTION:
URL:https://towerlane.org/event/coffee-klatch-28/2024-12-23/
LOCATION:Dining Room
END:VEVENT
BEGIN:VEVENT
DTSTART;TZID=America/New_York:20241221T153000
DTEND;TZID=America/New_York:20241221T153000
DTSTAMP:20260421T131849
CREATED:20241202T195800Z
LAST-MODIFIED:20241202T195800Z
UID:14908-1734795000-1734795000@towerlane.org
SUMMARY:Christian Worship Service
DESCRIPTION:
URL:https://towerlane.org/event/christian-worship-service-43/
LOCATION:Dining Room
END:VEVENT
END:VCALENDAR