BEGIN:VCALENDAR
VERSION:2.0
PRODID:-//The Towers - ECPv6.10.3//NONSGML v1.0//EN
CALSCALE:GREGORIAN
METHOD:PUBLISH
X-ORIGINAL-URL:https://towerlane.org
X-WR-CALDESC:Events for The Towers
REFRESH-INTERVAL;VALUE=DURATION:PT1H
X-Robots-Tag:noindex
X-PUBLISHED-TTL:PT1H
BEGIN:VTIMEZONE
TZID:America/New_York
BEGIN:DAYLIGHT
TZOFFSETFROM:-0500
TZOFFSETTO:-0400
TZNAME:EDT
DTSTART:20240310T070000
END:DAYLIGHT
BEGIN:STANDARD
TZOFFSETFROM:-0400
TZOFFSETTO:-0500
TZNAME:EST
DTSTART:20241103T060000
END:STANDARD
END:VTIMEZONE
BEGIN:VEVENT
DTSTART;TZID=America/New_York:20241216T130000
DTEND;TZID=America/New_York:20241216T130000
DTSTAMP:20260421T175832
CREATED:20241202T191335Z
LAST-MODIFIED:20241202T191335Z
UID:14790-1734354000-1734354000@towerlane.org
SUMMARY:Yoga with Bill
DESCRIPTION:
URL:https://towerlane.org/event/yoga-with-bill-4/2024-12-16/
LOCATION:Dining Room
END:VEVENT
BEGIN:VEVENT
DTSTART;TZID=America/New_York:20241216T100000
DTEND;TZID=America/New_York:20241216T100000
DTSTAMP:20260421T175832
CREATED:20241202T191029Z
LAST-MODIFIED:20241202T191029Z
UID:14778-1734343200-1734343200@towerlane.org
SUMMARY:Coffee Klatch
DESCRIPTION:
URL:https://towerlane.org/event/coffee-klatch-28/2024-12-16/
LOCATION:Dining Room
END:VEVENT
BEGIN:VEVENT
DTSTART;TZID=America/New_York:20241214T153000
DTEND;TZID=America/New_York:20241214T153000
DTSTAMP:20260421T175832
CREATED:20241202T194723Z
LAST-MODIFIED:20241202T194723Z
UID:14883-1734190200-1734190200@towerlane.org
SUMMARY:Christian Worship Service
DESCRIPTION:
URL:https://towerlane.org/event/christian-worship-service-42/
LOCATION:Dining Room
END:VEVENT
BEGIN:VEVENT
DTSTART;TZID=America/New_York:20241213T130000
DTEND;TZID=America/New_York:20241213T130000
DTSTAMP:20260421T175832
CREATED:20241202T193523Z
LAST-MODIFIED:20241202T193523Z
UID:14847-1734094800-1734094800@towerlane.org
SUMMARY:Tai Chi with Bill
DESCRIPTION:
URL:https://towerlane.org/event/tai-chi-with-bill-2/2024-12-13/
LOCATION:Dining Room
END:VEVENT
BEGIN:VEVENT
DTSTART;TZID=America/New_York:20241213T100000
DTEND;TZID=America/New_York:20241213T100000
DTSTAMP:20260421T175832
CREATED:20241202T193306Z
LAST-MODIFIED:20241202T193306Z
UID:14837-1734084000-1734084000@towerlane.org
SUMMARY:Christian Bible Study
DESCRIPTION:
URL:https://towerlane.org/event/christian-bible-study/2024-12-13/
LOCATION:Dining Room
END:VEVENT
BEGIN:VEVENT
DTSTART;TZID=America/New_York:20241212T140000
DTEND;TZID=America/New_York:20241212T140000
DTSTAMP:20260421T175832
CREATED:20241202T194623Z
LAST-MODIFIED:20241202T194623Z
UID:14881-1734012000-1734012000@towerlane.org
SUMMARY:Sing Along with Richard Gans
DESCRIPTION:
URL:https://towerlane.org/event/sing-along-with-richard-gans-12/
LOCATION:Dining Room
END:VEVENT
BEGIN:VEVENT
DTSTART;TZID=America/New_York:20241209T130000
DTEND;TZID=America/New_York:20241209T130000
DTSTAMP:20260421T175832
CREATED:20241202T191335Z
LAST-MODIFIED:20241202T191335Z
UID:14789-1733749200-1733749200@towerlane.org
SUMMARY:Yoga with Bill
DESCRIPTION:
URL:https://towerlane.org/event/yoga-with-bill-4/2024-12-09/
LOCATION:Dining Room
END:VEVENT
BEGIN:VEVENT
DTSTART;TZID=America/New_York:20241209T100000
DTEND;TZID=America/New_York:20241209T100000
DTSTAMP:20260421T175833
CREATED:20241202T191029Z
LAST-MODIFIED:20241202T191029Z
UID:14777-1733738400-1733738400@towerlane.org
SUMMARY:Coffee Klatch
DESCRIPTION:
URL:https://towerlane.org/event/coffee-klatch-28/2024-12-09/
LOCATION:Dining Room
END:VEVENT
BEGIN:VEVENT
DTSTART;TZID=America/New_York:20241208T140000
DTEND;TZID=America/New_York:20241208T140000
DTSTAMP:20260421T175833
CREATED:20241202T194130Z
LAST-MODIFIED:20241202T194130Z
UID:14871-1733666400-1733666400@towerlane.org
SUMMARY:Yale Slifka Students Klezmer Concert
DESCRIPTION:
URL:https://towerlane.org/event/yale-slifka-students-klezmer-concert/
LOCATION:Dining Room
END:VEVENT
BEGIN:VEVENT
DTSTART;TZID=America/New_York:20241207T153000
DTEND;TZID=America/New_York:20241207T153000
DTSTAMP:20260421T175833
CREATED:20241202T194037Z
LAST-MODIFIED:20241202T194037Z
UID:14869-1733585400-1733585400@towerlane.org
SUMMARY:Welcome Back "Harmony Healing" Musical Performance
DESCRIPTION:
URL:https://towerlane.org/event/welcome-back-harmony-healing-musical-performance/
LOCATION:Dining Room
END:VEVENT
BEGIN:VEVENT
DTSTART;TZID=America/New_York:20241206T130000
DTEND;TZID=America/New_York:20241206T130000
DTSTAMP:20260421T175833
CREATED:20241202T193523Z
LAST-MODIFIED:20241202T193523Z
UID:14846-1733490000-1733490000@towerlane.org
SUMMARY:Tai Chi with Bill
DESCRIPTION:
URL:https://towerlane.org/event/tai-chi-with-bill-2/
LOCATION:Dining Room
END:VEVENT
BEGIN:VEVENT
DTSTART;TZID=America/New_York:20241206T100000
DTEND;TZID=America/New_York:20241206T100000
DTSTAMP:20260421T175833
CREATED:20241202T193306Z
LAST-MODIFIED:20241202T193306Z
UID:14836-1733479200-1733479200@towerlane.org
SUMMARY:Christian Bible Study
DESCRIPTION:
URL:https://towerlane.org/event/christian-bible-study/
LOCATION:Dining Room
END:VEVENT
BEGIN:VEVENT
DTSTART;TZID=America/New_York:20241205T130000
DTEND;TZID=America/New_York:20241205T130000
DTSTAMP:20260421T175833
CREATED:20241202T193142Z
LAST-MODIFIED:20241202T193142Z
UID:14834-1733403600-1733403600@towerlane.org
SUMMARY:Catholic Mass
DESCRIPTION:
URL:https://towerlane.org/event/catholic-mass-57/
LOCATION:Dining Room
END:VEVENT
BEGIN:VEVENT
DTSTART;TZID=America/New_York:20241205T110000
DTEND;TZID=America/New_York:20241205T110000
DTSTAMP:20260421T175833
CREATED:20241202T192934Z
LAST-MODIFIED:20241202T192934Z
UID:14829-1733396400-1733396400@towerlane.org
SUMMARY:Mindfulness and Movement
DESCRIPTION:
URL:https://towerlane.org/event/mindfulness-and-movement-25/
LOCATION:Dining Room
END:VEVENT
BEGIN:VEVENT
DTSTART;TZID=America/New_York:20241202T130000
DTEND;TZID=America/New_York:20241202T130000
DTSTAMP:20260421T175833
CREATED:20241202T191335Z
LAST-MODIFIED:20241202T191335Z
UID:14788-1733144400-1733144400@towerlane.org
SUMMARY:Yoga with Bill
DESCRIPTION:
URL:https://towerlane.org/event/yoga-with-bill-4/
LOCATION:Dining Room
END:VEVENT
BEGIN:VEVENT
DTSTART;TZID=America/New_York:20241202T100000
DTEND;TZID=America/New_York:20241202T100000
DTSTAMP:20260421T175833
CREATED:20241202T191029Z
LAST-MODIFIED:20241202T191029Z
UID:14776-1733133600-1733133600@towerlane.org
SUMMARY:Coffee Klatch
DESCRIPTION:
URL:https://towerlane.org/event/coffee-klatch-28/
LOCATION:Dining Room
END:VEVENT
BEGIN:VEVENT
DTSTART;TZID=America/New_York:20241127T140000
DTEND;TZID=America/New_York:20241127T140000
DTSTAMP:20260421T175833
CREATED:20241101T155122Z
LAST-MODIFIED:20241101T155122Z
UID:14757-1732716000-1732716000@towerlane.org
SUMMARY:Sing Along with Richard Gans
DESCRIPTION:
URL:https://towerlane.org/event/sing-along-with-richard-gans-11/
LOCATION:Dining Room
END:VEVENT
BEGIN:VEVENT
DTSTART;TZID=America/New_York:20241125T130000
DTEND;TZID=America/New_York:20241125T130000
DTSTAMP:20260421T175833
CREATED:20241031T170121Z
LAST-MODIFIED:20241031T170121Z
UID:14650-1732539600-1732539600@towerlane.org
SUMMARY:Yoga with Bill
DESCRIPTION:
URL:https://towerlane.org/event/yoga-with-bill-3/2024-11-25/
LOCATION:Dining Room
END:VEVENT
BEGIN:VEVENT
DTSTART;TZID=America/New_York:20241124T140000
DTEND;TZID=America/New_York:20241124T140000
DTSTAMP:20260421T175833
CREATED:20241101T154911Z
LAST-MODIFIED:20241101T154911Z
UID:14751-1732456800-1732456800@towerlane.org
SUMMARY:Israeli Dance Performance
DESCRIPTION:
URL:https://towerlane.org/event/israeli-dance-performance-2/
LOCATION:Dining Room
END:VEVENT
BEGIN:VEVENT
DTSTART;TZID=America/New_York:20241123T130000
DTEND;TZID=America/New_York:20241123T150000
DTSTAMP:20260421T175833
CREATED:20241101T154750Z
LAST-MODIFIED:20241101T154750Z
UID:14747-1732366800-1732374000@towerlane.org
SUMMARY:Resident Tag Sale
DESCRIPTION:
URL:https://towerlane.org/event/resident-tag-sale/
LOCATION:Dining Room
END:VEVENT
BEGIN:VEVENT
DTSTART;TZID=America/New_York:20241122T130000
DTEND;TZID=America/New_York:20241122T130000
DTSTAMP:20260421T175833
CREATED:20241031T164540Z
LAST-MODIFIED:20241031T164540Z
UID:14598-1732280400-1732280400@towerlane.org
SUMMARY:Tai Chi
DESCRIPTION:
URL:https://towerlane.org/event/tai-chi-27/2024-11-22/
LOCATION:Dining Room
END:VEVENT
BEGIN:VEVENT
DTSTART;TZID=America/New_York:20241121T130000
DTEND;TZID=America/New_York:20241121T130000
DTSTAMP:20260421T175833
CREATED:20241101T154631Z
LAST-MODIFIED:20241101T154631Z
UID:14743-1732194000-1732194000@towerlane.org
SUMMARY:Catholic Mass
DESCRIPTION:
URL:https://towerlane.org/event/catholic-mass-56/
LOCATION:Dining Room
END:VEVENT
BEGIN:VEVENT
DTSTART;TZID=America/New_York:20241119T130000
DTEND;TZID=America/New_York:20241119T130000
DTSTAMP:20260421T175833
CREATED:20241101T154235Z
LAST-MODIFIED:20241101T154235Z
UID:14731-1732021200-1732021200@towerlane.org
SUMMARY:Interactive Music
DESCRIPTION:
URL:https://towerlane.org/event/interactive-music-28/
LOCATION:Dining Room
END:VEVENT
BEGIN:VEVENT
DTSTART;TZID=America/New_York:20241118T130000
DTEND;TZID=America/New_York:20241118T130000
DTSTAMP:20260421T175833
CREATED:20241031T170121Z
LAST-MODIFIED:20241031T170121Z
UID:14649-1731934800-1731934800@towerlane.org
SUMMARY:Yoga with Bill
DESCRIPTION:
URL:https://towerlane.org/event/yoga-with-bill-3/2024-11-18/
LOCATION:Dining Room
END:VEVENT
BEGIN:VEVENT
DTSTART;TZID=America/New_York:20241115T130000
DTEND;TZID=America/New_York:20241115T130000
DTSTAMP:20260421T175833
CREATED:20241031T164540Z
LAST-MODIFIED:20241031T164540Z
UID:14597-1731675600-1731675600@towerlane.org
SUMMARY:Tai Chi
DESCRIPTION:
URL:https://towerlane.org/event/tai-chi-27/2024-11-15/
LOCATION:Dining Room
END:VEVENT
BEGIN:VEVENT
DTSTART;TZID=America/New_York:20241115T100000
DTEND;TZID=America/New_York:20241115T100000
DTSTAMP:20260421T175833
CREATED:20241101T153746Z
LAST-MODIFIED:20241101T153746Z
UID:14721-1731664800-1731664800@towerlane.org
SUMMARY:Bible Study
DESCRIPTION:
URL:https://towerlane.org/event/bible-study-53/
LOCATION:Dining Room
END:VEVENT
BEGIN:VEVENT
DTSTART;TZID=America/New_York:20241114T140000
DTEND;TZID=America/New_York:20241114T140000
DTSTAMP:20260421T175833
CREATED:20241101T153628Z
LAST-MODIFIED:20241101T153628Z
UID:14717-1731592800-1731592800@towerlane.org
SUMMARY:Sing Along with Richard Gans
DESCRIPTION:
URL:https://towerlane.org/event/sing-along-with-richard-gans-10/
LOCATION:Dining Room
END:VEVENT
BEGIN:VEVENT
DTSTART;TZID=America/New_York:20241114T120000
DTEND;TZID=America/New_York:20241114T140000
DTSTAMP:20260421T175833
CREATED:20241101T153549Z
LAST-MODIFIED:20241101T153549Z
UID:14715-1731585600-1731592800@towerlane.org
SUMMARY:Apple Party - All Residents Invited!
DESCRIPTION:
URL:https://towerlane.org/event/apple-party-all-residents-invited/
LOCATION:Dining Room
END:VEVENT
BEGIN:VEVENT
DTSTART;TZID=America/New_York:20241113T110000
DTEND;TZID=America/New_York:20241113T130000
DTSTAMP:20260421T175833
CREATED:20241101T153257Z
LAST-MODIFIED:20241101T153257Z
UID:14707-1731495600-1731502800@towerlane.org
SUMMARY:Wilson Library Visit
DESCRIPTION:
URL:https://towerlane.org/event/wilson-library-visit-2/
LOCATION:Dining Room
END:VEVENT
BEGIN:VEVENT
DTSTART;TZID=America/New_York:20241112T140000
DTEND;TZID=America/New_York:20241112T140000
DTSTAMP:20260421T175833
CREATED:20241031T171853Z
LAST-MODIFIED:20241031T171853Z
UID:14703-1731420000-1731420000@towerlane.org
SUMMARY:Welcome Ann Mosher from the Department of Veterans Affairs
DESCRIPTION:
URL:https://towerlane.org/event/welcome-ann-mosher-from-the-department-of-veterans-affairs/
LOCATION:Dining Room
END:VEVENT
END:VCALENDAR