BEGIN:VCALENDAR
VERSION:2.0
PRODID:-//The Towers - ECPv6.10.3//NONSGML v1.0//EN
CALSCALE:GREGORIAN
METHOD:PUBLISH
X-ORIGINAL-URL:https://towerlane.org
X-WR-CALDESC:Events for The Towers
REFRESH-INTERVAL;VALUE=DURATION:PT1H
X-Robots-Tag:noindex
X-PUBLISHED-TTL:PT1H
BEGIN:VTIMEZONE
TZID:America/New_York
BEGIN:DAYLIGHT
TZOFFSETFROM:-0500
TZOFFSETTO:-0400
TZNAME:EDT
DTSTART:20220313T070000
END:DAYLIGHT
BEGIN:STANDARD
TZOFFSETFROM:-0400
TZOFFSETTO:-0500
TZNAME:EST
DTSTART:20221106T060000
END:STANDARD
BEGIN:DAYLIGHT
TZOFFSETFROM:-0500
TZOFFSETTO:-0400
TZNAME:EDT
DTSTART:20230312T070000
END:DAYLIGHT
BEGIN:STANDARD
TZOFFSETFROM:-0400
TZOFFSETTO:-0500
TZNAME:EST
DTSTART:20231105T060000
END:STANDARD
BEGIN:DAYLIGHT
TZOFFSETFROM:-0500
TZOFFSETTO:-0400
TZNAME:EDT
DTSTART:20240310T070000
END:DAYLIGHT
BEGIN:STANDARD
TZOFFSETFROM:-0400
TZOFFSETTO:-0500
TZNAME:EST
DTSTART:20241103T060000
END:STANDARD
END:VTIMEZONE
BEGIN:VEVENT
DTSTART;TZID=America/New_York:20241104T130000
DTEND;TZID=America/New_York:20241104T130000
DTSTAMP:20260421T223658
CREATED:20241031T170121Z
LAST-MODIFIED:20241031T170121Z
UID:14647-1730725200-1730725200@towerlane.org
SUMMARY:Yoga with Bill
DESCRIPTION:
URL:https://towerlane.org/event/yoga-with-bill-3/
LOCATION:Dining Room
END:VEVENT
BEGIN:VEVENT
DTSTART;TZID=America/New_York:20241103T150000
DTEND;TZID=America/New_York:20241103T150000
DTSTAMP:20260421T223658
CREATED:20241031T165521Z
LAST-MODIFIED:20241031T165521Z
UID:14632-1730646000-1730646000@towerlane.org
SUMMARY:Welcome Emily Fine Duet
DESCRIPTION:
URL:https://towerlane.org/event/welcome-emily-fine-duet/
LOCATION:Dining Room
END:VEVENT
BEGIN:VEVENT
DTSTART;TZID=America/New_York:20241101T130000
DTEND;TZID=America/New_York:20241101T130000
DTSTAMP:20260421T223658
CREATED:20241031T164540Z
LAST-MODIFIED:20241031T164540Z
UID:14595-1730466000-1730466000@towerlane.org
SUMMARY:Tai Chi
DESCRIPTION:
URL:https://towerlane.org/event/tai-chi-27/
LOCATION:Dining Room
END:VEVENT
BEGIN:VEVENT
DTSTART;TZID=America/New_York:20241101T100000
DTEND;TZID=America/New_York:20241101T100000
DTSTAMP:20260421T223658
CREATED:20241031T164257Z
LAST-MODIFIED:20241031T164257Z
UID:14587-1730455200-1730455200@towerlane.org
SUMMARY:Bible Study
DESCRIPTION:
URL:https://towerlane.org/event/bible-study-52/
LOCATION:Dining Room
END:VEVENT
BEGIN:VEVENT
DTSTART;TZID=America/New_York:20241028T130000
DTEND;TZID=America/New_York:20241028T130000
DTSTAMP:20260421T223658
CREATED:20241001T141740Z
LAST-MODIFIED:20241001T141740Z
UID:14467-1730120400-1730120400@towerlane.org
SUMMARY:Yoga
DESCRIPTION:
URL:https://towerlane.org/event/yoga/2024-10-28/
LOCATION:Dining Room
END:VEVENT
BEGIN:VEVENT
DTSTART;TZID=America/New_York:20241024T140000
DTEND;TZID=America/New_York:20241024T140000
DTSTAMP:20260421T223658
CREATED:20241001T173313Z
LAST-MODIFIED:20241001T173313Z
UID:14551-1729778400-1729778400@towerlane.org
SUMMARY:Sing Along with Richard Gans
DESCRIPTION:
URL:https://towerlane.org/event/sing-along-with-richard-gans-9/
LOCATION:Dining Room
END:VEVENT
BEGIN:VEVENT
DTSTART;TZID=America/New_York:20241023T133000
DTEND;TZID=America/New_York:20241023T133000
DTSTAMP:20260421T223658
CREATED:20241001T173030Z
LAST-MODIFIED:20241001T173030Z
UID:14543-1729690200-1729690200@towerlane.org
SUMMARY:Chorus Concert
DESCRIPTION:
URL:https://towerlane.org/event/chorus-concert-5/
LOCATION:Dining Room
END:VEVENT
BEGIN:VEVENT
DTSTART;TZID=America/New_York:20241021T130000
DTEND;TZID=America/New_York:20241021T130000
DTSTAMP:20260421T223658
CREATED:20241001T141740Z
LAST-MODIFIED:20241001T141740Z
UID:14466-1729515600-1729515600@towerlane.org
SUMMARY:Yoga
DESCRIPTION:
URL:https://towerlane.org/event/yoga/2024-10-21/
LOCATION:Dining Room
END:VEVENT
BEGIN:VEVENT
DTSTART;TZID=America/New_York:20241018T130000
DTEND;TZID=America/New_York:20241018T130000
DTSTAMP:20260421T223658
CREATED:20241001T140856Z
LAST-MODIFIED:20241001T140856Z
UID:14436-1729256400-1729256400@towerlane.org
SUMMARY:Tai Chi
DESCRIPTION:
URL:https://towerlane.org/event/tai-chi-26/2024-10-18/
LOCATION:Dining Room
END:VEVENT
BEGIN:VEVENT
DTSTART;TZID=America/New_York:20241016T100000
DTEND;TZID=America/New_York:20241016T100000
DTSTAMP:20260421T223658
CREATED:20241001T172101Z
LAST-MODIFIED:20241001T172101Z
UID:14522-1729072800-1729072800@towerlane.org
SUMMARY:St. Thomas Day School Visit
DESCRIPTION:
URL:https://towerlane.org/event/st-thomas-day-school-visit/
LOCATION:Dining Room
END:VEVENT
BEGIN:VEVENT
DTSTART;TZID=America/New_York:20241014T130000
DTEND;TZID=America/New_York:20241014T130000
DTSTAMP:20260421T223658
CREATED:20241001T141740Z
LAST-MODIFIED:20241001T141740Z
UID:14465-1728910800-1728910800@towerlane.org
SUMMARY:Yoga
DESCRIPTION:
URL:https://towerlane.org/event/yoga/2024-10-14/
LOCATION:Dining Room
END:VEVENT
BEGIN:VEVENT
DTSTART;TZID=America/New_York:20241011T130000
DTEND;TZID=America/New_York:20241011T130000
DTSTAMP:20260421T223658
CREATED:20241001T140856Z
LAST-MODIFIED:20241001T140856Z
UID:14435-1728651600-1728651600@towerlane.org
SUMMARY:Tai Chi
DESCRIPTION:
URL:https://towerlane.org/event/tai-chi-26/2024-10-11/
LOCATION:Dining Room
END:VEVENT
BEGIN:VEVENT
DTSTART;TZID=America/New_York:20241010T140000
DTEND;TZID=America/New_York:20241010T140000
DTSTAMP:20260421T223658
CREATED:20241001T153654Z
LAST-MODIFIED:20241001T153654Z
UID:14497-1728568800-1728568800@towerlane.org
SUMMARY:Sing Along with Richard Gans
DESCRIPTION:
URL:https://towerlane.org/event/sing-along-with-richard-gans-8/
LOCATION:Dining Room
END:VEVENT
BEGIN:VEVENT
DTSTART;TZID=America/New_York:20241009T110000
DTEND;TZID=America/New_York:20241009T130000
DTSTAMP:20260421T223658
CREATED:20241001T153337Z
LAST-MODIFIED:20241001T153337Z
UID:14489-1728471600-1728478800@towerlane.org
SUMMARY:Wilson Library
DESCRIPTION:
URL:https://towerlane.org/event/wilson-library/
LOCATION:Dining Room
END:VEVENT
BEGIN:VEVENT
DTSTART;TZID=America/New_York:20241007T130000
DTEND;TZID=America/New_York:20241007T130000
DTSTAMP:20260421T223658
CREATED:20241001T141740Z
LAST-MODIFIED:20241001T141740Z
UID:14464-1728306000-1728306000@towerlane.org
SUMMARY:Yoga
DESCRIPTION:
URL:https://towerlane.org/event/yoga/
LOCATION:Dining Room
END:VEVENT
BEGIN:VEVENT
DTSTART;TZID=America/New_York:20241004T130000
DTEND;TZID=America/New_York:20241004T130000
DTSTAMP:20260421T223658
CREATED:20241001T140856Z
LAST-MODIFIED:20241001T140856Z
UID:14434-1728046800-1728046800@towerlane.org
SUMMARY:Tai Chi
DESCRIPTION:
URL:https://towerlane.org/event/tai-chi-26/
LOCATION:Dining Room
END:VEVENT
BEGIN:VEVENT
DTSTART;TZID=America/New_York:20241001T140000
DTEND;TZID=America/New_York:20241001T140000
DTSTAMP:20260421T223658
CREATED:20241001T135851Z
LAST-MODIFIED:20241001T135851Z
UID:14410-1727791200-1727791200@towerlane.org
SUMMARY:Food Service Meeting
DESCRIPTION:
URL:https://towerlane.org/event/food-service-meeting-3/
LOCATION:Dining Room
END:VEVENT
BEGIN:VEVENT
DTSTART;TZID=America/New_York:20240926T140000
DTEND;TZID=America/New_York:20240926T140000
DTSTAMP:20260421T223658
CREATED:20240903T165700Z
LAST-MODIFIED:20240903T165700Z
UID:14343-1727359200-1727359200@towerlane.org
SUMMARY:Sing Along with Richard Gans
DESCRIPTION:
URL:https://towerlane.org/event/sing-along-with-richard-gans-7/
LOCATION:Dining Room
END:VEVENT
BEGIN:VEVENT
DTSTART;TZID=America/New_York:20240919T190000
DTEND;TZID=America/New_York:20240919T190000
DTSTAMP:20260421T223658
CREATED:20240903T165250Z
LAST-MODIFIED:20240903T165250Z
UID:14335-1726772400-1726772400@towerlane.org
SUMMARY:Charles "Piano Man" Thomas
DESCRIPTION:
URL:https://towerlane.org/event/charles-piano-man-thomas-3/
LOCATION:Dining Room
END:VEVENT
BEGIN:VEVENT
DTSTART;TZID=America/New_York:20240915T140000
DTEND;TZID=America/New_York:20240915T140000
DTSTAMP:20260421T223658
CREATED:20240903T164638Z
LAST-MODIFIED:20240903T164638Z
UID:14319-1726408800-1726408800@towerlane.org
SUMMARY:Welcome Violinist Kevin Zheng
DESCRIPTION:
URL:https://towerlane.org/event/welcome-violinist-kevin-zheng/
LOCATION:Dining Room
END:VEVENT
BEGIN:VEVENT
DTSTART;TZID=America/New_York:20240908T140000
DTEND;TZID=America/New_York:20240908T140000
DTSTAMP:20260421T223658
CREATED:20240903T150647Z
LAST-MODIFIED:20240903T150647Z
UID:14281-1725804000-1725804000@towerlane.org
SUMMARY:BEKI School Visit
DESCRIPTION:
URL:https://towerlane.org/event/beki-school-visit/
LOCATION:Dining Room
END:VEVENT
BEGIN:VEVENT
DTSTART;TZID=America/New_York:20240905T140000
DTEND;TZID=America/New_York:20240905T140000
DTSTAMP:20260421T223658
CREATED:20240903T145627Z
LAST-MODIFIED:20240903T145627Z
UID:14248-1725544800-1725544800@towerlane.org
SUMMARY:Sing Along with Richard Gans
DESCRIPTION:
URL:https://towerlane.org/event/sing-along-with-richard-gans-6/
LOCATION:Dining Room
END:VEVENT
BEGIN:VEVENT
DTSTART;TZID=America/New_York:20240903T140000
DTEND;TZID=America/New_York:20240903T140000
DTSTAMP:20260421T223658
CREATED:20240903T144605Z
LAST-MODIFIED:20240903T144605Z
UID:14222-1725372000-1725372000@towerlane.org
SUMMARY:Food Service Meeting
DESCRIPTION:
URL:https://towerlane.org/event/food-service-meeting-2/
LOCATION:Dining Room
END:VEVENT
BEGIN:VEVENT
DTSTART;TZID=America/New_York:20240808T140000
DTEND;TZID=America/New_York:20240808T140000
DTSTAMP:20260421T223658
CREATED:20240730T164108Z
LAST-MODIFIED:20240730T164108Z
UID:14121-1723125600-1723125600@towerlane.org
SUMMARY:Sing Along with Richard Gans
DESCRIPTION:
URL:https://towerlane.org/event/sing-along-with-richard-gans-5/
LOCATION:Dining Room
END:VEVENT
BEGIN:VEVENT
DTSTART;TZID=America/New_York:20240702T140000
DTEND;TZID=America/New_York:20240702T140000
DTSTAMP:20260421T223658
CREATED:20240629T150755Z
LAST-MODIFIED:20240629T150755Z
UID:13833-1719928800-1719928800@towerlane.org
SUMMARY:Dining Meeting
DESCRIPTION:
URL:https://towerlane.org/event/dining-meeting-7/
LOCATION:Dining Room
END:VEVENT
BEGIN:VEVENT
DTSTART;TZID=America/New_York:20230201T150000
DTEND;TZID=America/New_York:20230201T150000
DTSTAMP:20260421T223658
CREATED:20230201T173537Z
LAST-MODIFIED:20230201T173537Z
UID:9158-1675263600-1675263600@towerlane.org
SUMMARY:Dining Service Meeting
DESCRIPTION:
URL:https://towerlane.org/event/dining-service-meeting-4/
LOCATION:Dining Room
END:VEVENT
BEGIN:VEVENT
DTSTART;TZID=America/New_York:20230102T140000
DTEND;TZID=America/New_York:20230102T140000
DTSTAMP:20260421T223658
CREATED:20230107T184305Z
LAST-MODIFIED:20230107T184305Z
UID:8752-1672668000-1672668000@towerlane.org
SUMMARY:Bingo
DESCRIPTION:
URL:https://towerlane.org/event/bingo-55/
LOCATION:Dining Room
END:VEVENT
BEGIN:VEVENT
DTSTART;TZID=America/New_York:20230102T100000
DTEND;TZID=America/New_York:20230102T100000
DTSTAMP:20260421T223658
CREATED:20230107T184013Z
LAST-MODIFIED:20230107T184013Z
UID:8745-1672653600-1672653600@towerlane.org
SUMMARY:Coffee Klatch
DESCRIPTION:
URL:https://towerlane.org/event/coffee-klatch-6/
LOCATION:Dining Room
END:VEVENT
BEGIN:VEVENT
DTSTART;TZID=America/New_York:20221203T140000
DTEND;TZID=America/New_York:20221203T140000
DTSTAMP:20260421T223658
CREATED:20221207T162626Z
LAST-MODIFIED:20221207T162626Z
UID:8325-1670076000-1670076000@towerlane.org
SUMMARY:Bingo
DESCRIPTION:
URL:https://towerlane.org/event/bingo-51/
LOCATION:Dining Room
END:VEVENT
BEGIN:VEVENT
DTSTART;TZID=America/New_York:20221128T120000
DTEND;TZID=America/New_York:20221128T120000
DTSTAMP:20260421T223658
CREATED:20221031T215155Z
LAST-MODIFIED:20221031T215155Z
UID:7987-1669636800-1669636800@towerlane.org
SUMMARY:Towers Iron Chef Challenge
DESCRIPTION:
URL:https://towerlane.org/event/towers-iron-chef-challenge/
LOCATION:Dining Room
END:VEVENT
END:VCALENDAR