BEGIN:VCALENDAR
VERSION:2.0
PRODID:-//The Towers - ECPv6.10.3//NONSGML v1.0//EN
CALSCALE:GREGORIAN
METHOD:PUBLISH
X-WR-CALNAME:The Towers
X-ORIGINAL-URL:https://towerlane.org
X-WR-CALDESC:Events for The Towers
REFRESH-INTERVAL;VALUE=DURATION:PT1H
X-Robots-Tag:noindex
X-PUBLISHED-TTL:PT1H
BEGIN:VTIMEZONE
TZID:America/New_York
BEGIN:DAYLIGHT
TZOFFSETFROM:-0500
TZOFFSETTO:-0400
TZNAME:EDT
DTSTART:20220313T070000
END:DAYLIGHT
BEGIN:STANDARD
TZOFFSETFROM:-0400
TZOFFSETTO:-0500
TZNAME:EST
DTSTART:20221106T060000
END:STANDARD
BEGIN:DAYLIGHT
TZOFFSETFROM:-0500
TZOFFSETTO:-0400
TZNAME:EDT
DTSTART:20230312T070000
END:DAYLIGHT
BEGIN:STANDARD
TZOFFSETFROM:-0400
TZOFFSETTO:-0500
TZNAME:EST
DTSTART:20231105T060000
END:STANDARD
BEGIN:DAYLIGHT
TZOFFSETFROM:-0500
TZOFFSETTO:-0400
TZNAME:EDT
DTSTART:20240310T070000
END:DAYLIGHT
BEGIN:STANDARD
TZOFFSETFROM:-0400
TZOFFSETTO:-0500
TZNAME:EST
DTSTART:20241103T060000
END:STANDARD
END:VTIMEZONE
BEGIN:VEVENT
DTSTART;TZID=America/New_York:20240702T140000
DTEND;TZID=America/New_York:20240702T140000
DTSTAMP:20260422T013221
CREATED:20240629T150755Z
LAST-MODIFIED:20240629T150755Z
UID:13833-1719928800-1719928800@towerlane.org
SUMMARY:Dining Meeting
DESCRIPTION:
URL:https://towerlane.org/event/dining-meeting-7/
LOCATION:Dining Room
END:VEVENT
BEGIN:VEVENT
DTSTART;TZID=America/New_York:20230201T150000
DTEND;TZID=America/New_York:20230201T150000
DTSTAMP:20260422T013221
CREATED:20230201T173537Z
LAST-MODIFIED:20230201T173537Z
UID:9158-1675263600-1675263600@towerlane.org
SUMMARY:Dining Service Meeting
DESCRIPTION:
URL:https://towerlane.org/event/dining-service-meeting-4/
LOCATION:Dining Room
END:VEVENT
BEGIN:VEVENT
DTSTART;TZID=America/New_York:20230102T140000
DTEND;TZID=America/New_York:20230102T140000
DTSTAMP:20260422T013221
CREATED:20230107T184305Z
LAST-MODIFIED:20230107T184305Z
UID:8752-1672668000-1672668000@towerlane.org
SUMMARY:Bingo
DESCRIPTION:
URL:https://towerlane.org/event/bingo-55/
LOCATION:Dining Room
END:VEVENT
BEGIN:VEVENT
DTSTART;TZID=America/New_York:20230102T100000
DTEND;TZID=America/New_York:20230102T100000
DTSTAMP:20260422T013221
CREATED:20230107T184013Z
LAST-MODIFIED:20230107T184013Z
UID:8745-1672653600-1672653600@towerlane.org
SUMMARY:Coffee Klatch
DESCRIPTION:
URL:https://towerlane.org/event/coffee-klatch-6/
LOCATION:Dining Room
END:VEVENT
BEGIN:VEVENT
DTSTART;TZID=America/New_York:20221203T140000
DTEND;TZID=America/New_York:20221203T140000
DTSTAMP:20260422T013221
CREATED:20221207T162626Z
LAST-MODIFIED:20221207T162626Z
UID:8325-1670076000-1670076000@towerlane.org
SUMMARY:Bingo
DESCRIPTION:
URL:https://towerlane.org/event/bingo-51/
LOCATION:Dining Room
END:VEVENT
BEGIN:VEVENT
DTSTART;TZID=America/New_York:20221128T120000
DTEND;TZID=America/New_York:20221128T120000
DTSTAMP:20260422T013221
CREATED:20221031T215155Z
LAST-MODIFIED:20221031T215155Z
UID:7987-1669636800-1669636800@towerlane.org
SUMMARY:Towers Iron Chef Challenge
DESCRIPTION:
URL:https://towerlane.org/event/towers-iron-chef-challenge/
LOCATION:Dining Room
END:VEVENT
BEGIN:VEVENT
DTSTART;TZID=America/New_York:20221124T120000
DTEND;TZID=America/New_York:20221124T120000
DTSTAMP:20260422T013221
CREATED:20221031T215007Z
LAST-MODIFIED:20221031T215007Z
UID:7983-1669291200-1669291200@towerlane.org
SUMMARY:Early Thanksgiving Dinner
DESCRIPTION:
URL:https://towerlane.org/event/early-thanksgiving-dinner/
LOCATION:Dining Room
END:VEVENT
BEGIN:VEVENT
DTSTART;TZID=America/New_York:20221123T110000
DTEND;TZID=America/New_York:20221123T110000
DTSTAMP:20260422T013221
CREATED:20221031T214900Z
LAST-MODIFIED:20221031T214900Z
UID:7981-1669201200-1669201200@towerlane.org
SUMMARY:Gus Town Hall Meeting
DESCRIPTION:
URL:https://towerlane.org/event/gus-town-hall-meeting-7/
LOCATION:Dining Room
END:VEVENT
BEGIN:VEVENT
DTSTART;TZID=America/New_York:20221118T110000
DTEND;TZID=America/New_York:20221118T110000
DTSTAMP:20260422T013221
CREATED:20221031T214148Z
LAST-MODIFIED:20221031T214148Z
UID:7963-1668769200-1668769200@towerlane.org
SUMMARY:All About You
DESCRIPTION:
URL:https://towerlane.org/event/all-about-you-4/
LOCATION:Dining Room
END:VEVENT
BEGIN:VEVENT
DTSTART;TZID=America/New_York:20221117T183000
DTEND;TZID=America/New_York:20221117T183000
DTSTAMP:20260422T013221
CREATED:20221031T214014Z
LAST-MODIFIED:20221031T214014Z
UID:7959-1668709800-1668709800@towerlane.org
SUMMARY:Tenant Council Meeting
DESCRIPTION:
URL:https://towerlane.org/event/tenant-council-meeting-11/
LOCATION:Dining Room
END:VEVENT
BEGIN:VEVENT
DTSTART;TZID=America/New_York:20221115T110000
DTEND;TZID=America/New_York:20221115T140000
DTSTAMP:20260422T013221
CREATED:20221031T211627Z
LAST-MODIFIED:20221031T211627Z
UID:7943-1668510000-1668520800@towerlane.org
SUMMARY:Towers Wellness and Fall Prevention Fair
DESCRIPTION:
URL:https://towerlane.org/event/towers-wellness-and-fall-prevention-fair/
LOCATION:Dining Room
END:VEVENT
BEGIN:VEVENT
DTSTART;TZID=America/New_York:20221113T130000
DTEND;TZID=America/New_York:20221113T130000
DTSTAMP:20260422T013221
CREATED:20221031T211434Z
LAST-MODIFIED:20221031T211434Z
UID:7939-1668344400-1668344400@towerlane.org
SUMMARY:Music from Double Vision
DESCRIPTION:
URL:https://towerlane.org/event/music-from-double-vision/
LOCATION:Dining Room
END:VEVENT
BEGIN:VEVENT
DTSTART;TZID=America/New_York:20221110T110000
DTEND;TZID=America/New_York:20221110T110000
DTSTAMP:20260422T013221
CREATED:20221031T211138Z
LAST-MODIFIED:20221031T211138Z
UID:7931-1668078000-1668078000@towerlane.org
SUMMARY:Dining Meeting
DESCRIPTION:
URL:https://towerlane.org/event/dining-meeting-2/
LOCATION:Dining Room
END:VEVENT
BEGIN:VEVENT
DTSTART;TZID=America/New_York:20221107T183000
DTEND;TZID=America/New_York:20221107T183000
DTSTAMP:20260422T013221
CREATED:20221031T210431Z
LAST-MODIFIED:20221031T210431Z
UID:7917-1667845800-1667845800@towerlane.org
SUMMARY:Violin with Ilana Zaks
DESCRIPTION:
URL:https://towerlane.org/event/violin-with-ilana-zaks/
LOCATION:Dining Room
END:VEVENT
BEGIN:VEVENT
DTSTART;TZID=America/New_York:20221107T140000
DTEND;TZID=America/New_York:20221107T140000
DTSTAMP:20260422T013221
CREATED:20221031T210257Z
LAST-MODIFIED:20221031T210257Z
UID:7910-1667829600-1667829600@towerlane.org
SUMMARY:Bingo
DESCRIPTION:
URL:https://towerlane.org/event/bingo-49/2022-11-07/
LOCATION:Dining Room
END:VEVENT
BEGIN:VEVENT
DTSTART;TZID=America/New_York:20221107T100000
DTEND;TZID=America/New_York:20221107T100000
DTSTAMP:20260422T013221
CREATED:20221031T205901Z
LAST-MODIFIED:20221031T205901Z
UID:7895-1667815200-1667815200@towerlane.org
SUMMARY:Coffee Klatch
DESCRIPTION:
URL:https://towerlane.org/event/coffee-klatch-4/2022-11-07/
LOCATION:Dining Room
END:VEVENT
BEGIN:VEVENT
DTSTART;TZID=America/New_York:20221104T140000
DTEND;TZID=America/New_York:20221104T140000
DTSTAMP:20260422T013221
CREATED:20221031T204938Z
LAST-MODIFIED:20221031T204938Z
UID:7864-1667570400-1667570400@towerlane.org
SUMMARY:Current Events
DESCRIPTION:
URL:https://towerlane.org/event/current-events-4/2022-11-04/
LOCATION:Dining Room
END:VEVENT
BEGIN:VEVENT
DTSTART;TZID=America/New_York:20221104T110000
DTEND;TZID=America/New_York:20221104T110000
DTSTAMP:20260422T013221
CREATED:20221031T204601Z
LAST-MODIFIED:20221031T204601Z
UID:7857-1667559600-1667559600@towerlane.org
SUMMARY:All About You
DESCRIPTION:
URL:https://towerlane.org/event/all-about-you-3/
LOCATION:Dining Room
END:VEVENT
BEGIN:VEVENT
DTSTART;TZID=America/New_York:20221027T110000
DTEND;TZID=America/New_York:20221027T110000
DTSTAMP:20260422T013221
CREATED:20221001T183442Z
LAST-MODIFIED:20221001T183442Z
UID:7650-1666868400-1666868400@towerlane.org
SUMMARY:Gus Town Hall
DESCRIPTION:
URL:https://towerlane.org/event/gus-town-hall-5/
LOCATION:Dining Room
END:VEVENT
BEGIN:VEVENT
DTSTART;TZID=America/New_York:20221026T113000
DTEND;TZID=America/New_York:20221026T113000
DTSTAMP:20260422T013222
CREATED:20221001T183315Z
LAST-MODIFIED:20221001T183315Z
UID:7646-1666783800-1666783800@towerlane.org
SUMMARY:Poetry Program with Cathy Weiss
DESCRIPTION:
URL:https://towerlane.org/event/poetry-program-with-cathy-weiss/
LOCATION:Dining Room
END:VEVENT
BEGIN:VEVENT
DTSTART;TZID=America/New_York:20221025T190000
DTEND;TZID=America/New_York:20221025T190000
DTSTAMP:20260422T013222
CREATED:20221001T183118Z
LAST-MODIFIED:20221001T183118Z
UID:7642-1666724400-1666724400@towerlane.org
SUMMARY:Movie and Discussion
DESCRIPTION:
URL:https://towerlane.org/event/movie-and-discussion-3/
LOCATION:Dining Room
END:VEVENT
BEGIN:VEVENT
DTSTART;TZID=America/New_York:20221024T100000
DTEND;TZID=America/New_York:20221024T100000
DTSTAMP:20260422T013222
CREATED:20221001T182847Z
LAST-MODIFIED:20221001T182847Z
UID:7635-1666605600-1666605600@towerlane.org
SUMMARY:Coffee Klatch
DESCRIPTION:
URL:https://towerlane.org/event/coffee-klatch-3/2022-10-24/
LOCATION:Dining Room
END:VEVENT
BEGIN:VEVENT
DTSTART;TZID=America/New_York:20221022T190000
DTEND;TZID=America/New_York:20221022T190000
DTSTAMP:20260422T013222
CREATED:20221001T182602Z
LAST-MODIFIED:20221001T182602Z
UID:7630-1666465200-1666465200@towerlane.org
SUMMARY:Movie Night
DESCRIPTION:
URL:https://towerlane.org/event/movie-night-17/2022-10-22/
LOCATION:Dining Room
END:VEVENT
BEGIN:VEVENT
DTSTART;TZID=America/New_York:20221020T183000
DTEND;TZID=America/New_York:20221020T183000
DTSTAMP:20260422T013222
CREATED:20221001T182401Z
LAST-MODIFIED:20221001T182401Z
UID:7626-1666290600-1666290600@towerlane.org
SUMMARY:Tenant Council Meeting
DESCRIPTION:
URL:https://towerlane.org/event/tenant-council-meeting-10/
LOCATION:Dining Room
END:VEVENT
BEGIN:VEVENT
DTSTART;TZID=America/New_York:20221020T100000
DTEND;TZID=America/New_York:20221020T100000
DTSTAMP:20260422T013222
CREATED:20221001T182034Z
LAST-MODIFIED:20221001T182034Z
UID:7616-1666260000-1666260000@towerlane.org
SUMMARY:Farmers' Market
DESCRIPTION:
URL:https://towerlane.org/event/farmers-market-2/
LOCATION:Dining Room
END:VEVENT
BEGIN:VEVENT
DTSTART;TZID=America/New_York:20221019T130000
DTEND;TZID=America/New_York:20221019T150000
DTSTAMP:20260422T013222
CREATED:20221001T181941Z
LAST-MODIFIED:20221001T181941Z
UID:7614-1666184400-1666191600@towerlane.org
SUMMARY:Flu Shot Clinic
DESCRIPTION:
URL:https://towerlane.org/event/flu-shot-clinic/
LOCATION:Dining Room
END:VEVENT
BEGIN:VEVENT
DTSTART;TZID=America/New_York:20221016T140000
DTEND;TZID=America/New_York:20221016T140000
DTSTAMP:20260422T013222
CREATED:20221001T154906Z
LAST-MODIFIED:20221001T154906Z
UID:7594-1665928800-1665928800@towerlane.org
SUMMARY:Max Steinhoff Guitar
DESCRIPTION:
URL:https://towerlane.org/event/max-steinhoff-guitar/
LOCATION:Dining Room
END:VEVENT
BEGIN:VEVENT
DTSTART;TZID=America/New_York:20221011T190000
DTEND;TZID=America/New_York:20221011T190000
DTSTAMP:20260422T013222
CREATED:20221001T154351Z
LAST-MODIFIED:20221001T154351Z
UID:7582-1665514800-1665514800@towerlane.org
SUMMARY:Movie and Discussion
DESCRIPTION:
URL:https://towerlane.org/event/movie-and-discussion-2/
LOCATION:Dining Room
END:VEVENT
BEGIN:VEVENT
DTSTART;TZID=America/New_York:20221010T140000
DTEND;TZID=America/New_York:20221010T140000
DTSTAMP:20260422T013222
CREATED:20221001T154137Z
LAST-MODIFIED:20221001T154137Z
UID:7573-1665410400-1665410400@towerlane.org
SUMMARY:Bingo
DESCRIPTION:
URL:https://towerlane.org/event/bingo-47/2022-10-10/
LOCATION:Dining Room
END:VEVENT
BEGIN:VEVENT
DTSTART;TZID=America/New_York:20221009T140000
DTEND;TZID=America/New_York:20221009T140000
DTSTAMP:20260422T013222
CREATED:20221001T153815Z
LAST-MODIFIED:20221001T153815Z
UID:7565-1665324000-1665324000@towerlane.org
SUMMARY:Movie
DESCRIPTION:
URL:https://towerlane.org/event/movie-33/2022-10-09/
LOCATION:Dining Room
END:VEVENT
END:VCALENDAR