BEGIN:VCALENDAR
VERSION:2.0
PRODID:-//The Towers - ECPv6.10.3//NONSGML v1.0//EN
CALSCALE:GREGORIAN
METHOD:PUBLISH
X-WR-CALNAME:The Towers
X-ORIGINAL-URL:https://towerlane.org
X-WR-CALDESC:Events for The Towers
REFRESH-INTERVAL;VALUE=DURATION:PT1H
X-Robots-Tag:noindex
X-PUBLISHED-TTL:PT1H
BEGIN:VTIMEZONE
TZID:America/New_York
BEGIN:DAYLIGHT
TZOFFSETFROM:-0500
TZOFFSETTO:-0400
TZNAME:EDT
DTSTART:20220313T070000
END:DAYLIGHT
BEGIN:STANDARD
TZOFFSETFROM:-0400
TZOFFSETTO:-0500
TZNAME:EST
DTSTART:20221106T060000
END:STANDARD
END:VTIMEZONE
BEGIN:VEVENT
DTSTART;TZID=America/New_York:20220721T190000
DTEND;TZID=America/New_York:20220721T190000
DTSTAMP:20260422T131735
CREATED:20220630T201732Z
LAST-MODIFIED:20220630T201732Z
UID:5438-1658430000-1658430000@towerlane.org
SUMMARY:Tenant Council Meeting
DESCRIPTION:
URL:https://towerlane.org/event/tenant-council-meeting-8/
LOCATION:Dining Room
END:VEVENT
BEGIN:VEVENT
DTSTART;TZID=America/New_York:20220719T190000
DTEND;TZID=America/New_York:20220719T190000
DTSTAMP:20260422T131735
CREATED:20220630T193057Z
LAST-MODIFIED:20220630T193057Z
UID:5326-1658257200-1658257200@towerlane.org
SUMMARY:Movie and Discussion with Jim B.
DESCRIPTION:
URL:https://towerlane.org/event/movie-and-discussion-with-jim-b-4/
LOCATION:Dining Room
END:VEVENT
BEGIN:VEVENT
DTSTART;TZID=America/New_York:20220714T190000
DTEND;TZID=America/New_York:20220714T190000
DTSTAMP:20260422T131735
CREATED:20220630T201425Z
LAST-MODIFIED:20220630T201425Z
UID:5432-1657825200-1657825200@towerlane.org
SUMMARY:Welcome Back Charles "Piano Man" Thomas
DESCRIPTION:
URL:https://towerlane.org/event/welcome-back-charles-piano-man-thomas-2/
LOCATION:Dining Room
END:VEVENT
BEGIN:VEVENT
DTSTART;TZID=America/New_York:20220708T140000
DTEND;TZID=America/New_York:20220708T140000
DTSTAMP:20260422T131735
CREATED:20220630T200947Z
LAST-MODIFIED:20220630T200947Z
UID:5422-1657288800-1657288800@towerlane.org
SUMMARY:Dining Services Meeting
DESCRIPTION:
URL:https://towerlane.org/event/dining-services-meeting-5/
LOCATION:Dining Room
END:VEVENT
BEGIN:VEVENT
DTSTART;TZID=America/New_York:20220705T190000
DTEND;TZID=America/New_York:20220705T190000
DTSTAMP:20260422T131735
CREATED:20220630T193031Z
LAST-MODIFIED:20220630T193031Z
UID:5324-1657047600-1657047600@towerlane.org
SUMMARY:Movie and Discussion with Jim B.
DESCRIPTION:
URL:https://towerlane.org/event/movie-and-discussion-with-jim-b-3/
LOCATION:Dining Room
END:VEVENT
BEGIN:VEVENT
DTSTART;TZID=America/New_York:20220705T113000
DTEND;TZID=America/New_York:20220705T113000
DTSTAMP:20260422T131735
CREATED:20220630T200903Z
LAST-MODIFIED:20220630T200903Z
UID:5420-1657020600-1657020600@towerlane.org
SUMMARY:Welcome John Noonan from Clear Captions Communications
DESCRIPTION:
URL:https://towerlane.org/event/welcome-john-noonan-from-clear-captions-communications/
LOCATION:Dining Room
END:VEVENT
BEGIN:VEVENT
DTSTART;TZID=America/New_York:20220704T140000
DTEND;TZID=America/New_York:20220704T140000
DTSTAMP:20260422T131735
CREATED:20220630T192041Z
LAST-MODIFIED:20220630T192041Z
UID:5305-1656943200-1656943200@towerlane.org
SUMMARY:Bingo
DESCRIPTION:
URL:https://towerlane.org/event/bingo-40/2022-07-04/
LOCATION:Dining Room
END:VEVENT
BEGIN:VEVENT
DTSTART;TZID=America/New_York:20220704T110000
DTEND;TZID=America/New_York:20220704T110000
DTSTAMP:20260422T131735
CREATED:20220630T191807Z
LAST-MODIFIED:20220630T191807Z
UID:5295-1656932400-1656932400@towerlane.org
SUMMARY:Create a Word with Ellen
DESCRIPTION:
URL:https://towerlane.org/event/create-a-word-with-ellen-21/2022-07-04/
LOCATION:Dining Room
END:VEVENT
BEGIN:VEVENT
DTSTART;TZID=America/New_York:20220704T100000
DTEND;TZID=America/New_York:20220704T100000
DTSTAMP:20260422T131735
CREATED:20220630T191657Z
LAST-MODIFIED:20220630T191657Z
UID:5290-1656928800-1656928800@towerlane.org
SUMMARY:Coffee Klatch with Jane
DESCRIPTION:
URL:https://towerlane.org/event/coffee-klatch-with-jane-4/2022-07-04/
LOCATION:Dining Room
END:VEVENT
BEGIN:VEVENT
DTSTART;TZID=America/New_York:20220703T143000
DTEND;TZID=America/New_York:20220703T143000
DTSTAMP:20260422T131735
CREATED:20220630T200617Z
LAST-MODIFIED:20220630T200617Z
UID:5412-1656858600-1656858600@towerlane.org
SUMMARY:Afternoon Movie
DESCRIPTION:
URL:https://towerlane.org/event/afternoon-movie-8/2022-07-03/
LOCATION:Dining Room
END:VEVENT
BEGIN:VEVENT
DTSTART;TZID=America/New_York:20220702T190000
DTEND;TZID=America/New_York:20220702T190000
DTSTAMP:20260422T131735
CREATED:20220630T200009Z
LAST-MODIFIED:20220630T200009Z
UID:5398-1656788400-1656788400@towerlane.org
SUMMARY:Movie
DESCRIPTION:
URL:https://towerlane.org/event/movie-31/2022-07-02/
LOCATION:Dining Room
END:VEVENT
BEGIN:VEVENT
DTSTART;TZID=America/New_York:20220702T140000
DTEND;TZID=America/New_York:20220702T140000
DTSTAMP:20260422T131735
CREATED:20220630T195926Z
LAST-MODIFIED:20220630T195926Z
UID:5392-1656770400-1656770400@towerlane.org
SUMMARY:Bingo
DESCRIPTION:
URL:https://towerlane.org/event/bingo-41/2022-07-02/
LOCATION:Dining Room
END:VEVENT
BEGIN:VEVENT
DTSTART;TZID=America/New_York:20220630T110000
DTEND;TZID=America/New_York:20220630T110000
DTSTAMP:20260422T131735
CREATED:20220601T165551Z
LAST-MODIFIED:20220601T165551Z
UID:4922-1656586800-1656586800@towerlane.org
SUMMARY:Gus Town Hall Meeting
DESCRIPTION:
URL:https://towerlane.org/event/gus-town-hall-meeting-4/
LOCATION:Dining Room
END:VEVENT
BEGIN:VEVENT
DTSTART;TZID=America/New_York:20220622T190000
DTEND;TZID=America/New_York:20220622T190000
DTSTAMP:20260422T131735
CREATED:20220601T151049Z
LAST-MODIFIED:20220601T151049Z
UID:4761-1655924400-1655924400@towerlane.org
SUMMARY:What's New with Sydney Perry
DESCRIPTION:
URL:https://towerlane.org/event/whats-new-with-sydney-perry-17/
LOCATION:Dining Room
END:VEVENT
BEGIN:VEVENT
DTSTART;TZID=America/New_York:20220621T100000
DTEND;TZID=America/New_York:20220621T100000
DTSTAMP:20260422T131735
CREATED:20220601T163830Z
LAST-MODIFIED:20220601T163830Z
UID:4876-1655805600-1655805600@towerlane.org
SUMMARY:All About You with Bernadette
DESCRIPTION:
URL:https://towerlane.org/event/all-about-you-with-bernadette-12/
LOCATION:Dining Room
END:VEVENT
BEGIN:VEVENT
DTSTART;TZID=America/New_York:20220620T190000
DTEND;TZID=America/New_York:20220620T190000
DTSTAMP:20260422T131735
CREATED:20220601T163459Z
LAST-MODIFIED:20220601T163459Z
UID:4868-1655751600-1655751600@towerlane.org
SUMMARY:Movie & Discussion with Jim B.
DESCRIPTION:
URL:https://towerlane.org/event/movie-discussion-with-jim-b-4/
LOCATION:Dining Room
END:VEVENT
BEGIN:VEVENT
DTSTART;TZID=America/New_York:20220620T120000
DTEND;TZID=America/New_York:20220620T120000
DTSTAMP:20260422T131735
CREATED:20220601T165505Z
LAST-MODIFIED:20220601T165505Z
UID:4920-1655726400-1655726400@towerlane.org
SUMMARY:Juneteenth Lunch
DESCRIPTION:
URL:https://towerlane.org/event/juneteenth-lunch/
LOCATION:Dining Room
END:VEVENT
BEGIN:VEVENT
DTSTART;TZID=America/New_York:20220616T190000
DTEND;TZID=America/New_York:20220616T190000
DTSTAMP:20260422T131735
CREATED:20220601T165240Z
LAST-MODIFIED:20220601T165240Z
UID:4915-1655406000-1655406000@towerlane.org
SUMMARY:Towers Comedy Night with Comedian Paul Sheldon
DESCRIPTION:
URL:https://towerlane.org/event/towers-comedy-night-with-comedian-paul-sheldon/
LOCATION:Dining Room
END:VEVENT
BEGIN:VEVENT
DTSTART;TZID=America/New_York:20220615T190000
DTEND;TZID=America/New_York:20220615T190000
DTSTAMP:20260422T131735
CREATED:20220601T165153Z
LAST-MODIFIED:20220601T165153Z
UID:4913-1655319600-1655319600@towerlane.org
SUMMARY:Tenant Council Meeting
DESCRIPTION:
URL:https://towerlane.org/event/tenant-council-meeting-7/
LOCATION:Dining Room
END:VEVENT
BEGIN:VEVENT
DTSTART;TZID=America/New_York:20220615T133000
DTEND;TZID=America/New_York:20220615T133000
DTSTAMP:20260422T131735
CREATED:20220601T165107Z
LAST-MODIFIED:20220601T165107Z
UID:4911-1655299800-1655299800@towerlane.org
SUMMARY:Towers Ice Cream Social and Piano with Paul Shlien
DESCRIPTION:
URL:https://towerlane.org/event/towers-ice-cream-social-and-piano-with-paul-shlien/
LOCATION:Dining Room
END:VEVENT
BEGIN:VEVENT
DTSTART;TZID=America/New_York:20220610T140000
DTEND;TZID=America/New_York:20220610T140000
DTSTAMP:20260422T131735
CREATED:20220601T165011Z
LAST-MODIFIED:20220601T165011Z
UID:4909-1654869600-1654869600@towerlane.org
SUMMARY:Dining Service Meeting
DESCRIPTION:
URL:https://towerlane.org/event/dining-service-meeting/
LOCATION:Dining Room
END:VEVENT
BEGIN:VEVENT
DTSTART;TZID=America/New_York:20220608T190000
DTEND;TZID=America/New_York:20220608T190000
DTSTAMP:20260422T131735
CREATED:20220601T151022Z
LAST-MODIFIED:20220601T151022Z
UID:4759-1654714800-1654714800@towerlane.org
SUMMARY:What's New with Sydney Perry
DESCRIPTION:
URL:https://towerlane.org/event/whats-new-with-sydney-perry-16/
LOCATION:Dining Room
END:VEVENT
BEGIN:VEVENT
DTSTART;TZID=America/New_York:20220607T100000
DTEND;TZID=America/New_York:20220607T100000
DTSTAMP:20260422T131735
CREATED:20220601T163758Z
LAST-MODIFIED:20220601T163758Z
UID:4874-1654596000-1654596000@towerlane.org
SUMMARY:All About You with Bernadette
DESCRIPTION:
URL:https://towerlane.org/event/all-about-you-with-bernadette-11/
LOCATION:Dining Room
END:VEVENT
BEGIN:VEVENT
DTSTART;TZID=America/New_York:20220606T190000
DTEND;TZID=America/New_York:20220606T190000
DTSTAMP:20260422T131735
CREATED:20220601T164832Z
LAST-MODIFIED:20220601T164832Z
UID:4905-1654542000-1654542000@towerlane.org
SUMMARY:Welcome the Elm City Winds
DESCRIPTION:
URL:https://towerlane.org/event/welcome-the-elm-city-winds/
LOCATION:Dining Room
END:VEVENT
BEGIN:VEVENT
DTSTART;TZID=America/New_York:20220606T190000
DTEND;TZID=America/New_York:20220606T190000
DTSTAMP:20260422T131735
CREATED:20220601T163425Z
LAST-MODIFIED:20220601T163425Z
UID:4866-1654542000-1654542000@towerlane.org
SUMMARY:Movie & Discussion with Jim B.
DESCRIPTION:
URL:https://towerlane.org/event/movie-discussion-with-jim-b-3/
LOCATION:Dining Room
END:VEVENT
BEGIN:VEVENT
DTSTART;TZID=America/New_York:20220606T140000
DTEND;TZID=America/New_York:20220606T140000
DTSTAMP:20260422T131735
CREATED:20220601T163319Z
LAST-MODIFIED:20220601T163319Z
UID:4861-1654524000-1654524000@towerlane.org
SUMMARY:Bingo
DESCRIPTION:
URL:https://towerlane.org/event/bingo-39/2022-06-06/
LOCATION:Dining Room
END:VEVENT
BEGIN:VEVENT
DTSTART;TZID=America/New_York:20220606T110000
DTEND;TZID=America/New_York:20220606T110000
DTSTAMP:20260422T131735
CREATED:20220601T163143Z
LAST-MODIFIED:20220601T163143Z
UID:4851-1654513200-1654513200@towerlane.org
SUMMARY:Create a Word with Ellen
DESCRIPTION:
URL:https://towerlane.org/event/create-a-word-with-ellen-20/2022-06-06/
LOCATION:Dining Room
END:VEVENT
BEGIN:VEVENT
DTSTART;TZID=America/New_York:20220606T100000
DTEND;TZID=America/New_York:20220606T100000
DTSTAMP:20260422T131735
CREATED:20220601T163057Z
LAST-MODIFIED:20220601T163057Z
UID:4846-1654509600-1654509600@towerlane.org
SUMMARY:Coffee Klatch with Jane
DESCRIPTION:
URL:https://towerlane.org/event/coffee-klatch-with-jane-3/2022-06-06/
LOCATION:Dining Room
END:VEVENT
BEGIN:VEVENT
DTSTART;TZID=America/New_York:20220605T143000
DTEND;TZID=America/New_York:20220605T143000
DTSTAMP:20260422T131735
CREATED:20220601T162305Z
LAST-MODIFIED:20220601T162305Z
UID:4841-1654439400-1654439400@towerlane.org
SUMMARY:Afternoon Movie
DESCRIPTION:
URL:https://towerlane.org/event/afternoon-movie-7/2022-06-05/
LOCATION:Dining Room
END:VEVENT
BEGIN:VEVENT
DTSTART;TZID=America/New_York:20220605T140000
DTEND;TZID=America/New_York:20220605T140000
DTSTAMP:20260422T131735
CREATED:20220601T164713Z
LAST-MODIFIED:20220601T164713Z
UID:4901-1654437600-1654437600@towerlane.org
SUMMARY:Piano Performance with Jody Sharninghausen
DESCRIPTION:
URL:https://towerlane.org/event/piano-performance-with-jody-sharninghausen/
LOCATION:Dining Room
END:VEVENT
END:VCALENDAR