BEGIN:VCALENDAR
VERSION:2.0
PRODID:-//The Towers - ECPv6.10.3//NONSGML v1.0//EN
CALSCALE:GREGORIAN
METHOD:PUBLISH
X-ORIGINAL-URL:https://towerlane.org
X-WR-CALDESC:Events for The Towers
REFRESH-INTERVAL;VALUE=DURATION:PT1H
X-Robots-Tag:noindex
X-PUBLISHED-TTL:PT1H
BEGIN:VTIMEZONE
TZID:America/New_York
BEGIN:DAYLIGHT
TZOFFSETFROM:-0500
TZOFFSETTO:-0400
TZNAME:EDT
DTSTART:20220313T070000
END:DAYLIGHT
BEGIN:STANDARD
TZOFFSETFROM:-0400
TZOFFSETTO:-0500
TZNAME:EST
DTSTART:20221106T060000
END:STANDARD
END:VTIMEZONE
BEGIN:VEVENT
DTSTART;TZID=America/New_York:20220415T170000
DTEND;TZID=America/New_York:20220415T170000
DTSTAMP:20260422T200250
CREATED:20220331T155807Z
LAST-MODIFIED:20220331T155807Z
UID:4019-1650042000-1650042000@towerlane.org
SUMMARY:First Passover Seder
DESCRIPTION:Call Nicole at x180 by April 6 for seder information.
URL:https://towerlane.org/event/first-passover-seder/
LOCATION:Dining Room
END:VEVENT
BEGIN:VEVENT
DTSTART;TZID=America/New_York:20220414T113000
DTEND;TZID=America/New_York:20220414T113000
DTSTAMP:20260422T200250
CREATED:20220331T190443Z
LAST-MODIFIED:20220331T190443Z
UID:4129-1649935800-1649935800@towerlane.org
SUMMARY:Dining Services Meeting
DESCRIPTION:
URL:https://towerlane.org/event/dining-services-meeting-3/
LOCATION:Dining Room
END:VEVENT
BEGIN:VEVENT
DTSTART;TZID=America/New_York:20220411T190000
DTEND;TZID=America/New_York:20220411T190000
DTSTAMP:20260422T200250
CREATED:20220331T180856Z
LAST-MODIFIED:20220331T180856Z
UID:4061-1649703600-1649703600@towerlane.org
SUMMARY:Movie & Discussion with Jim B.
DESCRIPTION:
URL:https://towerlane.org/event/movie-discussion-with-jim-b/
LOCATION:Dining Room
END:VEVENT
BEGIN:VEVENT
DTSTART;TZID=America/New_York:20220411T153000
DTEND;TZID=America/New_York:20220411T153000
DTSTAMP:20260422T200250
CREATED:20220331T190354Z
LAST-MODIFIED:20220331T190354Z
UID:4127-1649691000-1649691000@towerlane.org
SUMMARY:Discussion with Rabbi Scolnic
DESCRIPTION:
URL:https://towerlane.org/event/discussion-with-rabbi-scolnic-6/
LOCATION:Dining Room
END:VEVENT
BEGIN:VEVENT
DTSTART;TZID=America/New_York:20220410T140000
DTEND;TZID=America/New_York:20220410T140000
DTSTAMP:20260422T200250
CREATED:20220331T190304Z
LAST-MODIFIED:20220331T190304Z
UID:4125-1649599200-1649599200@towerlane.org
SUMMARY:Ilana Zaks - Violin and Piano Performance
DESCRIPTION:
URL:https://towerlane.org/event/ilana-zaks-violin-and-piano-performance/
LOCATION:Dining Room
END:VEVENT
BEGIN:VEVENT
DTSTART;TZID=America/New_York:20220407T103000
DTEND;TZID=America/New_York:20220407T103000
DTSTAMP:20260422T200250
CREATED:20220331T190006Z
LAST-MODIFIED:20220331T190006Z
UID:4123-1649327400-1649327400@towerlane.org
SUMMARY:Poetry Workshop with Cathy Weiss
DESCRIPTION:
URL:https://towerlane.org/event/poetry-workshop-with-cathy-weiss/
LOCATION:Dining Room
END:VEVENT
BEGIN:VEVENT
DTSTART;TZID=America/New_York:20220406T190000
DTEND;TZID=America/New_York:20220406T190000
DTSTAMP:20260422T200250
CREATED:20220331T182030Z
LAST-MODIFIED:20220331T182030Z
UID:4094-1649271600-1649271600@towerlane.org
SUMMARY:What's New with Sydney Perry
DESCRIPTION:
URL:https://towerlane.org/event/whats-new-with-sydney-perry-12/
LOCATION:Dining Room
END:VEVENT
BEGIN:VEVENT
DTSTART;TZID=America/New_York:20220406T110000
DTEND;TZID=America/New_York:20220406T110000
DTSTAMP:20260422T200250
CREATED:20220331T181409Z
LAST-MODIFIED:20220331T181409Z
UID:4077-1649242800-1649242800@towerlane.org
SUMMARY:Healthy & Fit Exercise
DESCRIPTION:
URL:https://towerlane.org/event/healthy-fit-exercise-56/2022-04-06/
LOCATION:Dining Room
END:VEVENT
BEGIN:VEVENT
DTSTART;TZID=America/New_York:20220404T164500
DTEND;TZID=America/New_York:20220404T164500
DTSTAMP:20260422T200250
CREATED:20220331T184022Z
LAST-MODIFIED:20220331T184022Z
UID:4119-1649090700-1649090700@towerlane.org
SUMMARY:Dinner Music with Larry Batter
DESCRIPTION:
URL:https://towerlane.org/event/dinner-music-with-larry-batter/
LOCATION:Dining Room
END:VEVENT
BEGIN:VEVENT
DTSTART;TZID=America/New_York:20220404T140000
DTEND;TZID=America/New_York:20220404T140000
DTSTAMP:20260422T200250
CREATED:20220331T175630Z
LAST-MODIFIED:20220331T175630Z
UID:4056-1649080800-1649080800@towerlane.org
SUMMARY:Bingo
DESCRIPTION:
URL:https://towerlane.org/event/bingo-35/2022-04-04/
LOCATION:Dining Room
END:VEVENT
BEGIN:VEVENT
DTSTART;TZID=America/New_York:20220404T110000
DTEND;TZID=America/New_York:20220408T110000
DTSTAMP:20260422T200250
CREATED:20220331T175414Z
LAST-MODIFIED:20220331T175414Z
UID:4046-1649070000-1649415600@towerlane.org
SUMMARY:Create a Word with Ellen
DESCRIPTION:
URL:https://towerlane.org/event/create-a-word-with-ellen-18/2022-04-04/
LOCATION:Dining Room
END:VEVENT
BEGIN:VEVENT
DTSTART;TZID=America/New_York:20220404T100000
DTEND;TZID=America/New_York:20220404T100000
DTSTAMP:20260422T200250
CREATED:20220331T175251Z
LAST-MODIFIED:20220331T175251Z
UID:4041-1649066400-1649066400@towerlane.org
SUMMARY:Coffee Klatch with Jane
DESCRIPTION:
URL:https://towerlane.org/event/coffee-klatch-with-jane/2022-04-04/
LOCATION:Dining Room
END:VEVENT
BEGIN:VEVENT
DTSTART;TZID=America/New_York:20220403T143000
DTEND;TZID=America/New_York:20220403T143000
DTSTAMP:20260422T200250
CREATED:20220331T161043Z
LAST-MODIFIED:20220331T161043Z
UID:4032-1648996200-1648996200@towerlane.org
SUMMARY:Afternoon Movie
DESCRIPTION:
URL:https://towerlane.org/event/afternoon-movie-5/2022-04-03/
LOCATION:Dining Room
END:VEVENT
BEGIN:VEVENT
DTSTART;TZID=America/New_York:20220403T130000
DTEND;TZID=America/New_York:20220403T130000
DTSTAMP:20260422T200250
CREATED:20220331T160949Z
LAST-MODIFIED:20220331T160949Z
UID:4027-1648990800-1648990800@towerlane.org
SUMMARY:Current Events/Trivia
DESCRIPTION:
URL:https://towerlane.org/event/current-events-trivia-4/2022-04-03/
LOCATION:Dining Room
END:VEVENT
BEGIN:VEVENT
DTSTART;TZID=America/New_York:20220402T190000
DTEND;TZID=America/New_York:20220402T190000
DTSTAMP:20260422T200250
CREATED:20220331T155515Z
LAST-MODIFIED:20220331T155515Z
UID:4012-1648926000-1648926000@towerlane.org
SUMMARY:Movie
DESCRIPTION:
URL:https://towerlane.org/event/movie-28/2022-04-02/
LOCATION:Dining Room
END:VEVENT
BEGIN:VEVENT
DTSTART;TZID=America/New_York:20220402T140000
DTEND;TZID=America/New_York:20220402T140000
DTSTAMP:20260422T200250
CREATED:20220331T155412Z
LAST-MODIFIED:20220331T155412Z
UID:4007-1648908000-1648908000@towerlane.org
SUMMARY:Bingo
DESCRIPTION:
URL:https://towerlane.org/event/bingo-34/2022-04-02/
LOCATION:Dining Room
END:VEVENT
BEGIN:VEVENT
DTSTART;TZID=America/New_York:20220401T130000
DTEND;TZID=America/New_York:20220401T130000
DTSTAMP:20260422T200250
CREATED:20220331T154941Z
LAST-MODIFIED:20220331T154941Z
UID:3990-1648818000-1648818000@towerlane.org
SUMMARY:Healthy & Fit Exercise
DESCRIPTION:
URL:https://towerlane.org/event/healthy-fit-exercise-54/2022-04-01/
LOCATION:Dining Room
END:VEVENT
BEGIN:VEVENT
DTSTART;TZID=America/New_York:20220331T110000
DTEND;TZID=America/New_York:20220331T110000
DTSTAMP:20260422T200250
CREATED:20220302T180458Z
LAST-MODIFIED:20220302T180458Z
UID:3878-1648724400-1648724400@towerlane.org
SUMMARY:Gus Town Hall
DESCRIPTION:
URL:https://towerlane.org/event/gus-town-hall-4/
LOCATION:Dining Room
END:VEVENT
BEGIN:VEVENT
DTSTART;TZID=America/New_York:20220325T110000
DTEND;TZID=America/New_York:20220325T110000
DTSTAMP:20260422T200250
CREATED:20220302T180334Z
LAST-MODIFIED:20220302T180334Z
UID:3874-1648206000-1648206000@towerlane.org
SUMMARY:Welcome Back VNA Community Health for a Special Presentation
DESCRIPTION:
URL:https://towerlane.org/event/welcome-back-vna-community-health-for-a-special-presentation/
LOCATION:Dining Room
END:VEVENT
BEGIN:VEVENT
DTSTART;TZID=America/New_York:20220323T190000
DTEND;TZID=America/New_York:20220323T190000
DTSTAMP:20260422T200250
CREATED:20220302T180158Z
LAST-MODIFIED:20220302T180158Z
UID:3872-1648062000-1648062000@towerlane.org
SUMMARY:Pianist Paul Shlien Performs
DESCRIPTION:
URL:https://towerlane.org/event/pianist-paul-shlien-performs/
LOCATION:Dining Room
END:VEVENT
BEGIN:VEVENT
DTSTART;TZID=America/New_York:20220317T190000
DTEND;TZID=America/New_York:20220317T190000
DTSTAMP:20260422T200250
CREATED:20220302T175559Z
LAST-MODIFIED:20220302T175559Z
UID:3866-1647543600-1647543600@towerlane.org
SUMMARY:Tenant Council Meeting
DESCRIPTION:
URL:https://towerlane.org/event/tenant-council-meeting-6/
LOCATION:Dining Room
END:VEVENT
BEGIN:VEVENT
DTSTART;TZID=America/New_York:20220310T190000
DTEND;TZID=America/New_York:20220310T190000
DTSTAMP:20260422T200250
CREATED:20220302T175358Z
LAST-MODIFIED:20220302T175358Z
UID:3862-1646938800-1646938800@towerlane.org
SUMMARY:Pianist Sal Anastasio Performs
DESCRIPTION:
URL:https://towerlane.org/event/pianist-sal-anastasio-performs/
LOCATION:Dining Room
END:VEVENT
BEGIN:VEVENT
DTSTART;TZID=America/New_York:20220307T140000
DTEND;TZID=America/New_York:20220307T140000
DTSTAMP:20260422T200250
CREATED:20220302T174029Z
LAST-MODIFIED:20220302T174029Z
UID:3839-1646661600-1646661600@towerlane.org
SUMMARY:Bingo
DESCRIPTION:
URL:https://towerlane.org/event/bingo-33/2022-03-07/
LOCATION:Dining Room
END:VEVENT
BEGIN:VEVENT
DTSTART;TZID=America/New_York:20220307T130000
DTEND;TZID=America/New_York:20220307T130000
DTSTAMP:20260422T200250
CREATED:20220302T173933Z
LAST-MODIFIED:20220302T173933Z
UID:3834-1646658000-1646658000@towerlane.org
SUMMARY:Healthy & Fit Exercise
DESCRIPTION:
URL:https://towerlane.org/event/healthy-fit-exercise-53/2022-03-07/
LOCATION:Dining Room
END:VEVENT
BEGIN:VEVENT
DTSTART;TZID=America/New_York:20220307T110000
DTEND;TZID=America/New_York:20220307T110000
DTSTAMP:20260422T200250
CREATED:20220302T173759Z
LAST-MODIFIED:20220302T173759Z
UID:3829-1646650800-1646650800@towerlane.org
SUMMARY:Create a Word with Ellen
DESCRIPTION:
URL:https://towerlane.org/event/create-a-word-with-ellen-17/2022-03-07/
LOCATION:Dining Room
END:VEVENT
BEGIN:VEVENT
DTSTART;TZID=America/New_York:20220306T143000
DTEND;TZID=America/New_York:20220306T143000
DTSTAMP:20260422T200250
CREATED:20220301T214055Z
LAST-MODIFIED:20220301T214055Z
UID:3820-1646577000-1646577000@towerlane.org
SUMMARY:Afternoon Movie
DESCRIPTION:
URL:https://towerlane.org/event/afternoon-movie-4/2022-03-06/
LOCATION:Dining Room
END:VEVENT
BEGIN:VEVENT
DTSTART;TZID=America/New_York:20220306T130000
DTEND;TZID=America/New_York:20220306T130000
DTSTAMP:20260422T200250
CREATED:20220301T214005Z
LAST-MODIFIED:20220301T214005Z
UID:3815-1646571600-1646571600@towerlane.org
SUMMARY:Current Events/Trivia
DESCRIPTION:
URL:https://towerlane.org/event/current-events-trivia-3/2022-03-06/
LOCATION:Dining Room
END:VEVENT
BEGIN:VEVENT
DTSTART;TZID=America/New_York:20220305T190000
DTEND;TZID=America/New_York:20220305T190000
DTSTAMP:20260422T200250
CREATED:20220301T213718Z
LAST-MODIFIED:20220301T213718Z
UID:3806-1646506800-1646506800@towerlane.org
SUMMARY:Movie
DESCRIPTION:
URL:https://towerlane.org/event/movie-27/2022-03-05/
LOCATION:Dining Room
END:VEVENT
BEGIN:VEVENT
DTSTART;TZID=America/New_York:20220305T140000
DTEND;TZID=America/New_York:20220305T140000
DTSTAMP:20260422T200250
CREATED:20220301T213634Z
LAST-MODIFIED:20220301T213634Z
UID:3801-1646488800-1646488800@towerlane.org
SUMMARY:Bingo
DESCRIPTION:
URL:https://towerlane.org/event/bingo-32/2022-03-05/
LOCATION:Dining Room
END:VEVENT
BEGIN:VEVENT
DTSTART;TZID=America/New_York:20220304T130000
DTEND;TZID=America/New_York:20220304T130000
DTSTAMP:20260422T200250
CREATED:20220301T213226Z
LAST-MODIFIED:20220301T213226Z
UID:3788-1646398800-1646398800@towerlane.org
SUMMARY:Healthy & Fit Exercise
DESCRIPTION:
URL:https://towerlane.org/event/healthy-fit-exercise-52/2022-03-04/
LOCATION:Dining Room
END:VEVENT
END:VCALENDAR