BEGIN:VCALENDAR
VERSION:2.0
PRODID:-//The Towers - ECPv6.10.3//NONSGML v1.0//EN
CALSCALE:GREGORIAN
METHOD:PUBLISH
X-ORIGINAL-URL:https://towerlane.org
X-WR-CALDESC:Events for The Towers
REFRESH-INTERVAL;VALUE=DURATION:PT1H
X-Robots-Tag:noindex
X-PUBLISHED-TTL:PT1H
BEGIN:VTIMEZONE
TZID:America/New_York
BEGIN:DAYLIGHT
TZOFFSETFROM:-0500
TZOFFSETTO:-0400
TZNAME:EDT
DTSTART:20210314T070000
END:DAYLIGHT
BEGIN:STANDARD
TZOFFSETFROM:-0400
TZOFFSETTO:-0500
TZNAME:EST
DTSTART:20211107T060000
END:STANDARD
BEGIN:DAYLIGHT
TZOFFSETFROM:-0500
TZOFFSETTO:-0400
TZNAME:EDT
DTSTART:20220313T070000
END:DAYLIGHT
BEGIN:STANDARD
TZOFFSETFROM:-0400
TZOFFSETTO:-0500
TZNAME:EST
DTSTART:20221106T060000
END:STANDARD
END:VTIMEZONE
BEGIN:VEVENT
DTSTART;TZID=America/New_York:20220110T130000
DTEND;TZID=America/New_York:20220110T130000
DTSTAMP:20260423T031537
CREATED:20220105T180119Z
LAST-MODIFIED:20220105T180119Z
UID:3242-1641819600-1641819600@towerlane.org
SUMMARY:Healthy & Fit Exercise
DESCRIPTION:
URL:https://towerlane.org/event/healthy-fit-exercise-47/2022-01-10/
LOCATION:Dining Room
END:VEVENT
BEGIN:VEVENT
DTSTART;TZID=America/New_York:20220110T110000
DTEND;TZID=America/New_York:20220110T110000
DTSTAMP:20260423T031537
CREATED:20220105T180018Z
LAST-MODIFIED:20220105T180018Z
UID:3237-1641812400-1641812400@towerlane.org
SUMMARY:Create a Word with Ellen
DESCRIPTION:
URL:https://towerlane.org/event/create-a-word-with-ellen-15/2022-01-10/
LOCATION:Dining Room
END:VEVENT
BEGIN:VEVENT
DTSTART;TZID=America/New_York:20220109T143000
DTEND;TZID=America/New_York:20220109T143000
DTSTAMP:20260423T031537
CREATED:20220105T151911Z
LAST-MODIFIED:20220105T151911Z
UID:3230-1641738600-1641738600@towerlane.org
SUMMARY:Afternoon Movie
DESCRIPTION:
URL:https://towerlane.org/event/afternoon-movie-2/2022-01-09/
LOCATION:Dining Room
END:VEVENT
BEGIN:VEVENT
DTSTART;TZID=America/New_York:20220109T130000
DTEND;TZID=America/New_York:20220109T130000
DTSTAMP:20260423T031537
CREATED:20220105T151815Z
LAST-MODIFIED:20220105T151815Z
UID:3225-1641733200-1641733200@towerlane.org
SUMMARY:Current Events/Trivia
DESCRIPTION:
URL:https://towerlane.org/event/current-events-trivia/2022-01-09/
LOCATION:Dining Room
END:VEVENT
BEGIN:VEVENT
DTSTART;TZID=America/New_York:20220109T120000
DTEND;TZID=America/New_York:20220109T120000
DTSTAMP:20260423T031537
CREATED:20220105T152017Z
LAST-MODIFIED:20220105T152017Z
UID:3235-1641729600-1641729600@towerlane.org
SUMMARY:Enjoy Some Classical Guitar with Max Steinhoff
DESCRIPTION:
URL:https://towerlane.org/event/enjoy-some-classical-guitar-with-max-steinhoff/
LOCATION:Dining Room
END:VEVENT
BEGIN:VEVENT
DTSTART;TZID=America/New_York:20220108T190000
DTEND;TZID=America/New_York:20220108T190000
DTSTAMP:20260423T031537
CREATED:20220105T151654Z
LAST-MODIFIED:20220105T151654Z
UID:3220-1641668400-1641668400@towerlane.org
SUMMARY:Movie
DESCRIPTION:
URL:https://towerlane.org/event/movie-25/2022-01-08/
LOCATION:Dining Room
END:VEVENT
BEGIN:VEVENT
DTSTART;TZID=America/New_York:20220108T140000
DTEND;TZID=America/New_York:20220108T140000
DTSTAMP:20260423T031537
CREATED:20220105T151554Z
LAST-MODIFIED:20220105T151554Z
UID:3215-1641650400-1641650400@towerlane.org
SUMMARY:Bingo
DESCRIPTION:
URL:https://towerlane.org/event/bingo-28/2022-01-08/
LOCATION:Dining Room
END:VEVENT
BEGIN:VEVENT
DTSTART;TZID=America/New_York:20220107T130000
DTEND;TZID=America/New_York:20220107T130000
DTSTAMP:20260423T031537
CREATED:20220105T151032Z
LAST-MODIFIED:20220105T151056Z
UID:3202-1641560400-1641560400@towerlane.org
SUMMARY:Healthy & Fit
DESCRIPTION:
URL:https://towerlane.org/event/healthy-fit-10/2022-01-07/
LOCATION:Dining Room
END:VEVENT
BEGIN:VEVENT
DTSTART;TZID=America/New_York:20220107T113000
DTEND;TZID=America/New_York:20220107T113000
DTSTAMP:20260423T031537
CREATED:20220105T151423Z
LAST-MODIFIED:20220105T151423Z
UID:3211-1641555000-1641555000@towerlane.org
SUMMARY:Eversound Audio Assist System Demo for Residents
DESCRIPTION:
URL:https://towerlane.org/event/eversound-audio-assist-system-demo-for-residents/
LOCATION:Dining Room
END:VEVENT
BEGIN:VEVENT
DTSTART;VALUE=DATE:20211230
DTEND;VALUE=DATE:20211231
DTSTAMP:20260423T031537
CREATED:20211201T171842Z
LAST-MODIFIED:20211201T171842Z
UID:3056-1640822400-1640908799@towerlane.org
SUMMARY:Residents' Association New Year's Eve Eve Celebration
DESCRIPTION:Time to be determined
URL:https://towerlane.org/event/residents-association-new-years-eve-eve-celebration/
LOCATION:Dining Room
END:VEVENT
BEGIN:VEVENT
DTSTART;TZID=America/New_York:20211221T110000
DTEND;TZID=America/New_York:20211221T110000
DTSTAMP:20260423T031537
CREATED:20211201T165338Z
LAST-MODIFIED:20211201T165338Z
UID:3030-1640084400-1640084400@towerlane.org
SUMMARY:Music Bingo
DESCRIPTION:
URL:https://towerlane.org/event/music-bingo-7/
LOCATION:Dining Room
END:VEVENT
BEGIN:VEVENT
DTSTART;TZID=America/New_York:20211220T190000
DTEND;TZID=America/New_York:20211220T190000
DTSTAMP:20260423T031537
CREATED:20211201T171711Z
LAST-MODIFIED:20211201T171711Z
UID:3054-1640026800-1640026800@towerlane.org
SUMMARY:Welcome Back Double Vision
DESCRIPTION:
URL:https://towerlane.org/event/welcome-back-double-vision-2/
LOCATION:Dining Room
END:VEVENT
BEGIN:VEVENT
DTSTART;TZID=America/New_York:20211216T190000
DTEND;TZID=America/New_York:20211216T190000
DTSTAMP:20260423T031537
CREATED:20211201T171609Z
LAST-MODIFIED:20211201T171609Z
UID:3052-1639681200-1639681200@towerlane.org
SUMMARY:Tenant Council Meeting
DESCRIPTION:
URL:https://towerlane.org/event/tenant-council-meeting-5/
LOCATION:Dining Room
END:VEVENT
BEGIN:VEVENT
DTSTART;TZID=America/New_York:20211215T133000
DTEND;TZID=America/New_York:20211215T133000
DTSTAMP:20260423T031537
CREATED:20211201T171355Z
LAST-MODIFIED:20211201T171355Z
UID:3048-1639575000-1639575000@towerlane.org
SUMMARY:Towers Holiday Party
DESCRIPTION:
URL:https://towerlane.org/event/towers-holiday-party/
LOCATION:Dining Room
END:VEVENT
BEGIN:VEVENT
DTSTART;TZID=America/New_York:20211214T110000
DTEND;TZID=America/New_York:20211214T110000
DTSTAMP:20260423T031537
CREATED:20211201T171205Z
LAST-MODIFIED:20211201T171205Z
UID:3044-1639479600-1639479600@towerlane.org
SUMMARY:Towers Memorial Service
DESCRIPTION:
URL:https://towerlane.org/event/towers-memorial-service-2/
LOCATION:Dining Room
END:VEVENT
BEGIN:VEVENT
DTSTART;TZID=America/New_York:20211212T130000
DTEND;TZID=America/New_York:20211212T130000
DTSTAMP:20260423T031537
CREATED:20211201T171104Z
LAST-MODIFIED:20211201T171104Z
UID:3042-1639314000-1639314000@towerlane.org
SUMMARY:Pianist Sharon Lehr Performs
DESCRIPTION:
URL:https://towerlane.org/event/pianist-sharon-lehr-performs/
LOCATION:Dining Room
END:VEVENT
BEGIN:VEVENT
DTSTART;TZID=America/New_York:20211206T130000
DTEND;TZID=America/New_York:20211206T130000
DTSTAMP:20260423T031537
CREATED:20211201T164455Z
LAST-MODIFIED:20211201T164455Z
UID:3004-1638795600-1638795600@towerlane.org
SUMMARY:Healthy & Fit Exercise
DESCRIPTION:
URL:https://towerlane.org/event/healthy-fit-exercise-46/2021-12-06/
LOCATION:Dining Room
END:VEVENT
BEGIN:VEVENT
DTSTART;TZID=America/New_York:20211205T130000
DTEND;TZID=America/New_York:20211205T130000
DTSTAMP:20260423T031537
CREATED:20211201T170521Z
LAST-MODIFIED:20211201T170521Z
UID:3032-1638709200-1638709200@towerlane.org
SUMMARY:Welcome Back Violinist Ilana Zaks
DESCRIPTION:
URL:https://towerlane.org/event/welcome-back-violinist-ilana-zaks-2/
LOCATION:Dining Room
END:VEVENT
BEGIN:VEVENT
DTSTART;TZID=America/New_York:20211203T130000
DTEND;TZID=America/New_York:20211203T130000
DTSTAMP:20260423T031537
CREATED:20211201T151411Z
LAST-MODIFIED:20211201T151411Z
UID:2963-1638536400-1638536400@towerlane.org
SUMMARY:Healthy & Fit
DESCRIPTION:
URL:https://towerlane.org/event/healthy-fit-9/2021-12-03/
LOCATION:Dining Room
END:VEVENT
BEGIN:VEVENT
DTSTART;TZID=America/New_York:20211202T190000
DTEND;TZID=America/New_York:20211202T190000
DTSTAMP:20260423T031537
CREATED:20211201T145830Z
LAST-MODIFIED:20211201T145830Z
UID:2934-1638471600-1638471600@towerlane.org
SUMMARY:Welcome the Nu Haven Kapelye
DESCRIPTION:
URL:https://towerlane.org/event/welcome-the-nu-haven-kapelye/
LOCATION:Dining Room
END:VEVENT
BEGIN:VEVENT
DTSTART;TZID=America/New_York:20211201T130000
DTEND;TZID=America/New_York:20211201T130000
DTSTAMP:20260423T031537
CREATED:20211201T144906Z
LAST-MODIFIED:20211201T144906Z
UID:2910-1638363600-1638363600@towerlane.org
SUMMARY:Healthy & Fit Exercise
DESCRIPTION:
URL:https://towerlane.org/event/healthy-fit-exercise-45/2021-12-01/
LOCATION:Dining Room
END:VEVENT
BEGIN:VEVENT
DTSTART;TZID=America/New_York:20211127T100000
DTEND;TZID=America/New_York:20211127T100000
DTSTAMP:20260423T031537
CREATED:20211102T185924Z
LAST-MODIFIED:20211102T185924Z
UID:2788-1638007200-1638007200@towerlane.org
SUMMARY:Shabbat Services with Ruthie Greenblatt
DESCRIPTION:
URL:https://towerlane.org/event/shabbat-services-with-ruthie-greenblatt-13/
LOCATION:Dining Room
END:VEVENT
BEGIN:VEVENT
DTSTART;TZID=America/New_York:20211124T110000
DTEND;TZID=America/New_York:20211124T110000
DTSTAMP:20260423T031537
CREATED:20211102T191727Z
LAST-MODIFIED:20211102T191727Z
UID:2822-1637751600-1637751600@towerlane.org
SUMMARY:Gus Town Hall: Fire Safety Meeting
DESCRIPTION:
URL:https://towerlane.org/event/gus-town-hall-fire-safety-meeting/
LOCATION:Dining Room
END:VEVENT
BEGIN:VEVENT
DTSTART;TZID=America/New_York:20211123T110000
DTEND;TZID=America/New_York:20211123T110000
DTSTAMP:20260423T031537
CREATED:20211102T154347Z
LAST-MODIFIED:20211102T154347Z
UID:2721-1637665200-1637665200@towerlane.org
SUMMARY:Music Bingo
DESCRIPTION:
URL:https://towerlane.org/event/music-bingo-6/
LOCATION:Dining Room
END:VEVENT
BEGIN:VEVENT
DTSTART;TZID=America/New_York:20211119T190000
DTEND;TZID=America/New_York:20211119T190000
DTSTAMP:20260423T031537
CREATED:20211102T185622Z
LAST-MODIFIED:20211102T185622Z
UID:2784-1637348400-1637348400@towerlane.org
SUMMARY:Shabbat Services with Ruthie Greenblatt
DESCRIPTION:
URL:https://towerlane.org/event/shabbat-services-with-ruthie-greenblatt-11/
LOCATION:Dining Room
END:VEVENT
BEGIN:VEVENT
DTSTART;TZID=America/New_York:20211119T110000
DTEND;TZID=America/New_York:20211119T110000
DTSTAMP:20260423T031537
CREATED:20211102T191453Z
LAST-MODIFIED:20211102T191453Z
UID:2818-1637319600-1637319600@towerlane.org
SUMMARY:Welcome Pam Atwood for a Special Presentation: "More Than Friends. Intimacy Issues in Senior Living"
DESCRIPTION:
URL:https://towerlane.org/event/welcome-pam-atwood-for-a-special-presentation-more-than-friends-intimacy-issues-in-senior-living/
LOCATION:Dining Room
END:VEVENT
BEGIN:VEVENT
DTSTART;TZID=America/New_York:20211118T190000
DTEND;TZID=America/New_York:20211118T190000
DTSTAMP:20260423T031537
CREATED:20211102T191315Z
LAST-MODIFIED:20211102T191315Z
UID:2816-1637262000-1637262000@towerlane.org
SUMMARY:Tenant Council Meeting
DESCRIPTION:
URL:https://towerlane.org/event/tenant-council-meeting-4/
LOCATION:Dining Room
END:VEVENT
BEGIN:VEVENT
DTSTART;TZID=America/New_York:20211117T110000
DTEND;TZID=America/New_York:20211117T110000
DTSTAMP:20260423T031537
CREATED:20211102T191222Z
LAST-MODIFIED:20211102T191222Z
UID:2814-1637146800-1637146800@towerlane.org
SUMMARY:HealthPro Information Session and Blood Pressure Check with Darcy\, Dean and Utopia
DESCRIPTION:
URL:https://towerlane.org/event/healthpro-information-session-and-blood-pressure-check-with-darcy-dean-and-utopia/
LOCATION:Dining Room
END:VEVENT
BEGIN:VEVENT
DTSTART;TZID=America/New_York:20211113T100000
DTEND;TZID=America/New_York:20211113T100000
DTSTAMP:20260423T031537
CREATED:20211102T185815Z
LAST-MODIFIED:20211102T185815Z
UID:2786-1636797600-1636797600@towerlane.org
SUMMARY:Shabbat Services with Ruthie Greenblatt
DESCRIPTION:
URL:https://towerlane.org/event/shabbat-services-with-ruthie-greenblatt-12/
LOCATION:Dining Room
END:VEVENT
BEGIN:VEVENT
DTSTART;TZID=America/New_York:20211112T120000
DTEND;TZID=America/New_York:20211112T120000
DTSTAMP:20260423T031537
CREATED:20211102T190954Z
LAST-MODIFIED:20211102T190954Z
UID:2810-1636718400-1636718400@towerlane.org
SUMMARY:Virtual Author Talk: "Books Sandwiched In" Series with the New Haven Public Library
DESCRIPTION:
URL:https://towerlane.org/event/virtual-author-talk-books-sandwiched-in-series-with-the-new-haven-public-library/
LOCATION:Dining Room
END:VEVENT
END:VCALENDAR