BEGIN:VCALENDAR
VERSION:2.0
PRODID:-//The Towers - ECPv6.10.3//NONSGML v1.0//EN
CALSCALE:GREGORIAN
METHOD:PUBLISH
X-ORIGINAL-URL:https://towerlane.org
X-WR-CALDESC:Events for The Towers
REFRESH-INTERVAL;VALUE=DURATION:PT1H
X-Robots-Tag:noindex
X-PUBLISHED-TTL:PT1H
BEGIN:VTIMEZONE
TZID:America/New_York
BEGIN:DAYLIGHT
TZOFFSETFROM:-0500
TZOFFSETTO:-0400
TZNAME:EDT
DTSTART:20210314T070000
END:DAYLIGHT
BEGIN:STANDARD
TZOFFSETFROM:-0400
TZOFFSETTO:-0500
TZNAME:EST
DTSTART:20211107T060000
END:STANDARD
END:VTIMEZONE
BEGIN:VEVENT
DTSTART;TZID=America/New_York:20211119T190000
DTEND;TZID=America/New_York:20211119T190000
DTSTAMP:20260423T063455
CREATED:20211102T185622Z
LAST-MODIFIED:20211102T185622Z
UID:2784-1637348400-1637348400@towerlane.org
SUMMARY:Shabbat Services with Ruthie Greenblatt
DESCRIPTION:
URL:https://towerlane.org/event/shabbat-services-with-ruthie-greenblatt-11/
LOCATION:Dining Room
END:VEVENT
BEGIN:VEVENT
DTSTART;TZID=America/New_York:20211119T110000
DTEND;TZID=America/New_York:20211119T110000
DTSTAMP:20260423T063455
CREATED:20211102T191453Z
LAST-MODIFIED:20211102T191453Z
UID:2818-1637319600-1637319600@towerlane.org
SUMMARY:Welcome Pam Atwood for a Special Presentation: "More Than Friends. Intimacy Issues in Senior Living"
DESCRIPTION:
URL:https://towerlane.org/event/welcome-pam-atwood-for-a-special-presentation-more-than-friends-intimacy-issues-in-senior-living/
LOCATION:Dining Room
END:VEVENT
BEGIN:VEVENT
DTSTART;TZID=America/New_York:20211118T190000
DTEND;TZID=America/New_York:20211118T190000
DTSTAMP:20260423T063455
CREATED:20211102T191315Z
LAST-MODIFIED:20211102T191315Z
UID:2816-1637262000-1637262000@towerlane.org
SUMMARY:Tenant Council Meeting
DESCRIPTION:
URL:https://towerlane.org/event/tenant-council-meeting-4/
LOCATION:Dining Room
END:VEVENT
BEGIN:VEVENT
DTSTART;TZID=America/New_York:20211117T110000
DTEND;TZID=America/New_York:20211117T110000
DTSTAMP:20260423T063455
CREATED:20211102T191222Z
LAST-MODIFIED:20211102T191222Z
UID:2814-1637146800-1637146800@towerlane.org
SUMMARY:HealthPro Information Session and Blood Pressure Check with Darcy\, Dean and Utopia
DESCRIPTION:
URL:https://towerlane.org/event/healthpro-information-session-and-blood-pressure-check-with-darcy-dean-and-utopia/
LOCATION:Dining Room
END:VEVENT
BEGIN:VEVENT
DTSTART;TZID=America/New_York:20211113T100000
DTEND;TZID=America/New_York:20211113T100000
DTSTAMP:20260423T063455
CREATED:20211102T185815Z
LAST-MODIFIED:20211102T185815Z
UID:2786-1636797600-1636797600@towerlane.org
SUMMARY:Shabbat Services with Ruthie Greenblatt
DESCRIPTION:
URL:https://towerlane.org/event/shabbat-services-with-ruthie-greenblatt-12/
LOCATION:Dining Room
END:VEVENT
BEGIN:VEVENT
DTSTART;TZID=America/New_York:20211112T120000
DTEND;TZID=America/New_York:20211112T120000
DTSTAMP:20260423T063455
CREATED:20211102T190954Z
LAST-MODIFIED:20211102T190954Z
UID:2810-1636718400-1636718400@towerlane.org
SUMMARY:Virtual Author Talk: "Books Sandwiched In" Series with the New Haven Public Library
DESCRIPTION:
URL:https://towerlane.org/event/virtual-author-talk-books-sandwiched-in-series-with-the-new-haven-public-library/
LOCATION:Dining Room
END:VEVENT
BEGIN:VEVENT
DTSTART;TZID=America/New_York:20211110T133000
DTEND;TZID=America/New_York:20211110T133000
DTSTAMP:20260423T063455
CREATED:20211102T190810Z
LAST-MODIFIED:20211102T190810Z
UID:2808-1636551000-1636551000@towerlane.org
SUMMARY:Welcome Radio Host and Author Larry Rifkin
DESCRIPTION:
URL:https://towerlane.org/event/welcome-radio-host-and-author-larry-rifkin/
LOCATION:Dining Room
END:VEVENT
BEGIN:VEVENT
DTSTART;TZID=America/New_York:20211110T110000
DTEND;TZID=America/New_York:20211110T110000
DTSTAMP:20260423T063455
CREATED:20211102T190504Z
LAST-MODIFIED:20211102T190504Z
UID:2806-1636542000-1636542000@towerlane.org
SUMMARY:The Towers Honors Our Veterans
DESCRIPTION:
URL:https://towerlane.org/event/the-towers-honors-our-veterans/
LOCATION:Dining Room
END:VEVENT
BEGIN:VEVENT
DTSTART;TZID=America/New_York:20211109T110000
DTEND;TZID=America/New_York:20211109T110000
DTSTAMP:20260423T063455
CREATED:20211102T154308Z
LAST-MODIFIED:20211102T154308Z
UID:2719-1636455600-1636455600@towerlane.org
SUMMARY:Music Bingo
DESCRIPTION:
URL:https://towerlane.org/event/music-bingo-5/
LOCATION:Dining Room
END:VEVENT
BEGIN:VEVENT
DTSTART;TZID=America/New_York:20211106T190000
DTEND;TZID=America/New_York:20211106T190000
DTSTAMP:20260423T063455
CREATED:20211102T190129Z
LAST-MODIFIED:20211102T190129Z
UID:2795-1636225200-1636225200@towerlane.org
SUMMARY:Movie
DESCRIPTION:
URL:https://towerlane.org/event/movie-23/2021-11-06/
LOCATION:Dining Room
END:VEVENT
BEGIN:VEVENT
DTSTART;TZID=America/New_York:20211106T140000
DTEND;TZID=America/New_York:20211106T140000
DTSTAMP:20260423T063455
CREATED:20211102T190044Z
LAST-MODIFIED:20211102T190044Z
UID:2790-1636207200-1636207200@towerlane.org
SUMMARY:Movie
DESCRIPTION:
URL:https://towerlane.org/event/movie-22/2021-11-06/
LOCATION:Dining Room
END:VEVENT
BEGIN:VEVENT
DTSTART;TZID=America/New_York:20211105T190000
DTEND;TZID=America/New_York:20211105T190000
DTSTAMP:20260423T063455
CREATED:20211102T185543Z
LAST-MODIFIED:20211102T185543Z
UID:2782-1636138800-1636138800@towerlane.org
SUMMARY:Shabbat Services with Ruthie Greenblatt
DESCRIPTION:
URL:https://towerlane.org/event/shabbat-services-with-ruthie-greenblatt-10/
LOCATION:Dining Room
END:VEVENT
BEGIN:VEVENT
DTSTART;TZID=America/New_York:20211105T130000
DTEND;TZID=America/New_York:20211105T130000
DTSTAMP:20260423T063455
CREATED:20211102T185433Z
LAST-MODIFIED:20211102T185433Z
UID:2777-1636117200-1636117200@towerlane.org
SUMMARY:Healthy & Fit
DESCRIPTION:
URL:https://towerlane.org/event/healthy-fit-8/2021-11-05/
LOCATION:Dining Room
END:VEVENT
BEGIN:VEVENT
DTSTART;TZID=America/New_York:20211103T190000
DTEND;TZID=America/New_York:20211103T190000
DTSTAMP:20260423T063455
CREATED:20211102T181846Z
LAST-MODIFIED:20211102T181846Z
UID:2740-1635966000-1635966000@towerlane.org
SUMMARY:Movie
DESCRIPTION:
URL:https://towerlane.org/event/movie-21/2021-11-03/
LOCATION:Dining Room
END:VEVENT
BEGIN:VEVENT
DTSTART;TZID=America/New_York:20211103T130000
DTEND;TZID=America/New_York:20211103T130000
DTSTAMP:20260423T063455
CREATED:20211102T181141Z
LAST-MODIFIED:20211102T181141Z
UID:2723-1635944400-1635944400@towerlane.org
SUMMARY:Healthy & Fit Exercise
DESCRIPTION:
URL:https://towerlane.org/event/healthy-fit-exercise-44/2021-11-03/
LOCATION:Dining Room
END:VEVENT
BEGIN:VEVENT
DTSTART;TZID=America/New_York:20211101T130000
DTEND;TZID=America/New_York:20211101T130000
DTSTAMP:20260423T063455
CREATED:20211102T153413Z
LAST-MODIFIED:20211102T153413Z
UID:2687-1635771600-1635771600@towerlane.org
SUMMARY:Healthy & Fit Exercise
DESCRIPTION:
URL:https://towerlane.org/event/healthy-fit-exercise-43/2021-11-01/
LOCATION:Dining Room
END:VEVENT
BEGIN:VEVENT
DTSTART;TZID=America/New_York:20211030T100000
DTEND;TZID=America/New_York:20211030T100000
DTSTAMP:20260423T063455
CREATED:20211003T185637Z
LAST-MODIFIED:20211003T185637Z
UID:2506-1635588000-1635588000@towerlane.org
SUMMARY:Shabbat Services with Ruthie Greenblatt
DESCRIPTION:
URL:https://towerlane.org/event/shabbat-services-with-ruthie-greenblatt-9/
LOCATION:Dining Room
END:VEVENT
BEGIN:VEVENT
DTSTART;TZID=America/New_York:20211029T110000
DTEND;TZID=America/New_York:20211029T110000
DTSTAMP:20260423T063455
CREATED:20211003T183506Z
LAST-MODIFIED:20211004T142834Z
UID:2478-1635505200-1635505200@towerlane.org
SUMMARY:Bible Study with Howard Taylor
DESCRIPTION:
URL:https://towerlane.org/event/bible-study-with-howard-taylor-14/
LOCATION:Dining Room
END:VEVENT
BEGIN:VEVENT
DTSTART;TZID=America/New_York:20211028T110000
DTEND;TZID=America/New_York:20211028T110000
DTSTAMP:20260423T063455
CREATED:20211003T190909Z
LAST-MODIFIED:20211003T190909Z
UID:2542-1635418800-1635418800@towerlane.org
SUMMARY:Gus Town Hall
DESCRIPTION:
URL:https://towerlane.org/event/gus-town-hall/
LOCATION:Dining Room
END:VEVENT
BEGIN:VEVENT
DTSTART;TZID=America/New_York:20211027T190000
DTEND;TZID=America/New_York:20211027T190000
DTSTAMP:20260423T063455
CREATED:20211003T182034Z
LAST-MODIFIED:20211003T182034Z
UID:2447-1635361200-1635361200@towerlane.org
SUMMARY:Movie & Discussion with Jim Brochin
DESCRIPTION:
URL:https://towerlane.org/event/movie-discussion-with-jim-brochin-11/
LOCATION:Dining Room
END:VEVENT
BEGIN:VEVENT
DTSTART;TZID=America/New_York:20211027T110000
DTEND;TZID=America/New_York:20211027T110000
DTSTAMP:20260423T063455
CREATED:20211003T190827Z
LAST-MODIFIED:20211003T190827Z
UID:2540-1635332400-1635332400@towerlane.org
SUMMARY:Welcome Back Rabbi Eric Woodward
DESCRIPTION:
URL:https://towerlane.org/event/welcome-back-rabbi-eric-woodward-2/
LOCATION:Dining Room
END:VEVENT
BEGIN:VEVENT
DTSTART;TZID=America/New_York:20211026T110000
DTEND;TZID=America/New_York:20211026T110000
DTSTAMP:20260423T063455
CREATED:20211003T181406Z
LAST-MODIFIED:20211003T181406Z
UID:2433-1635246000-1635246000@towerlane.org
SUMMARY:Music Bingo
DESCRIPTION:
URL:https://towerlane.org/event/music-bingo-4/
LOCATION:Dining Room
END:VEVENT
BEGIN:VEVENT
DTSTART;TZID=America/New_York:20211022T190000
DTEND;TZID=America/New_York:20211022T190000
DTSTAMP:20260423T063455
CREATED:20211003T185431Z
LAST-MODIFIED:20211003T185431Z
UID:2500-1634929200-1634929200@towerlane.org
SUMMARY:Shabbat Services with Ruthie Greenblatt
DESCRIPTION:
URL:https://towerlane.org/event/shabbat-services-with-ruthie-greenblatt-6/
LOCATION:Dining Room
END:VEVENT
BEGIN:VEVENT
DTSTART;TZID=America/New_York:20211022T110000
DTEND;TZID=America/New_York:20211022T110000
DTSTAMP:20260423T063455
CREATED:20211003T190541Z
LAST-MODIFIED:20211003T190541Z
UID:2534-1634900400-1634900400@towerlane.org
SUMMARY:HealthPro Information Session and Blood Pressure Check with Darcy\, Dean & Utopia
DESCRIPTION:
URL:https://towerlane.org/event/healthpro-information-session-and-blood-pressure-check-with-darcy-dean-utopia/
LOCATION:Dining Room
END:VEVENT
BEGIN:VEVENT
DTSTART;TZID=America/New_York:20211021T190000
DTEND;TZID=America/New_York:20211021T190000
DTSTAMP:20260423T063455
CREATED:20211003T190630Z
LAST-MODIFIED:20211003T190630Z
UID:2536-1634842800-1634842800@towerlane.org
SUMMARY:Tenant Council Meeting
DESCRIPTION:
URL:https://towerlane.org/event/tenant-council-meeting-3/
LOCATION:Dining Room
END:VEVENT
BEGIN:VEVENT
DTSTART;TZID=America/New_York:20211021T130000
DTEND;TZID=America/New_York:20211021T130000
DTSTAMP:20260423T063455
CREATED:20211003T182307Z
LAST-MODIFIED:20211003T182307Z
UID:2456-1634821200-1634821200@towerlane.org
SUMMARY:Catholic Mass with Father Lerner
DESCRIPTION:
URL:https://towerlane.org/event/catholic-mass-with-father-lerner-16/
LOCATION:Dining Room
END:VEVENT
BEGIN:VEVENT
DTSTART;TZID=America/New_York:20211019T190000
DTEND;TZID=America/New_York:20211019T190000
DTSTAMP:20260423T063455
CREATED:20211003T181149Z
LAST-MODIFIED:20211003T181149Z
UID:2429-1634670000-1634670000@towerlane.org
SUMMARY:What's New with Sydney Perry
DESCRIPTION:
URL:https://towerlane.org/event/whats-new-with-sydney-perry-3/
LOCATION:Dining Room
END:VEVENT
BEGIN:VEVENT
DTSTART;TZID=America/New_York:20211019T113000
DTEND;TZID=America/New_York:20211019T113000
DTSTAMP:20260423T063455
CREATED:20211003T181105Z
LAST-MODIFIED:20211003T181105Z
UID:2427-1634643000-1634643000@towerlane.org
SUMMARY:Arts & Crafts with Sarah
DESCRIPTION:
URL:https://towerlane.org/event/arts-crafts-with-sarah-2/
LOCATION:Dining Room
END:VEVENT
BEGIN:VEVENT
DTSTART;TZID=America/New_York:20211016T100000
DTEND;TZID=America/New_York:20211016T100000
DTSTAMP:20260423T063455
CREATED:20211003T185603Z
LAST-MODIFIED:20211003T185603Z
UID:2504-1634378400-1634378400@towerlane.org
SUMMARY:Shabbat Services with Ruthie Greenblatt
DESCRIPTION:
URL:https://towerlane.org/event/shabbat-services-with-ruthie-greenblatt-8/
LOCATION:Dining Room
END:VEVENT
BEGIN:VEVENT
DTSTART;TZID=America/New_York:20211015T110000
DTEND;TZID=America/New_York:20211015T110000
DTSTAMP:20260423T063455
CREATED:20211003T183354Z
LAST-MODIFIED:20211003T183354Z
UID:2476-1634295600-1634295600@towerlane.org
SUMMARY:Bible Study with Howard Taylor
DESCRIPTION:
URL:https://towerlane.org/event/bible-study-with-howard-taylor-13/
LOCATION:Dining Room
END:VEVENT
END:VCALENDAR