BEGIN:VCALENDAR
VERSION:2.0
PRODID:-//The Towers - ECPv6.10.3//NONSGML v1.0//EN
CALSCALE:GREGORIAN
METHOD:PUBLISH
X-WR-CALNAME:The Towers
X-ORIGINAL-URL:https://towerlane.org
X-WR-CALDESC:Events for The Towers
REFRESH-INTERVAL;VALUE=DURATION:PT1H
X-Robots-Tag:noindex
X-PUBLISHED-TTL:PT1H
BEGIN:VTIMEZONE
TZID:America/New_York
BEGIN:DAYLIGHT
TZOFFSETFROM:-0500
TZOFFSETTO:-0400
TZNAME:EDT
DTSTART:20210314T070000
END:DAYLIGHT
BEGIN:STANDARD
TZOFFSETFROM:-0400
TZOFFSETTO:-0500
TZNAME:EST
DTSTART:20211107T060000
END:STANDARD
END:VTIMEZONE
BEGIN:VEVENT
DTSTART;TZID=America/New_York:20210724T100000
DTEND;TZID=America/New_York:20210724T100000
DTSTAMP:20260423T211100
CREATED:20210629T175633Z
LAST-MODIFIED:20210629T175633Z
UID:1823-1627120800-1627120800@towerlane.org
SUMMARY:Shabbat Services with Ruthie
DESCRIPTION:
URL:https://towerlane.org/event/shabbat-services-with-ruthie-21/
LOCATION:Dining Room
END:VEVENT
BEGIN:VEVENT
DTSTART;TZID=America/New_York:20210723T110000
DTEND;TZID=America/New_York:20210723T110000
DTSTAMP:20260423T211100
CREATED:20210629T183211Z
LAST-MODIFIED:20210629T183211Z
UID:1906-1627038000-1627038000@towerlane.org
SUMMARY:A Presentation from VNA Community Healthcare: "Better Beats. The Importance of Monitoring Your Blood Pressure"
DESCRIPTION:
URL:https://towerlane.org/event/a-presentation-from-vna-community-healthcare-better-beats-the-importance-of-monitoring-your-blood-pressure/
LOCATION:Dining Room
END:VEVENT
BEGIN:VEVENT
DTSTART;TZID=America/New_York:20210722T190000
DTEND;TZID=America/New_York:20210722T190000
DTSTAMP:20260423T211100
CREATED:20210629T183019Z
LAST-MODIFIED:20210629T183019Z
UID:1904-1626980400-1626980400@towerlane.org
SUMMARY:Welcome Back Violinist Ilana Zaks
DESCRIPTION:
URL:https://towerlane.org/event/welcome-back-violinist-ilana-zaks/
LOCATION:Dining Room
END:VEVENT
BEGIN:VEVENT
DTSTART;TZID=America/New_York:20210722T130000
DTEND;TZID=America/New_York:20210722T130000
DTSTAMP:20260423T211100
CREATED:20210629T173149Z
LAST-MODIFIED:20210629T173149Z
UID:1771-1626958800-1626958800@towerlane.org
SUMMARY:Catholic Mass with Father Lerner
DESCRIPTION:
URL:https://towerlane.org/event/catholic-mass-with-father-lerner-10/
LOCATION:Dining Room
END:VEVENT
BEGIN:VEVENT
DTSTART;TZID=America/New_York:20210721T190000
DTEND;TZID=America/New_York:20210721T190000
DTSTAMP:20260423T211100
CREATED:20210629T182011Z
LAST-MODIFIED:20210629T182011Z
UID:1891-1626894000-1626894000@towerlane.org
SUMMARY:Discussion with Sydney Perry
DESCRIPTION:
URL:https://towerlane.org/event/discussion-with-sydney-perry-10/
LOCATION:Dining Room
END:VEVENT
BEGIN:VEVENT
DTSTART;TZID=America/New_York:20210721T110000
DTEND;TZID=America/New_York:20210721T110000
DTSTAMP:20260423T211100
CREATED:20210629T182934Z
LAST-MODIFIED:20210629T182934Z
UID:1902-1626865200-1626865200@towerlane.org
SUMMARY:Welcome Back Professor Victor Bers for a Yiddish Discussion
DESCRIPTION:
URL:https://towerlane.org/event/welcome-back-professor-victor-bers-for-a-yiddish-discussion/
LOCATION:Dining Room
END:VEVENT
BEGIN:VEVENT
DTSTART;TZID=America/New_York:20210720T113000
DTEND;TZID=America/New_York:20210720T113000
DTSTAMP:20260423T211100
CREATED:20210629T181106Z
LAST-MODIFIED:20210629T181106Z
UID:1867-1626780600-1626780600@towerlane.org
SUMMARY:Arts & Crafts
DESCRIPTION:
URL:https://towerlane.org/event/arts-crafts-10/
LOCATION:Dining Room
END:VEVENT
BEGIN:VEVENT
DTSTART;TZID=America/New_York:20210716T190000
DTEND;TZID=America/New_York:20210716T190000
DTSTAMP:20260423T211100
CREATED:20210629T175303Z
LAST-MODIFIED:20210629T175303Z
UID:1817-1626462000-1626462000@towerlane.org
SUMMARY:Shabbat Services with Ruthie
DESCRIPTION:
URL:https://towerlane.org/event/shabbat-services-with-ruthie-18/
LOCATION:Dining Room
END:VEVENT
BEGIN:VEVENT
DTSTART;TZID=America/New_York:20210716T110000
DTEND;TZID=America/New_York:20210716T110000
DTSTAMP:20260423T211100
CREATED:20210629T174259Z
LAST-MODIFIED:20210629T174259Z
UID:1787-1626433200-1626433200@towerlane.org
SUMMARY:Bible Study with Howard Taylor
DESCRIPTION:
URL:https://towerlane.org/event/bible-study-with-howard-taylor-6/
LOCATION:Dining Room
END:VEVENT
BEGIN:VEVENT
DTSTART;TZID=America/New_York:20210715T190000
DTEND;TZID=America/New_York:20210715T190000
DTSTAMP:20260423T211100
CREATED:20210629T182652Z
LAST-MODIFIED:20210629T182749Z
UID:1899-1626375600-1626375600@towerlane.org
SUMMARY:Monthly Tenant Council Meeting
DESCRIPTION:
URL:https://towerlane.org/event/monthly-tennant-council-meeting/
LOCATION:Dining Room
END:VEVENT
BEGIN:VEVENT
DTSTART;TZID=America/New_York:20210715T140000
DTEND;TZID=America/New_York:20210715T140000
DTSTAMP:20260423T211100
CREATED:20210629T173508Z
LAST-MODIFIED:20210629T173508Z
UID:1775-1626357600-1626357600@towerlane.org
SUMMARY:Managing Life Stressors with Andrea Joseph from JFS
DESCRIPTION:
URL:https://towerlane.org/event/managing-life-stressors-with-andrea-joseph-from-jfs-6/
LOCATION:Dining Room
END:VEVENT
BEGIN:VEVENT
DTSTART;TZID=America/New_York:20210714T190000
DTEND;TZID=America/New_York:20210714T190000
DTSTAMP:20260423T211100
CREATED:20210629T181807Z
LAST-MODIFIED:20210629T181807Z
UID:1885-1626289200-1626289200@towerlane.org
SUMMARY:Movie Night
DESCRIPTION:
URL:https://towerlane.org/event/movie-night-11/2021-07-14/
LOCATION:Dining Room
END:VEVENT
BEGIN:VEVENT
DTSTART;TZID=America/New_York:20210713T140000
DTEND;TZID=America/New_York:20210713T140000
DTSTAMP:20260423T211100
CREATED:20210629T182608Z
LAST-MODIFIED:20210629T182608Z
UID:1897-1626184800-1626184800@towerlane.org
SUMMARY:Welcome Pianist Jay Daniels
DESCRIPTION:
URL:https://towerlane.org/event/welcome-pianist-jay-daniels/
LOCATION:Dining Room
END:VEVENT
BEGIN:VEVENT
DTSTART;TZID=America/New_York:20210710T130000
DTEND;TZID=America/New_York:20210710T130000
DTSTAMP:20260423T211100
CREATED:20210629T175852Z
LAST-MODIFIED:20210629T175852Z
UID:1827-1625922000-1625922000@towerlane.org
SUMMARY:Piano with Ben
DESCRIPTION:
URL:https://towerlane.org/event/piano-with-ben-4/
LOCATION:Dining Room
END:VEVENT
BEGIN:VEVENT
DTSTART;TZID=America/New_York:20210710T100000
DTEND;TZID=America/New_York:20210710T100000
DTSTAMP:20260423T211100
CREATED:20210629T175553Z
LAST-MODIFIED:20210629T175553Z
UID:1821-1625911200-1625911200@towerlane.org
SUMMARY:Shabbat Services with Ruthie
DESCRIPTION:
URL:https://towerlane.org/event/shabbat-services-with-ruthie-20/
LOCATION:Dining Room
END:VEVENT
BEGIN:VEVENT
DTSTART;TZID=America/New_York:20210708T110000
DTEND;TZID=America/New_York:20210708T110000
DTSTAMP:20260423T211100
CREATED:20210629T182520Z
LAST-MODIFIED:20210629T182520Z
UID:1895-1625742000-1625742000@towerlane.org
SUMMARY:Welcome Back Rabbi Jason Rubenstein from Yale for a Discussion
DESCRIPTION:
URL:https://towerlane.org/event/welcome-back-rabbi-jason-rubenstein-from-yale-for-a-discussion/
LOCATION:Dining Room
END:VEVENT
BEGIN:VEVENT
DTSTART;TZID=America/New_York:20210707T190000
DTEND;TZID=America/New_York:20210707T190000
DTSTAMP:20260423T211100
CREATED:20210629T181938Z
LAST-MODIFIED:20210629T181938Z
UID:1889-1625684400-1625684400@towerlane.org
SUMMARY:Discussion with Sydney Perry
DESCRIPTION:
URL:https://towerlane.org/event/discussion-with-sydney-perry-9/
LOCATION:Dining Room
END:VEVENT
BEGIN:VEVENT
DTSTART;TZID=America/New_York:20210707T151500
DTEND;TZID=America/New_York:20210707T151500
DTSTAMP:20260423T211100
CREATED:20210629T181555Z
LAST-MODIFIED:20210629T181555Z
UID:1880-1625670900-1625670900@towerlane.org
SUMMARY:Current Events with Stephen & Dale
DESCRIPTION:
URL:https://towerlane.org/event/current-events-with-stephen-dale-10/2021-07-07/
LOCATION:Dining Room
END:VEVENT
BEGIN:VEVENT
DTSTART;TZID=America/New_York:20210707T130000
DTEND;TZID=America/New_York:20210707T130000
DTSTAMP:20260423T211100
CREATED:20210629T181449Z
LAST-MODIFIED:20210629T181449Z
UID:1875-1625662800-1625662800@towerlane.org
SUMMARY:Healthy & Fit Exercise
DESCRIPTION:
URL:https://towerlane.org/event/healthy-fit-exercise-36/2021-07-07/
LOCATION:Dining Room
END:VEVENT
BEGIN:VEVENT
DTSTART;TZID=America/New_York:20210707T110000
DTEND;TZID=America/New_York:20210707T110000
DTSTAMP:20260423T211100
CREATED:20210629T182259Z
LAST-MODIFIED:20210629T182259Z
UID:1893-1625655600-1625655600@towerlane.org
SUMMARY:Welcome Maria Tomasetti from the Alzheimer's Association for a Presentation: "Healthy Living for Your Brain and Body"
DESCRIPTION:
URL:https://towerlane.org/event/welcome-maria-tomasetti-from-the-alzheimers-association-for-a-presentation-healthy-living-for-your-brain-and-body/
LOCATION:Dining Room
END:VEVENT
BEGIN:VEVENT
DTSTART;TZID=America/New_York:20210706T113000
DTEND;TZID=America/New_York:20210706T113000
DTSTAMP:20260423T211100
CREATED:20210629T181017Z
LAST-MODIFIED:20210629T181017Z
UID:1865-1625571000-1625571000@towerlane.org
SUMMARY:Arts & Crafts
DESCRIPTION:
URL:https://towerlane.org/event/arts-crafts-9/
LOCATION:Dining Room
END:VEVENT
BEGIN:VEVENT
DTSTART;TZID=America/New_York:20210706T100000
DTEND;TZID=America/New_York:20210706T100000
DTSTAMP:20260423T211100
CREATED:20210629T180924Z
LAST-MODIFIED:20210629T180924Z
UID:1860-1625565600-1625565600@towerlane.org
SUMMARY:Coffee Talk with Jane Kasper
DESCRIPTION:
URL:https://towerlane.org/event/coffee-talk-with-jane-kasper-9/2021-07-06/
LOCATION:Dining Room
END:VEVENT
BEGIN:VEVENT
DTSTART;TZID=America/New_York:20210705T141500
DTEND;TZID=America/New_York:20210705T141500
DTSTAMP:20260423T211100
CREATED:20210629T180718Z
LAST-MODIFIED:20210629T180718Z
UID:1855-1625494500-1625494500@towerlane.org
SUMMARY:Bingo
DESCRIPTION:
URL:https://towerlane.org/event/bingo-19/2021-07-05/
LOCATION:Dining Room
END:VEVENT
BEGIN:VEVENT
DTSTART;TZID=America/New_York:20210705T130000
DTEND;TZID=America/New_York:20210705T130000
DTSTAMP:20260423T211100
CREATED:20210629T180613Z
LAST-MODIFIED:20210629T180613Z
UID:1850-1625490000-1625490000@towerlane.org
SUMMARY:Healthy & Fit Exercise
DESCRIPTION:
URL:https://towerlane.org/event/healthy-fit-exercise-35/2021-07-05/
LOCATION:Dining Room
END:VEVENT
BEGIN:VEVENT
DTSTART;TZID=America/New_York:20210705T110000
DTEND;TZID=America/New_York:20210705T110000
DTSTAMP:20260423T211100
CREATED:20210629T180410Z
LAST-MODIFIED:20210629T180410Z
UID:1845-1625482800-1625482800@towerlane.org
SUMMARY:Create a Word with Ellen
DESCRIPTION:
URL:https://towerlane.org/event/create-a-word-with-ellen-9/2021-07-05/
LOCATION:Dining Room
END:VEVENT
BEGIN:VEVENT
DTSTART;TZID=America/New_York:20210703T190000
DTEND;TZID=America/New_York:20210703T190000
DTSTAMP:20260423T211100
CREATED:20210629T180126Z
LAST-MODIFIED:20210629T180126Z
UID:1835-1625338800-1625338800@towerlane.org
SUMMARY:Movie
DESCRIPTION:
URL:https://towerlane.org/event/movie-14/2021-07-03/
LOCATION:Dining Room
END:VEVENT
BEGIN:VEVENT
DTSTART;TZID=America/New_York:20210703T140000
DTEND;TZID=America/New_York:20210703T140000
DTSTAMP:20260423T211100
CREATED:20210629T180042Z
LAST-MODIFIED:20210629T180155Z
UID:1829-1625320800-1625320800@towerlane.org
SUMMARY:Movie
DESCRIPTION:
URL:https://towerlane.org/event/movie-13/2021-07-03/
LOCATION:Dining Room
END:VEVENT
BEGIN:VEVENT
DTSTART;TZID=America/New_York:20210702T190000
DTEND;TZID=America/New_York:20210702T190000
DTSTAMP:20260423T211100
CREATED:20210629T175225Z
LAST-MODIFIED:20210629T175225Z
UID:1815-1625252400-1625252400@towerlane.org
SUMMARY:Shabbat Services with Ruthie
DESCRIPTION:
URL:https://towerlane.org/event/shabbat-services-with-ruthie-17/
LOCATION:Dining Room
END:VEVENT
BEGIN:VEVENT
DTSTART;TZID=America/New_York:20210702T130000
DTEND;TZID=America/New_York:20210702T130000
DTSTAMP:20260423T211100
CREATED:20210629T174721Z
LAST-MODIFIED:20210629T175002Z
UID:1798-1625230800-1625230800@towerlane.org
SUMMARY:Healthy & Fit
DESCRIPTION:
URL:https://towerlane.org/event/healthy-fit-4/2021-07-02/
LOCATION:Dining Room
END:VEVENT
BEGIN:VEVENT
DTSTART;TZID=America/New_York:20210702T110000
DTEND;TZID=America/New_York:20210702T110000
DTSTAMP:20260423T211100
CREATED:20210629T174217Z
LAST-MODIFIED:20210629T174217Z
UID:1785-1625223600-1625223600@towerlane.org
SUMMARY:Bible Study with Howard Taylor
DESCRIPTION:
URL:https://towerlane.org/event/bible-study-with-howard-taylor-5/
LOCATION:Dining Room
END:VEVENT
END:VCALENDAR