BEGIN:VCALENDAR
VERSION:2.0
PRODID:-//The Towers - ECPv6.10.3//NONSGML v1.0//EN
CALSCALE:GREGORIAN
METHOD:PUBLISH
X-WR-CALNAME:The Towers
X-ORIGINAL-URL:https://towerlane.org
X-WR-CALDESC:Events for The Towers
REFRESH-INTERVAL;VALUE=DURATION:PT1H
X-Robots-Tag:noindex
X-PUBLISHED-TTL:PT1H
BEGIN:VTIMEZONE
TZID:America/New_York
BEGIN:DAYLIGHT
TZOFFSETFROM:-0500
TZOFFSETTO:-0400
TZNAME:EDT
DTSTART:20250309T070000
END:DAYLIGHT
BEGIN:STANDARD
TZOFFSETFROM:-0400
TZOFFSETTO:-0500
TZNAME:EST
DTSTART:20251102T060000
END:STANDARD
BEGIN:DAYLIGHT
TZOFFSETFROM:-0500
TZOFFSETTO:-0400
TZNAME:EDT
DTSTART:20260308T070000
END:DAYLIGHT
BEGIN:STANDARD
TZOFFSETFROM:-0400
TZOFFSETTO:-0500
TZNAME:EST
DTSTART:20261101T060000
END:STANDARD
END:VTIMEZONE
BEGIN:VEVENT
DTSTART;TZID=America/New_York:20260103T190000
DTEND;TZID=America/New_York:20260103T190000
DTSTAMP:20260421T234650
CREATED:20251229T200029Z
LAST-MODIFIED:20251229T200029Z
UID:18870-1767466800-1767466800@towerlane.org
SUMMARY:Movie Night
DESCRIPTION:
URL:https://towerlane.org/event/movie-night-91/2026-01-03/
LOCATION:Sanctuary
END:VEVENT
BEGIN:VEVENT
DTSTART;TZID=America/New_York:20260103T140000
DTEND;TZID=America/New_York:20260103T140000
DTSTAMP:20260421T234650
CREATED:20251229T195913Z
LAST-MODIFIED:20251229T195913Z
UID:18864-1767448800-1767448800@towerlane.org
SUMMARY:Bingo
DESCRIPTION:Part of our Social Pathway.\nThe classic game.
URL:https://towerlane.org/event/bingo-143/2026-01-03/
LOCATION:Sanctuary
END:VEVENT
BEGIN:VEVENT
DTSTART;TZID=America/New_York:20260103T100000
DTEND;TZID=America/New_York:20260103T220000
DTSTAMP:20260421T234650
CREATED:20251229T195731Z
LAST-MODIFIED:20251229T195731Z
UID:18858-1767434400-1767477600@towerlane.org
SUMMARY:Shabbat
DESCRIPTION:Part of our Spiritual Pathway.\nFriday night and Saturday morning Shabbat services with Ruthie Greenblatt and Sarah Moskowitz.
URL:https://towerlane.org/event/shabbat-86/2026-01-03/
LOCATION:Sanctuary
END:VEVENT
BEGIN:VEVENT
DTSTART;TZID=America/New_York:20260102T183000
DTEND;TZID=America/New_York:20260102T183000
DTSTAMP:20260421T234650
CREATED:20251229T195516Z
LAST-MODIFIED:20251229T195516Z
UID:18852-1767378600-1767378600@towerlane.org
SUMMARY:Shabbat
DESCRIPTION:Part of our Spiritual Pathway.\nFriday night and Saturday morning Shabbat services with Ruthie Greenblatt and Sarah Moskowitz.
URL:https://towerlane.org/event/shabbat-85/2026-01-02/
LOCATION:Sanctuary
END:VEVENT
BEGIN:VEVENT
DTSTART;TZID=America/New_York:20260102T140000
DTEND;TZID=America/New_York:20260102T140000
DTSTAMP:20260421T234650
CREATED:20251229T195340Z
LAST-MODIFIED:20251229T195340Z
UID:18846-1767362400-1767362400@towerlane.org
SUMMARY:Current Events
DESCRIPTION:Part of our Intellectual Pathway.\nResident-led interactive discussion group.
URL:https://towerlane.org/event/current-events-40/2026-01-02/
LOCATION:Sanctuary
END:VEVENT
BEGIN:VEVENT
DTSTART;TZID=America/New_York:20260102T110000
DTEND;TZID=America/New_York:20260102T110000
DTSTAMP:20260421T234650
CREATED:20251229T195016Z
LAST-MODIFIED:20251229T195016Z
UID:18835-1767351600-1767351600@towerlane.org
SUMMARY:Age-ing and Sage-ing
DESCRIPTION:Part of our Intellectual Pathway.\nThe group will be studying what Judaism has to say about old age and explore how we pass down hard-earned wisdom to the next generations.  The group will use sections from Rabbi Zalman Schachter-Shalomi’s book From Age-ing to Sage-ing and a variety of Jewish texts\, for discussion . There will be opportunities for sharing experiences and exploring what is important for teaching your children\, grandchildren and great-grandchildren.
URL:https://towerlane.org/event/age-ing-and-sage-ing/2026-01-02/
LOCATION:Sanctuary
END:VEVENT
BEGIN:VEVENT
DTSTART;TZID=America/New_York:20260101T190000
DTEND;TZID=America/New_York:20260101T190000
DTSTAMP:20260421T234650
CREATED:20251229T194301Z
LAST-MODIFIED:20251229T194301Z
UID:18826-1767294000-1767294000@towerlane.org
SUMMARY:Movie Night
DESCRIPTION:
URL:https://towerlane.org/event/movie-night-90/
LOCATION:Sanctuary
END:VEVENT
BEGIN:VEVENT
DTSTART;TZID=America/New_York:20251231T190000
DTEND;TZID=America/New_York:20251231T190000
DTSTAMP:20260421T234650
CREATED:20251201T190847Z
LAST-MODIFIED:20251201T190847Z
UID:18756-1767207600-1767207600@towerlane.org
SUMMARY:Movie Night
DESCRIPTION:
URL:https://towerlane.org/event/movie-night-88/2025-12-31/
LOCATION:Sanctuary
END:VEVENT
BEGIN:VEVENT
DTSTART;TZID=America/New_York:20251230T113000
DTEND;TZID=America/New_York:20251230T113000
DTSTAMP:20260421T234650
CREATED:20251201T190211Z
LAST-MODIFIED:20251201T190211Z
UID:18744-1767094200-1767094200@towerlane.org
SUMMARY:30 Minute Exercise
DESCRIPTION:Part of our Physical Pathway.\n\nA shortened\, modified version of our Healthy & Fit. These sessions are typically performed half seated\, half standing\, and can be modified to most ability levels. Practical strategies for minimizing fall risk are discussed.
URL:https://towerlane.org/event/30-minute-exercise-31/2025-12-30/
LOCATION:Sanctuary
END:VEVENT
BEGIN:VEVENT
DTSTART;TZID=America/New_York:20251229T190000
DTEND;TZID=America/New_York:20251229T190000
DTSTAMP:20260421T234650
CREATED:20251201T162238Z
LAST-MODIFIED:20251201T162238Z
UID:18600-1767034800-1767034800@towerlane.org
SUMMARY:Movie Night
DESCRIPTION:
URL:https://towerlane.org/event/movie-night-85/2025-12-29/
LOCATION:Sanctuary
END:VEVENT
BEGIN:VEVENT
DTSTART;TZID=America/New_York:20251229T140000
DTEND;TZID=America/New_York:20251229T140000
DTSTAMP:20260421T234650
CREATED:20251201T162329Z
LAST-MODIFIED:20251201T162329Z
UID:18602-1767016800-1767016800@towerlane.org
SUMMARY:Bingo
DESCRIPTION:Part of our Social Pathway.\nThe classic game.
URL:https://towerlane.org/event/bingo-141/
LOCATION:Sanctuary
END:VEVENT
BEGIN:VEVENT
DTSTART;TZID=America/New_York:20251228T190000
DTEND;TZID=America/New_York:20251228T190000
DTSTAMP:20260421T234650
CREATED:20251201T174311Z
LAST-MODIFIED:20251201T174311Z
UID:18708-1766948400-1766948400@towerlane.org
SUMMARY:Movie Night
DESCRIPTION:
URL:https://towerlane.org/event/movie-night-87/2025-12-28/
LOCATION:Sanctuary
END:VEVENT
BEGIN:VEVENT
DTSTART;TZID=America/New_York:20251228T130000
DTEND;TZID=America/New_York:20251228T130000
DTSTAMP:20260421T234650
CREATED:20251201T201338Z
LAST-MODIFIED:20251201T201338Z
UID:18790-1766926800-1766926800@towerlane.org
SUMMARY:Outdoor Games Inside - Chair Volleyball
DESCRIPTION:
URL:https://towerlane.org/event/outdoor-games-inside-chair-volleyball-2/
LOCATION:Sanctuary
END:VEVENT
BEGIN:VEVENT
DTSTART;TZID=America/New_York:20251227T190000
DTEND;TZID=America/New_York:20251227T190000
DTSTAMP:20260421T234650
CREATED:20251201T173808Z
LAST-MODIFIED:20251201T173808Z
UID:18698-1766862000-1766862000@towerlane.org
SUMMARY:Movie Night
DESCRIPTION:
URL:https://towerlane.org/event/movie-night-86/2025-12-27/
LOCATION:Sanctuary
END:VEVENT
BEGIN:VEVENT
DTSTART;TZID=America/New_York:20251227T140000
DTEND;TZID=America/New_York:20251227T140000
DTSTAMP:20260421T234650
CREATED:20251201T173451Z
LAST-MODIFIED:20251201T173451Z
UID:18690-1766844000-1766844000@towerlane.org
SUMMARY:Bingo
DESCRIPTION:Part of our Social Pathway.\nThe classic game.
URL:https://towerlane.org/event/bingo-142/2025-12-27/
LOCATION:Sanctuary
END:VEVENT
BEGIN:VEVENT
DTSTART;TZID=America/New_York:20251227T100000
DTEND;TZID=America/New_York:20251227T100000
DTSTAMP:20260421T234650
CREATED:20251201T173257Z
LAST-MODIFIED:20251201T173257Z
UID:18686-1766829600-1766829600@towerlane.org
SUMMARY:Shabbat
DESCRIPTION:Part of our Spiritual Pathway.\nFriday night and Saturday morning Shabbat services with Ruthie Greenblatt and Sarah Moskowitz.
URL:https://towerlane.org/event/shabbat-84/2025-12-27/
LOCATION:Sanctuary
END:VEVENT
BEGIN:VEVENT
DTSTART;TZID=America/New_York:20251226T183000
DTEND;TZID=America/New_York:20251226T183000
DTSTAMP:20260421T234650
CREATED:20251201T173106Z
LAST-MODIFIED:20251201T173106Z
UID:18681-1766773800-1766773800@towerlane.org
SUMMARY:Shabbat
DESCRIPTION:Part of our Spiritual Pathway.\nFriday night and Saturday morning Shabbat services with Ruthie Greenblatt and Sarah Moskowitz.
URL:https://towerlane.org/event/shabbat-83/2025-12-26/
LOCATION:Sanctuary
END:VEVENT
BEGIN:VEVENT
DTSTART;TZID=America/New_York:20251226T140000
DTEND;TZID=America/New_York:20251226T140000
DTSTAMP:20260421T234650
CREATED:20251201T172905Z
LAST-MODIFIED:20251201T172905Z
UID:18676-1766757600-1766757600@towerlane.org
SUMMARY:Current Events
DESCRIPTION:Part of our Intellectual Pathway.\nResident-led interactive discussion group.
URL:https://towerlane.org/event/current-events-39/2025-12-26/
LOCATION:Sanctuary
END:VEVENT
BEGIN:VEVENT
DTSTART;TZID=America/New_York:20251226T100000
DTEND;TZID=America/New_York:20251226T100000
DTSTAMP:20260421T234650
CREATED:20251201T171632Z
LAST-MODIFIED:20251201T171939Z
UID:18651-1766743200-1766743200@towerlane.org
SUMMARY:Interfaith Bible Study
DESCRIPTION:Part of our Spiritual Pathway.\nDiscuss selected passages from the Old and New Testaments.
URL:https://towerlane.org/event/interfaith-bible-study-12/2025-12-26/
LOCATION:Sanctuary
END:VEVENT
BEGIN:VEVENT
DTSTART;TZID=America/New_York:20251225T190000
DTEND;TZID=America/New_York:20251225T190000
DTSTAMP:20260421T234650
CREATED:20251201T201058Z
LAST-MODIFIED:20251201T201058Z
UID:18786-1766689200-1766689200@towerlane.org
SUMMARY:Movie Night
DESCRIPTION:
URL:https://towerlane.org/event/movie-night-89/
LOCATION:Sanctuary
END:VEVENT
BEGIN:VEVENT
DTSTART;TZID=America/New_York:20251224T190000
DTEND;TZID=America/New_York:20251224T190000
DTSTAMP:20260421T234650
CREATED:20251201T190847Z
LAST-MODIFIED:20251201T190847Z
UID:18755-1766602800-1766602800@towerlane.org
SUMMARY:Movie Night
DESCRIPTION:
URL:https://towerlane.org/event/movie-night-88/2025-12-24/
LOCATION:Sanctuary
END:VEVENT
BEGIN:VEVENT
DTSTART;TZID=America/New_York:20251223T184500
DTEND;TZID=America/New_York:20251223T184500
DTSTAMP:20260421T234650
CREATED:20251201T200855Z
LAST-MODIFIED:20251201T200855Z
UID:18780-1766515500-1766515500@towerlane.org
SUMMARY:Holiday Songs with the Rosenay Family
DESCRIPTION:Part of our Social Pathway.\nConcerts\, themed game nights\, trivia and more scheduled throughout the month.
URL:https://towerlane.org/event/holiday-songs-with-the-rosenay-family/
LOCATION:Sanctuary
END:VEVENT
BEGIN:VEVENT
DTSTART;TZID=America/New_York:20251223T120000
DTEND;TZID=America/New_York:20251223T120000
DTSTAMP:20260421T234650
CREATED:20251201T200656Z
LAST-MODIFIED:20251201T200656Z
UID:18778-1766491200-1766491200@towerlane.org
SUMMARY:Catholic Mass
DESCRIPTION:Part of our Spiritual Pathway.\nTwice per month Catholic service with Father Ryan Lerner.
URL:https://towerlane.org/event/catholic-mass-77/
LOCATION:Sanctuary
END:VEVENT
BEGIN:VEVENT
DTSTART;TZID=America/New_York:20251223T113000
DTEND;TZID=America/New_York:20251223T113000
DTSTAMP:20260421T234650
CREATED:20251201T190211Z
LAST-MODIFIED:20251201T190211Z
UID:18743-1766489400-1766489400@towerlane.org
SUMMARY:30 Minute Exercise
DESCRIPTION:Part of our Physical Pathway.\n\nA shortened\, modified version of our Healthy & Fit. These sessions are typically performed half seated\, half standing\, and can be modified to most ability levels. Practical strategies for minimizing fall risk are discussed.
URL:https://towerlane.org/event/30-minute-exercise-31/2025-12-23/
LOCATION:Sanctuary
END:VEVENT
BEGIN:VEVENT
DTSTART;TZID=America/New_York:20251222T190000
DTEND;TZID=America/New_York:20251222T190000
DTSTAMP:20260421T234650
CREATED:20251201T162238Z
LAST-MODIFIED:20251201T162238Z
UID:18599-1766430000-1766430000@towerlane.org
SUMMARY:Movie Night
DESCRIPTION:
URL:https://towerlane.org/event/movie-night-85/2025-12-22/
LOCATION:Sanctuary
END:VEVENT
BEGIN:VEVENT
DTSTART;TZID=America/New_York:20251221T190000
DTEND;TZID=America/New_York:20251221T190000
DTSTAMP:20260421T234650
CREATED:20251201T174311Z
LAST-MODIFIED:20251201T174311Z
UID:18707-1766343600-1766343600@towerlane.org
SUMMARY:Movie Night
DESCRIPTION:
URL:https://towerlane.org/event/movie-night-87/2025-12-21/
LOCATION:Sanctuary
END:VEVENT
BEGIN:VEVENT
DTSTART;TZID=America/New_York:20251221T123000
DTEND;TZID=America/New_York:20251221T123000
DTSTAMP:20260421T234650
CREATED:20251201T174046Z
LAST-MODIFIED:20251201T174046Z
UID:18701-1766320200-1766320200@towerlane.org
SUMMARY:Joy of Drumming
DESCRIPTION:Part of our Physical Pathway.\nParticipants will be led through a warmup then play along to simple rhythmic patterns with classic songs. The numerous benefits of drumming include increased hand-eye coordination\, focus\, mental clarity\, and motor skill. Led by resident volunteer Ruby Benarroch.
URL:https://towerlane.org/event/joy-of-drumming-6/2025-12-21/
LOCATION:Sanctuary
END:VEVENT
BEGIN:VEVENT
DTSTART;TZID=America/New_York:20251220T190000
DTEND;TZID=America/New_York:20251220T190000
DTSTAMP:20260421T234650
CREATED:20251201T173808Z
LAST-MODIFIED:20251201T173808Z
UID:18697-1766257200-1766257200@towerlane.org
SUMMARY:Movie Night
DESCRIPTION:
URL:https://towerlane.org/event/movie-night-86/2025-12-20/
LOCATION:Sanctuary
END:VEVENT
BEGIN:VEVENT
DTSTART;TZID=America/New_York:20251220T140000
DTEND;TZID=America/New_York:20251220T140000
DTSTAMP:20260421T234650
CREATED:20251201T173451Z
LAST-MODIFIED:20251201T173451Z
UID:18689-1766239200-1766239200@towerlane.org
SUMMARY:Bingo
DESCRIPTION:Part of our Social Pathway.\nThe classic game.
URL:https://towerlane.org/event/bingo-142/2025-12-20/
LOCATION:Sanctuary
END:VEVENT
BEGIN:VEVENT
DTSTART;TZID=America/New_York:20251220T100000
DTEND;TZID=America/New_York:20251220T100000
DTSTAMP:20260421T234650
CREATED:20251201T173257Z
LAST-MODIFIED:20251201T173257Z
UID:18685-1766224800-1766224800@towerlane.org
SUMMARY:Shabbat
DESCRIPTION:Part of our Spiritual Pathway.\nFriday night and Saturday morning Shabbat services with Ruthie Greenblatt and Sarah Moskowitz.
URL:https://towerlane.org/event/shabbat-84/2025-12-20/
LOCATION:Sanctuary
END:VEVENT
END:VCALENDAR