BEGIN:VCALENDAR
VERSION:2.0
PRODID:-//The Towers - ECPv6.10.3//NONSGML v1.0//EN
CALSCALE:GREGORIAN
METHOD:PUBLISH
X-ORIGINAL-URL:https://towerlane.org
X-WR-CALDESC:Events for The Towers
REFRESH-INTERVAL;VALUE=DURATION:PT1H
X-Robots-Tag:noindex
X-PUBLISHED-TTL:PT1H
BEGIN:VTIMEZONE
TZID:America/New_York
BEGIN:DAYLIGHT
TZOFFSETFROM:-0500
TZOFFSETTO:-0400
TZNAME:EDT
DTSTART:20250309T070000
END:DAYLIGHT
BEGIN:STANDARD
TZOFFSETFROM:-0400
TZOFFSETTO:-0500
TZNAME:EST
DTSTART:20251102T060000
END:STANDARD
END:VTIMEZONE
BEGIN:VEVENT
DTSTART;TZID=America/New_York:20251213T100000
DTEND;TZID=America/New_York:20251213T100000
DTSTAMP:20260422T051813
CREATED:20251201T173257Z
LAST-MODIFIED:20251201T173257Z
UID:18684-1765620000-1765620000@towerlane.org
SUMMARY:Shabbat
DESCRIPTION:Part of our Spiritual Pathway.\nFriday night and Saturday morning Shabbat services with Ruthie Greenblatt and Sarah Moskowitz.
URL:https://towerlane.org/event/shabbat-84/2025-12-13/
LOCATION:Sanctuary
END:VEVENT
BEGIN:VEVENT
DTSTART;TZID=America/New_York:20251212T183000
DTEND;TZID=America/New_York:20251212T183000
DTSTAMP:20260422T051813
CREATED:20251201T173106Z
LAST-MODIFIED:20251201T173106Z
UID:18679-1765564200-1765564200@towerlane.org
SUMMARY:Shabbat
DESCRIPTION:Part of our Spiritual Pathway.\nFriday night and Saturday morning Shabbat services with Ruthie Greenblatt and Sarah Moskowitz.
URL:https://towerlane.org/event/shabbat-83/2025-12-12/
LOCATION:Sanctuary
END:VEVENT
BEGIN:VEVENT
DTSTART;TZID=America/New_York:20251212T140000
DTEND;TZID=America/New_York:20251212T140000
DTSTAMP:20260422T051813
CREATED:20251201T172905Z
LAST-MODIFIED:20251201T172905Z
UID:18674-1765548000-1765548000@towerlane.org
SUMMARY:Current Events
DESCRIPTION:Part of our Intellectual Pathway.\nResident-led interactive discussion group.
URL:https://towerlane.org/event/current-events-39/2025-12-12/
LOCATION:Sanctuary
END:VEVENT
BEGIN:VEVENT
DTSTART;TZID=America/New_York:20251212T100000
DTEND;TZID=America/New_York:20251212T100000
DTSTAMP:20260422T051813
CREATED:20251201T171632Z
LAST-MODIFIED:20251201T171939Z
UID:18649-1765533600-1765533600@towerlane.org
SUMMARY:Interfaith Bible Study
DESCRIPTION:Part of our Spiritual Pathway.\nDiscuss selected passages from the Old and New Testaments.
URL:https://towerlane.org/event/interfaith-bible-study-12/2025-12-12/
LOCATION:Sanctuary
END:VEVENT
BEGIN:VEVENT
DTSTART;TZID=America/New_York:20251211T130000
DTEND;TZID=America/New_York:20251211T130000
DTSTAMP:20260422T051813
CREATED:20251201T185051Z
LAST-MODIFIED:20251201T185051Z
UID:18727-1765458000-1765458000@towerlane.org
SUMMARY:Catholic Mass
DESCRIPTION:Part of our Spiritual Pathway.\nTwice per month Catholic service with Father Ryan Lerner.
URL:https://towerlane.org/event/catholic-mass-76/
LOCATION:Sanctuary
END:VEVENT
BEGIN:VEVENT
DTSTART;TZID=America/New_York:20251211T103000
DTEND;TZID=America/New_York:20251211T103000
DTSTAMP:20260422T051813
CREATED:20251201T170155Z
LAST-MODIFIED:20251201T170155Z
UID:18637-1765449000-1765449000@towerlane.org
SUMMARY:30 Minute Exercise
DESCRIPTION:Part of our Physical Pathway.\n\nA shortened\, modified version of our Healthy & Fit. These sessions are typically performed half seated\, half standing\, and can be modified to most ability levels. Practical strategies for minimizing fall risk are discussed.
URL:https://towerlane.org/event/30-minute-exercise-29/2025-12-11/
LOCATION:Sanctuary
END:VEVENT
BEGIN:VEVENT
DTSTART;TZID=America/New_York:20251210T130000
DTEND;TZID=America/New_York:20251210T130000
DTSTAMP:20260422T051813
CREATED:20251201T165337Z
LAST-MODIFIED:20251201T165337Z
UID:18629-1765371600-1765371600@towerlane.org
SUMMARY:Healthy & Fit
DESCRIPTION:Part of our Physical Pathway.\nA full body exercise session that can be scaled to most ability levels. These workouts aim to increase strength and balance\, improve flexibility and overall fitness levels.
URL:https://towerlane.org/event/healthy-fit-70/2025-12-10/
LOCATION:Sanctuary
END:VEVENT
BEGIN:VEVENT
DTSTART;TZID=America/New_York:20251210T104500
DTEND;TZID=America/New_York:20251210T104500
DTSTAMP:20260422T051813
CREATED:20251201T165127Z
LAST-MODIFIED:20251201T165127Z
UID:18625-1765363500-1765363500@towerlane.org
SUMMARY:Chorus Rehearsal
DESCRIPTION:Part of our Psychological Pathway.\n\nChorus leader Kevin Mack leads weekly rehearsals culminating in themed performances throughout the year. Runs seasonally.
URL:https://towerlane.org/event/chorus-rehearsal-26/2025-12-10/
LOCATION:Sanctuary
END:VEVENT
BEGIN:VEVENT
DTSTART;TZID=America/New_York:20251209T184500
DTEND;TZID=America/New_York:20251209T184500
DTSTAMP:20260422T051813
CREATED:20251201T183933Z
LAST-MODIFIED:20251201T183933Z
UID:18719-1765305900-1765305900@towerlane.org
SUMMARY:Movie and Discussion with Jim Brochin
DESCRIPTION:
URL:https://towerlane.org/event/movie-and-discussion-with-jim-brochin-44/
LOCATION:Sanctuary
END:VEVENT
BEGIN:VEVENT
DTSTART;TZID=America/New_York:20251209T104500
DTEND;TZID=America/New_York:20251209T104500
DTSTAMP:20260422T051813
CREATED:20251201T183408Z
LAST-MODIFIED:20251201T183408Z
UID:18712-1765277100-1765277100@towerlane.org
SUMMARY:Chorus Rehearsal
DESCRIPTION:Part of our Psychological Pathway.\n\nChorus leader Kevin Mack leads weekly rehearsals culminating in themed performances throughout the year. Runs seasonally.
URL:https://towerlane.org/event/chorus-rehearsal-27/
LOCATION:Sanctuary
END:VEVENT
BEGIN:VEVENT
DTSTART;TZID=America/New_York:20251208T190000
DTEND;TZID=America/New_York:20251208T190000
DTSTAMP:20260422T051813
CREATED:20251201T174454Z
LAST-MODIFIED:20251201T174454Z
UID:18710-1765220400-1765220400@towerlane.org
SUMMARY:"Gospel & The Holidays" with the Howard Taylor Singers
DESCRIPTION:Part of our Social Pathway.\nConcerts\, themed game nights\, trivia and more scheduled throughout the month.
URL:https://towerlane.org/event/gospel-the-holidays-with-the-howard-taylor-singers/
LOCATION:Sanctuary
END:VEVENT
BEGIN:VEVENT
DTSTART;TZID=America/New_York:20251208T140000
DTEND;TZID=America/New_York:20251208T140000
DTSTAMP:20260422T051813
CREATED:20251201T162116Z
LAST-MODIFIED:20251201T162116Z
UID:18595-1765202400-1765202400@towerlane.org
SUMMARY:Bingo
DESCRIPTION:Part of our Social Pathway.\nThe classic game.
URL:https://towerlane.org/event/bingo-140/2025-12-08/
LOCATION:Sanctuary
END:VEVENT
BEGIN:VEVENT
DTSTART;TZID=America/New_York:20251207T190000
DTEND;TZID=America/New_York:20251207T190000
DTSTAMP:20260422T051813
CREATED:20251201T174311Z
LAST-MODIFIED:20251201T174311Z
UID:18705-1765134000-1765134000@towerlane.org
SUMMARY:Movie Night
DESCRIPTION:
URL:https://towerlane.org/event/movie-night-87/2025-12-07/
LOCATION:Sanctuary
END:VEVENT
BEGIN:VEVENT
DTSTART;TZID=America/New_York:20251207T123000
DTEND;TZID=America/New_York:20251207T123000
DTSTAMP:20260422T051813
CREATED:20251201T174046Z
LAST-MODIFIED:20251201T174046Z
UID:18700-1765110600-1765110600@towerlane.org
SUMMARY:Joy of Drumming
DESCRIPTION:Part of our Physical Pathway.\nParticipants will be led through a warmup then play along to simple rhythmic patterns with classic songs. The numerous benefits of drumming include increased hand-eye coordination\, focus\, mental clarity\, and motor skill. Led by resident volunteer Ruby Benarroch.
URL:https://towerlane.org/event/joy-of-drumming-6/2025-12-07/
LOCATION:Sanctuary
END:VEVENT
BEGIN:VEVENT
DTSTART;TZID=America/New_York:20251206T190000
DTEND;TZID=America/New_York:20251206T190000
DTSTAMP:20260422T051813
CREATED:20251201T173808Z
LAST-MODIFIED:20251201T173808Z
UID:18695-1765047600-1765047600@towerlane.org
SUMMARY:Movie Night
DESCRIPTION:
URL:https://towerlane.org/event/movie-night-86/2025-12-06/
LOCATION:Sanctuary
END:VEVENT
BEGIN:VEVENT
DTSTART;TZID=America/New_York:20251206T140000
DTEND;TZID=America/New_York:20251206T140000
DTSTAMP:20260422T051813
CREATED:20251201T173451Z
LAST-MODIFIED:20251201T173451Z
UID:18688-1765029600-1765029600@towerlane.org
SUMMARY:Bingo
DESCRIPTION:Part of our Social Pathway.\nThe classic game.
URL:https://towerlane.org/event/bingo-142/2025-12-06/
LOCATION:Sanctuary
END:VEVENT
BEGIN:VEVENT
DTSTART;TZID=America/New_York:20251206T100000
DTEND;TZID=America/New_York:20251206T100000
DTSTAMP:20260422T051813
CREATED:20251201T173257Z
LAST-MODIFIED:20251201T173257Z
UID:18683-1765015200-1765015200@towerlane.org
SUMMARY:Shabbat
DESCRIPTION:Part of our Spiritual Pathway.\nFriday night and Saturday morning Shabbat services with Ruthie Greenblatt and Sarah Moskowitz.
URL:https://towerlane.org/event/shabbat-84/2025-12-06/
LOCATION:Sanctuary
END:VEVENT
BEGIN:VEVENT
DTSTART;TZID=America/New_York:20251205T183000
DTEND;TZID=America/New_York:20251205T183000
DTSTAMP:20260422T051813
CREATED:20251201T173106Z
LAST-MODIFIED:20251201T173106Z
UID:18678-1764959400-1764959400@towerlane.org
SUMMARY:Shabbat
DESCRIPTION:Part of our Spiritual Pathway.\nFriday night and Saturday morning Shabbat services with Ruthie Greenblatt and Sarah Moskowitz.
URL:https://towerlane.org/event/shabbat-83/2025-12-05/
LOCATION:Sanctuary
END:VEVENT
BEGIN:VEVENT
DTSTART;TZID=America/New_York:20251205T140000
DTEND;TZID=America/New_York:20251205T140000
DTSTAMP:20260422T051813
CREATED:20251201T172905Z
LAST-MODIFIED:20251201T172905Z
UID:18673-1764943200-1764943200@towerlane.org
SUMMARY:Current Events
DESCRIPTION:Part of our Intellectual Pathway.\nResident-led interactive discussion group.
URL:https://towerlane.org/event/current-events-39/2025-12-05/
LOCATION:Sanctuary
END:VEVENT
BEGIN:VEVENT
DTSTART;TZID=America/New_York:20251205T100000
DTEND;TZID=America/New_York:20251205T100000
DTSTAMP:20260422T051813
CREATED:20251201T171632Z
LAST-MODIFIED:20251201T171939Z
UID:18648-1764928800-1764928800@towerlane.org
SUMMARY:Interfaith Bible Study
DESCRIPTION:Part of our Spiritual Pathway.\nDiscuss selected passages from the Old and New Testaments.
URL:https://towerlane.org/event/interfaith-bible-study-12/2025-12-05/
LOCATION:Sanctuary
END:VEVENT
BEGIN:VEVENT
DTSTART;TZID=America/New_York:20251204T183000
DTEND;TZID=America/New_York:20251204T200000
DTSTAMP:20260422T051813
CREATED:20251201T171233Z
LAST-MODIFIED:20251201T171233Z
UID:18646-1764873000-1764878400@towerlane.org
SUMMARY:Welcome BBYO Youth Group
DESCRIPTION:
URL:https://towerlane.org/event/welcome-bbyo-youth-group/
LOCATION:Sanctuary
END:VEVENT
BEGIN:VEVENT
DTSTART;TZID=America/New_York:20251204T130000
DTEND;TZID=America/New_York:20251204T130000
DTSTAMP:20260422T051813
CREATED:20251201T171018Z
LAST-MODIFIED:20251201T171018Z
UID:18642-1764853200-1764853200@towerlane.org
SUMMARY:Welcome Back Photographer Michael Tomashefsky
DESCRIPTION:
URL:https://towerlane.org/event/welcome-back-photographer-michael-tomashefsky-2/
LOCATION:Sanctuary
END:VEVENT
BEGIN:VEVENT
DTSTART;TZID=America/New_York:20251204T103000
DTEND;TZID=America/New_York:20251204T103000
DTSTAMP:20260422T051813
CREATED:20251201T170155Z
LAST-MODIFIED:20251201T170155Z
UID:18636-1764844200-1764844200@towerlane.org
SUMMARY:30 Minute Exercise
DESCRIPTION:Part of our Physical Pathway.\n\nA shortened\, modified version of our Healthy & Fit. These sessions are typically performed half seated\, half standing\, and can be modified to most ability levels. Practical strategies for minimizing fall risk are discussed.
URL:https://towerlane.org/event/30-minute-exercise-29/2025-12-04/
LOCATION:Sanctuary
END:VEVENT
BEGIN:VEVENT
DTSTART;TZID=America/New_York:20251203T184500
DTEND;TZID=America/New_York:20251203T184500
DTSTAMP:20260422T051813
CREATED:20251201T165709Z
LAST-MODIFIED:20251201T165709Z
UID:18634-1764787500-1764787500@towerlane.org
SUMMARY:"Who Sleighed Santa?" A Holly Trolley Mystery
DESCRIPTION:
URL:https://towerlane.org/event/who-sleighed-santa-a-holly-trolley-mystery/
LOCATION:Sanctuary
END:VEVENT
BEGIN:VEVENT
DTSTART;TZID=America/New_York:20251203T140000
DTEND;TZID=America/New_York:20251203T140000
DTSTAMP:20260422T051813
CREATED:20251201T165520Z
LAST-MODIFIED:20251201T165520Z
UID:18632-1764770400-1764770400@towerlane.org
SUMMARY:Health Talk with Gina and Dean
DESCRIPTION:
URL:https://towerlane.org/event/health-talk-with-gina-and-dean-2/
LOCATION:Sanctuary
END:VEVENT
BEGIN:VEVENT
DTSTART;TZID=America/New_York:20251203T130000
DTEND;TZID=America/New_York:20251203T130000
DTSTAMP:20260422T051813
CREATED:20251201T165337Z
LAST-MODIFIED:20251201T165337Z
UID:18628-1764766800-1764766800@towerlane.org
SUMMARY:Healthy & Fit
DESCRIPTION:Part of our Physical Pathway.\nA full body exercise session that can be scaled to most ability levels. These workouts aim to increase strength and balance\, improve flexibility and overall fitness levels.
URL:https://towerlane.org/event/healthy-fit-70/2025-12-03/
LOCATION:Sanctuary
END:VEVENT
BEGIN:VEVENT
DTSTART;TZID=America/New_York:20251203T104500
DTEND;TZID=America/New_York:20251203T104500
DTSTAMP:20260422T051813
CREATED:20251201T165127Z
LAST-MODIFIED:20251201T165127Z
UID:18624-1764758700-1764758700@towerlane.org
SUMMARY:Chorus Rehearsal
DESCRIPTION:Part of our Psychological Pathway.\n\nChorus leader Kevin Mack leads weekly rehearsals culminating in themed performances throughout the year. Runs seasonally.
URL:https://towerlane.org/event/chorus-rehearsal-26/2025-12-03/
LOCATION:Sanctuary
END:VEVENT
BEGIN:VEVENT
DTSTART;TZID=America/New_York:20251202T190000
DTEND;TZID=America/New_York:20251202T190000
DTSTAMP:20260422T051813
CREATED:20251201T164745Z
LAST-MODIFIED:20251201T164745Z
UID:18622-1764702000-1764702000@towerlane.org
SUMMARY:Video Lecture Series: "The Cosmos"
DESCRIPTION:
URL:https://towerlane.org/event/video-lecture-series-the-cosmos-3/
LOCATION:Sanctuary
END:VEVENT
BEGIN:VEVENT
DTSTART;TZID=America/New_York:20251202T140000
DTEND;TZID=America/New_York:20251202T140000
DTSTAMP:20260422T051813
CREATED:20251201T164536Z
LAST-MODIFIED:20251201T164536Z
UID:18620-1764684000-1764684000@towerlane.org
SUMMARY:Listening Tour with Jess\, Sarah and Dean
DESCRIPTION:
URL:https://towerlane.org/event/listening-tour-with-jess-sarah-and-dean/
LOCATION:Sanctuary
END:VEVENT
BEGIN:VEVENT
DTSTART;TZID=America/New_York:20251201T190000
DTEND;TZID=America/New_York:20251201T190000
DTSTAMP:20260422T051813
CREATED:20251201T162238Z
LAST-MODIFIED:20251201T162238Z
UID:18597-1764615600-1764615600@towerlane.org
SUMMARY:Movie Night
DESCRIPTION:
URL:https://towerlane.org/event/movie-night-85/2025-12-01/
LOCATION:Sanctuary
END:VEVENT
END:VCALENDAR