BEGIN:VCALENDAR
VERSION:2.0
PRODID:-//The Towers - ECPv6.10.3//NONSGML v1.0//EN
CALSCALE:GREGORIAN
METHOD:PUBLISH
X-ORIGINAL-URL:https://towerlane.org
X-WR-CALDESC:Events for The Towers
REFRESH-INTERVAL;VALUE=DURATION:PT1H
X-Robots-Tag:noindex
X-PUBLISHED-TTL:PT1H
BEGIN:VTIMEZONE
TZID:America/New_York
BEGIN:DAYLIGHT
TZOFFSETFROM:-0500
TZOFFSETTO:-0400
TZNAME:EDT
DTSTART:20250309T070000
END:DAYLIGHT
BEGIN:STANDARD
TZOFFSETFROM:-0400
TZOFFSETTO:-0500
TZNAME:EST
DTSTART:20251102T060000
END:STANDARD
END:VTIMEZONE
BEGIN:VEVENT
DTSTART;TZID=America/New_York:20251031T183000
DTEND;TZID=America/New_York:20251031T183000
DTSTAMP:20260422T183406
CREATED:20250930T144550Z
LAST-MODIFIED:20250930T144550Z
UID:17860-1761935400-1761935400@towerlane.org
SUMMARY:Shabbat
DESCRIPTION:Part of our Spiritual Pathway.\nFriday night and Saturday morning Shabbat services with Ruthie Greenblatt and Sarah Moskowitz.
URL:https://towerlane.org/event/shabbat-79/2025-10-31/
LOCATION:Sanctuary
END:VEVENT
BEGIN:VEVENT
DTSTART;TZID=America/New_York:20251031T140000
DTEND;TZID=America/New_York:20251031T140000
DTSTAMP:20260422T183406
CREATED:20250930T144419Z
LAST-MODIFIED:20250930T144419Z
UID:17854-1761919200-1761919200@towerlane.org
SUMMARY:Current Events
DESCRIPTION:Part of our Intellectual Pathway.\nResident-led interactive discussion group.
URL:https://towerlane.org/event/current-events-37/2025-10-31/
LOCATION:Sanctuary
END:VEVENT
BEGIN:VEVENT
DTSTART;TZID=America/New_York:20251031T100000
DTEND;TZID=America/New_York:20251031T100000
DTSTAMP:20260422T183406
CREATED:20250930T143057Z
LAST-MODIFIED:20250930T143057Z
UID:17834-1761904800-1761904800@towerlane.org
SUMMARY:Interfaith Bible Study
DESCRIPTION:Part of our Spiritual Pathway.\nDiscuss selected passages from the Old and New Testaments.
URL:https://towerlane.org/event/interfaith-bible-study-10/2025-10-31/
LOCATION:Sanctuary
END:VEVENT
BEGIN:VEVENT
DTSTART;TZID=America/New_York:20251030T110000
DTEND;TZID=America/New_York:20251030T110000
DTSTAMP:20260422T183406
CREATED:20250930T184308Z
LAST-MODIFIED:20250930T184308Z
UID:18005-1761822000-1761822000@towerlane.org
SUMMARY:Town Hall Meeting
DESCRIPTION:
URL:https://towerlane.org/event/town-hall-meeting-4/
LOCATION:Sanctuary
END:VEVENT
BEGIN:VEVENT
DTSTART;TZID=America/New_York:20251029T190000
DTEND;TZID=America/New_York:20251029T190000
DTSTAMP:20260422T183406
CREATED:20250930T153341Z
LAST-MODIFIED:20250930T153341Z
UID:17938-1761764400-1761764400@towerlane.org
SUMMARY:Movie Night
DESCRIPTION:
URL:https://towerlane.org/event/movie-night-80/2025-10-29/
LOCATION:Sanctuary
END:VEVENT
BEGIN:VEVENT
DTSTART;TZID=America/New_York:20251027T190000
DTEND;TZID=America/New_York:20251027T190000
DTSTAMP:20260422T183406
CREATED:20250930T184109Z
LAST-MODIFIED:20250930T184109Z
UID:18003-1761591600-1761591600@towerlane.org
SUMMARY:Family Feud Night with Charles Rosenay
DESCRIPTION:Part of our Social Pathway.\nConcerts\, themed game nights\, trivia and more scheduled throughout the month.
URL:https://towerlane.org/event/family-feud-night-with-charles-rosenay-2/
LOCATION:Sanctuary
END:VEVENT
BEGIN:VEVENT
DTSTART;TZID=America/New_York:20251027T140000
DTEND;TZID=America/New_York:20251027T140000
DTSTAMP:20260422T183406
CREATED:20250930T151312Z
LAST-MODIFIED:20250930T151312Z
UID:17903-1761573600-1761573600@towerlane.org
SUMMARY:Bingo
DESCRIPTION:Part of our Social Pathway. \nThe classic game.
URL:https://towerlane.org/event/bingo-136/2025-10-27/
LOCATION:Sanctuary
END:VEVENT
BEGIN:VEVENT
DTSTART;TZID=America/New_York:20251026T190000
DTEND;TZID=America/New_York:20251026T190000
DTSTAMP:20260422T183406
CREATED:20250930T150130Z
LAST-MODIFIED:20250930T150130Z
UID:17881-1761505200-1761505200@towerlane.org
SUMMARY:Movie Night
DESCRIPTION:
URL:https://towerlane.org/event/movie-night-79/2025-10-26/
LOCATION:Sanctuary
END:VEVENT
BEGIN:VEVENT
DTSTART;TZID=America/New_York:20251026T130000
DTEND;TZID=America/New_York:20251026T130000
DTSTAMP:20260422T183406
CREATED:20250930T182115Z
LAST-MODIFIED:20250930T182115Z
UID:17976-1761483600-1761483600@towerlane.org
SUMMARY:Joy of Drumming
DESCRIPTION:Part of our Physical Pathway.\nParticipants will be led through a warmup then play along to simple rhythmic patterns with classic songs. The numerous benefits of drumming include increased hand-eye coordination\, focus\, mental clarity\, and motor skill. Led by resident volunteer Ruby Benarroch.
URL:https://towerlane.org/event/joy-of-drumming-4/2025-10-26/
LOCATION:Sanctuary
END:VEVENT
BEGIN:VEVENT
DTSTART;TZID=America/New_York:20251025T190000
DTEND;TZID=America/New_York:20251025T190000
DTSTAMP:20260422T183406
CREATED:20250930T145651Z
LAST-MODIFIED:20250930T145651Z
UID:17874-1761418800-1761418800@towerlane.org
SUMMARY:Movie Night
DESCRIPTION:
URL:https://towerlane.org/event/movie-night-78/2025-10-25/
LOCATION:Sanctuary
END:VEVENT
BEGIN:VEVENT
DTSTART;TZID=America/New_York:20251025T133000
DTEND;TZID=America/New_York:20251025T133000
DTSTAMP:20260422T183406
CREATED:20250930T183739Z
LAST-MODIFIED:20250930T183739Z
UID:17999-1761399000-1761399000@towerlane.org
SUMMARY:Bingo
DESCRIPTION:Part of our Social Pathway.\nThe classic game.
URL:https://towerlane.org/event/bingo-137/
LOCATION:Sanctuary
END:VEVENT
BEGIN:VEVENT
DTSTART;TZID=America/New_York:20251025T100000
DTEND;TZID=America/New_York:20251025T100000
DTSTAMP:20260422T183406
CREATED:20250930T144803Z
LAST-MODIFIED:20250930T144803Z
UID:17865-1761386400-1761386400@towerlane.org
SUMMARY:Shabbat
DESCRIPTION:Part of our Spiritual Pathway.\nFriday night and Saturday morning Shabbat services with Ruthie Greenblatt and Sarah Moskowitz.
URL:https://towerlane.org/event/shabbat-80/2025-10-25/
LOCATION:Sanctuary
END:VEVENT
BEGIN:VEVENT
DTSTART;TZID=America/New_York:20251024T183000
DTEND;TZID=America/New_York:20251024T183000
DTSTAMP:20260422T183406
CREATED:20250930T144550Z
LAST-MODIFIED:20250930T144550Z
UID:17859-1761330600-1761330600@towerlane.org
SUMMARY:Shabbat
DESCRIPTION:Part of our Spiritual Pathway.\nFriday night and Saturday morning Shabbat services with Ruthie Greenblatt and Sarah Moskowitz.
URL:https://towerlane.org/event/shabbat-79/2025-10-24/
LOCATION:Sanctuary
END:VEVENT
BEGIN:VEVENT
DTSTART;TZID=America/New_York:20251024T140000
DTEND;TZID=America/New_York:20251024T140000
DTSTAMP:20260422T183406
CREATED:20250930T144419Z
LAST-MODIFIED:20250930T144419Z
UID:17853-1761314400-1761314400@towerlane.org
SUMMARY:Current Events
DESCRIPTION:Part of our Intellectual Pathway.\nResident-led interactive discussion group.
URL:https://towerlane.org/event/current-events-37/2025-10-24/
LOCATION:Sanctuary
END:VEVENT
BEGIN:VEVENT
DTSTART;TZID=America/New_York:20251024T100000
DTEND;TZID=America/New_York:20251024T100000
DTSTAMP:20260422T183406
CREATED:20250930T143057Z
LAST-MODIFIED:20250930T143057Z
UID:17833-1761300000-1761300000@towerlane.org
SUMMARY:Interfaith Bible Study
DESCRIPTION:Part of our Spiritual Pathway.\nDiscuss selected passages from the Old and New Testaments.
URL:https://towerlane.org/event/interfaith-bible-study-10/2025-10-24/
LOCATION:Sanctuary
END:VEVENT
BEGIN:VEVENT
DTSTART;TZID=America/New_York:20251023T130000
DTEND;TZID=America/New_York:20251023T130000
DTSTAMP:20260422T183406
CREATED:20250930T154206Z
LAST-MODIFIED:20250930T154206Z
UID:17947-1761224400-1761224400@towerlane.org
SUMMARY:Catholic Mass
DESCRIPTION:Part of our Spiritual Pathway.\nTwice per month Catholic service with Father Ryan Lerner.
URL:https://towerlane.org/event/catholic-mass-73/2025-10-23/
LOCATION:Sanctuary
END:VEVENT
BEGIN:VEVENT
DTSTART;TZID=America/New_York:20251022T190000
DTEND;TZID=America/New_York:20251022T190000
DTSTAMP:20260422T183406
CREATED:20250930T153341Z
LAST-MODIFIED:20250930T153341Z
UID:17937-1761159600-1761159600@towerlane.org
SUMMARY:Movie Night
DESCRIPTION:
URL:https://towerlane.org/event/movie-night-80/2025-10-22/
LOCATION:Sanctuary
END:VEVENT
BEGIN:VEVENT
DTSTART;TZID=America/New_York:20251022T140000
DTEND;TZID=America/New_York:20251022T140000
DTSTAMP:20260422T183406
CREATED:20250930T183210Z
LAST-MODIFIED:20250930T183210Z
UID:17991-1761141600-1761141600@towerlane.org
SUMMARY:JFS Support Group
DESCRIPTION:Part of our Emotional Pathway.\nWeekly support group with LCSW Elanit Linder from Jewish Family Service.
URL:https://towerlane.org/event/jfs-support-group-51/
LOCATION:Sanctuary
END:VEVENT
BEGIN:VEVENT
DTSTART;TZID=America/New_York:20251022T130000
DTEND;TZID=America/New_York:20251022T130000
DTSTAMP:20260422T183406
CREATED:20250930T142457Z
LAST-MODIFIED:20250930T142457Z
UID:17820-1761138000-1761138000@towerlane.org
SUMMARY:Healthy & Fit
DESCRIPTION:Part of our Physical Pathway. \nA full body exercise session that can be scaled to most ability levels. These workouts aim to increase strength and balance\, improve flexibility and overall fitness levels.
URL:https://towerlane.org/event/healthy-fit-67/2025-10-22/
LOCATION:Sanctuary
END:VEVENT
BEGIN:VEVENT
DTSTART;TZID=America/New_York:20251022T104500
DTEND;TZID=America/New_York:20251022T104500
DTSTAMP:20260422T183406
CREATED:20250930T152617Z
LAST-MODIFIED:20250930T152832Z
UID:17926-1761129900-1761129900@towerlane.org
SUMMARY:Chorus Rehearsal
DESCRIPTION:Part of our Intellectual Pathway.\n\nChorus leader Kevin Mack leads weekly rehearsals culminating in themed performances throughout the year. Runs seasonally.
URL:https://towerlane.org/event/chorus-rehearsal-23/2025-10-22/
LOCATION:Sanctuary
END:VEVENT
BEGIN:VEVENT
DTSTART;TZID=America/New_York:20251021T190000
DTEND;TZID=America/New_York:20251021T190000
DTSTAMP:20260422T183406
CREATED:20250930T152351Z
LAST-MODIFIED:20250930T152351Z
UID:17922-1761073200-1761073200@towerlane.org
SUMMARY:Lecture Video Series: "The Cosmos"
DESCRIPTION:
URL:https://towerlane.org/event/lecture-video-series-the-cosmos/2025-10-21/
LOCATION:Sanctuary
END:VEVENT
BEGIN:VEVENT
DTSTART;TZID=America/New_York:20251019T190000
DTEND;TZID=America/New_York:20251019T190000
DTSTAMP:20260422T183406
CREATED:20250930T150130Z
LAST-MODIFIED:20250930T150130Z
UID:17880-1760900400-1760900400@towerlane.org
SUMMARY:Movie Night
DESCRIPTION:
URL:https://towerlane.org/event/movie-night-79/2025-10-19/
LOCATION:Sanctuary
END:VEVENT
BEGIN:VEVENT
DTSTART;TZID=America/New_York:20251019T130000
DTEND;TZID=America/New_York:20251019T130000
DTSTAMP:20260422T183406
CREATED:20250930T182115Z
LAST-MODIFIED:20250930T182115Z
UID:17975-1760878800-1760878800@towerlane.org
SUMMARY:Joy of Drumming
DESCRIPTION:Part of our Physical Pathway.\nParticipants will be led through a warmup then play along to simple rhythmic patterns with classic songs. The numerous benefits of drumming include increased hand-eye coordination\, focus\, mental clarity\, and motor skill. Led by resident volunteer Ruby Benarroch.
URL:https://towerlane.org/event/joy-of-drumming-4/2025-10-19/
LOCATION:Sanctuary
END:VEVENT
BEGIN:VEVENT
DTSTART;TZID=America/New_York:20251018T190000
DTEND;TZID=America/New_York:20251018T190000
DTSTAMP:20260422T183406
CREATED:20250930T145651Z
LAST-MODIFIED:20250930T145651Z
UID:17873-1760814000-1760814000@towerlane.org
SUMMARY:Movie Night
DESCRIPTION:
URL:https://towerlane.org/event/movie-night-78/2025-10-18/
LOCATION:Sanctuary
END:VEVENT
BEGIN:VEVENT
DTSTART;TZID=America/New_York:20251018T140000
DTEND;TZID=America/New_York:20251018T140000
DTSTAMP:20260422T183406
CREATED:20250930T145541Z
LAST-MODIFIED:20250930T145541Z
UID:17869-1760796000-1760796000@towerlane.org
SUMMARY:Bingo
DESCRIPTION:Part of our Social Pathway.\nThe classic game.
URL:https://towerlane.org/event/bingo-135/2025-10-18/
LOCATION:Sanctuary
END:VEVENT
BEGIN:VEVENT
DTSTART;TZID=America/New_York:20251018T100000
DTEND;TZID=America/New_York:20251018T100000
DTSTAMP:20260422T183406
CREATED:20250930T144803Z
LAST-MODIFIED:20250930T144803Z
UID:17864-1760781600-1760781600@towerlane.org
SUMMARY:Shabbat
DESCRIPTION:Part of our Spiritual Pathway.\nFriday night and Saturday morning Shabbat services with Ruthie Greenblatt and Sarah Moskowitz.
URL:https://towerlane.org/event/shabbat-80/2025-10-18/
LOCATION:Sanctuary
END:VEVENT
BEGIN:VEVENT
DTSTART;TZID=America/New_York:20251017T183000
DTEND;TZID=America/New_York:20251017T183000
DTSTAMP:20260422T183406
CREATED:20250930T144550Z
LAST-MODIFIED:20250930T144550Z
UID:17858-1760725800-1760725800@towerlane.org
SUMMARY:Shabbat
DESCRIPTION:Part of our Spiritual Pathway.\nFriday night and Saturday morning Shabbat services with Ruthie Greenblatt and Sarah Moskowitz.
URL:https://towerlane.org/event/shabbat-79/2025-10-17/
LOCATION:Sanctuary
END:VEVENT
BEGIN:VEVENT
DTSTART;TZID=America/New_York:20251017T140000
DTEND;TZID=America/New_York:20251017T140000
DTSTAMP:20260422T183406
CREATED:20250930T144419Z
LAST-MODIFIED:20250930T144419Z
UID:17852-1760709600-1760709600@towerlane.org
SUMMARY:Current Events
DESCRIPTION:Part of our Intellectual Pathway.\nResident-led interactive discussion group.
URL:https://towerlane.org/event/current-events-37/2025-10-17/
LOCATION:Sanctuary
END:VEVENT
BEGIN:VEVENT
DTSTART;TZID=America/New_York:20251017T100000
DTEND;TZID=America/New_York:20251017T100000
DTSTAMP:20260422T183406
CREATED:20250930T143057Z
LAST-MODIFIED:20250930T143057Z
UID:17832-1760695200-1760695200@towerlane.org
SUMMARY:Interfaith Bible Study
DESCRIPTION:Part of our Spiritual Pathway.\nDiscuss selected passages from the Old and New Testaments.
URL:https://towerlane.org/event/interfaith-bible-study-10/2025-10-17/
LOCATION:Sanctuary
END:VEVENT
BEGIN:VEVENT
DTSTART;TZID=America/New_York:20251016T140000
DTEND;TZID=America/New_York:20251016T140000
DTSTAMP:20260422T183406
CREATED:20250930T181642Z
LAST-MODIFIED:20250930T181642Z
UID:17969-1760623200-1760623200@towerlane.org
SUMMARY:Resident Meeting Hosted by the Tenant Council
DESCRIPTION:
URL:https://towerlane.org/event/resident-meeting-hosted-by-the-tenant-council-7/
LOCATION:Sanctuary
END:VEVENT
END:VCALENDAR