BEGIN:VCALENDAR
VERSION:2.0
PRODID:-//The Towers - ECPv6.10.3//NONSGML v1.0//EN
CALSCALE:GREGORIAN
METHOD:PUBLISH
X-ORIGINAL-URL:https://towerlane.org
X-WR-CALDESC:Events for The Towers
REFRESH-INTERVAL;VALUE=DURATION:PT1H
X-Robots-Tag:noindex
X-PUBLISHED-TTL:PT1H
BEGIN:VTIMEZONE
TZID:America/New_York
BEGIN:DAYLIGHT
TZOFFSETFROM:-0500
TZOFFSETTO:-0400
TZNAME:EDT
DTSTART:20250309T070000
END:DAYLIGHT
BEGIN:STANDARD
TZOFFSETFROM:-0400
TZOFFSETTO:-0500
TZNAME:EST
DTSTART:20251102T060000
END:STANDARD
END:VTIMEZONE
BEGIN:VEVENT
DTSTART;TZID=America/New_York:20250917T140000
DTEND;TZID=America/New_York:20250917T140000
DTSTAMP:20260423T054201
CREATED:20250830T163349Z
LAST-MODIFIED:20250830T163349Z
UID:17662-1758117600-1758117600@towerlane.org
SUMMARY:JFS Support Group
DESCRIPTION:Part of our Emotional Pathway.\nWeekly support group with LCSW Elanit Linder from Jewish Family Service.
URL:https://towerlane.org/event/jfs-support-group-50/2025-09-17/
LOCATION:Sanctuary
END:VEVENT
BEGIN:VEVENT
DTSTART;TZID=America/New_York:20250917T130000
DTEND;TZID=America/New_York:20250917T130000
DTSTAMP:20260423T054201
CREATED:20250830T163156Z
LAST-MODIFIED:20250830T163156Z
UID:17658-1758114000-1758114000@towerlane.org
SUMMARY:Healthy & Fit
DESCRIPTION:Part of our Physical Pathway. \nA full body exercise session that can be scaled to most ability levels. These workouts aim to increase strength and balance\, improve flexibility and overall fitness levels.”
URL:https://towerlane.org/event/healthy-fit-65/2025-09-17/
LOCATION:Sanctuary
END:VEVENT
BEGIN:VEVENT
DTSTART;TZID=America/New_York:20250917T110000
DTEND;TZID=America/New_York:20250917T110000
DTSTAMP:20260423T054201
CREATED:20250830T162906Z
LAST-MODIFIED:20250830T162906Z
UID:17653-1758106800-1758106800@towerlane.org
SUMMARY:Brain Boosters
DESCRIPTION:Part of our Intellectual Pathway.\nA lively\, game-based cognitive program that keeps the mind active through puzzles and creative challenges. Designed for fun\, flexibility\, and fast-paced brain stimulation.
URL:https://towerlane.org/event/brain-boosters-2/2025-09-17/
LOCATION:Sanctuary
END:VEVENT
BEGIN:VEVENT
DTSTART;TZID=America/New_York:20250916T190000
DTEND;TZID=America/New_York:20250916T190000
DTSTAMP:20260423T054201
CREATED:20250830T173056Z
LAST-MODIFIED:20250830T173056Z
UID:17764-1758049200-1758049200@towerlane.org
SUMMARY:Lecture Series: "The Cosmos"
DESCRIPTION:
URL:https://towerlane.org/event/lecture-series-the-cosmos-4/
LOCATION:Sanctuary
END:VEVENT
BEGIN:VEVENT
DTSTART;TZID=America/New_York:20250916T113000
DTEND;TZID=America/New_York:20250916T113000
DTSTAMP:20260423T054201
CREATED:20250830T152633Z
LAST-MODIFIED:20250830T152633Z
UID:17641-1758022200-1758022200@towerlane.org
SUMMARY:30-Minute Exercise
DESCRIPTION:Part of our Physical Pathway.\n\n A shortened\, modified version of our Healthy & Fit. These sessions are typically performed half seated\, half standing\, and can be modified to most ability levels. Practical strategies for minimizing fall risk are discussed.
URL:https://towerlane.org/event/30-minute-exercise-22/2025-09-16/
LOCATION:Sanctuary
END:VEVENT
BEGIN:VEVENT
DTSTART;TZID=America/New_York:20250915T190000
DTEND;TZID=America/New_York:20250915T190000
DTSTAMP:20260423T054201
CREATED:20250830T152030Z
LAST-MODIFIED:20250830T152030Z
UID:17629-1757962800-1757962800@towerlane.org
SUMMARY:Movie Night
DESCRIPTION:
URL:https://towerlane.org/event/movie-night-75/2025-09-15/
LOCATION:Sanctuary
END:VEVENT
BEGIN:VEVENT
DTSTART;TZID=America/New_York:20250915T130000
DTEND;TZID=America/New_York:20250915T130000
DTSTAMP:20260423T054201
CREATED:20250830T170314Z
LAST-MODIFIED:20250830T170314Z
UID:17725-1757941200-1757941200@towerlane.org
SUMMARY:Chair Yoga
DESCRIPTION:Part of our Physical Pathway.\nA lower intensity exercise session performed mostly seated. This is a great option for residents not ready for the frequent standing exercise during a Healthy and Fit session. Led by Yoga/Tai Chi instructor Bil Banick.
URL:https://towerlane.org/event/chair-yoga-34/
LOCATION:Sanctuary
END:VEVENT
BEGIN:VEVENT
DTSTART;TZID=America/New_York:20250914T190000
DTEND;TZID=America/New_York:20250914T190000
DTSTAMP:20260423T054201
CREATED:20250830T165607Z
LAST-MODIFIED:20250830T165607Z
UID:17712-1757876400-1757876400@towerlane.org
SUMMARY:Movie Night
DESCRIPTION:
URL:https://towerlane.org/event/movie-night-77/2025-09-14/
LOCATION:Sanctuary
END:VEVENT
BEGIN:VEVENT
DTSTART;TZID=America/New_York:20250914T110000
DTEND;TZID=America/New_York:20250914T110000
DTSTAMP:20260423T054201
CREATED:20250830T172758Z
LAST-MODIFIED:20250830T172758Z
UID:17757-1757847600-1757847600@towerlane.org
SUMMARY:Joy of Drumming
DESCRIPTION:Part of our Physical Pathway.\nParticipants will be led through a warmup then play along to simple rhythmic patterns with classic songs. The numerous benefits of drumming include increased hand-eye coordination\, focus\, mental clarity\, and motor skill. Led by resident volunteer Ruby Benarroch.
URL:https://towerlane.org/event/joy-of-drumming-3/2025-09-14/
LOCATION:Sanctuary
END:VEVENT
BEGIN:VEVENT
DTSTART;TZID=America/New_York:20250913T190000
DTEND;TZID=America/New_York:20250913T190000
DTSTAMP:20260423T054201
CREATED:20250830T165415Z
LAST-MODIFIED:20250830T165415Z
UID:17707-1757790000-1757790000@towerlane.org
SUMMARY:Movie Night
DESCRIPTION:
URL:https://towerlane.org/event/movie-night-76/2025-09-13/
LOCATION:Sanctuary
END:VEVENT
BEGIN:VEVENT
DTSTART;TZID=America/New_York:20250913T140000
DTEND;TZID=America/New_York:20250913T140000
DTSTAMP:20260423T054201
CREATED:20250830T165310Z
LAST-MODIFIED:20250830T165310Z
UID:17702-1757772000-1757772000@towerlane.org
SUMMARY:Bingo
DESCRIPTION:Part of our Social Pathway.\nThe classic game.
URL:https://towerlane.org/event/bingo-133/2025-09-13/
LOCATION:Sanctuary
END:VEVENT
BEGIN:VEVENT
DTSTART;TZID=America/New_York:20250913T100000
DTEND;TZID=America/New_York:20250913T100000
DTSTAMP:20260423T054201
CREATED:20250830T165141Z
LAST-MODIFIED:20250830T165141Z
UID:17697-1757757600-1757757600@towerlane.org
SUMMARY:Shabbat
DESCRIPTION:Part of our Spiritual Pathway.\nFriday night and Saturday morning Shabbat services with Ruthie Greenblatt and Sarah Moskowitz.
URL:https://towerlane.org/event/shabbat-78/2025-09-13/
LOCATION:Sanctuary
END:VEVENT
BEGIN:VEVENT
DTSTART;TZID=America/New_York:20250912T183000
DTEND;TZID=America/New_York:20250912T183000
DTSTAMP:20260423T054201
CREATED:20250830T165045Z
LAST-MODIFIED:20250830T165045Z
UID:17692-1757701800-1757701800@towerlane.org
SUMMARY:Shabbat
DESCRIPTION:Part of our Spiritual Pathway.\nFriday night and Saturday morning Shabbat services with Ruthie Greenblatt and Sarah Moskowitz.
URL:https://towerlane.org/event/shabbat-77/2025-09-12/
LOCATION:Sanctuary
END:VEVENT
BEGIN:VEVENT
DTSTART;TZID=America/New_York:20250912T140000
DTEND;TZID=America/New_York:20250912T140000
DTSTAMP:20260423T054201
CREATED:20250830T164917Z
LAST-MODIFIED:20250830T164917Z
UID:17687-1757685600-1757685600@towerlane.org
SUMMARY:Current Events
DESCRIPTION:Part of our Intellectual Pathway.\nResident-led interactive discussion group.
URL:https://towerlane.org/event/current-events-36/2025-09-12/
LOCATION:Sanctuary
END:VEVENT
BEGIN:VEVENT
DTSTART;TZID=America/New_York:20250912T100000
DTEND;TZID=America/New_York:20250912T100000
DTSTAMP:20260423T054201
CREATED:20250830T164326Z
LAST-MODIFIED:20250830T164326Z
UID:17675-1757671200-1757671200@towerlane.org
SUMMARY:Interfaith Bible Study
DESCRIPTION:Part of our Spiritual Pathway.\nDiscuss selected passages from the Old and New Testaments.
URL:https://towerlane.org/event/interfaith-bible-study-9/2025-09-12/
LOCATION:Sanctuary
END:VEVENT
BEGIN:VEVENT
DTSTART;TZID=America/New_York:20250911T130000
DTEND;TZID=America/New_York:20250911T130000
DTSTAMP:20260423T054201
CREATED:20250830T171527Z
LAST-MODIFIED:20250830T171527Z
UID:17739-1757595600-1757595600@towerlane.org
SUMMARY:Catholic Mass
DESCRIPTION:Part of our Spiritual Pathway. \nTwice per month Catholic service with Father Ryan Lerner.
URL:https://towerlane.org/event/catholic-mass-72/2025-09-11/
LOCATION:Sanctuary
END:VEVENT
BEGIN:VEVENT
DTSTART;TZID=America/New_York:20250911T104500
DTEND;TZID=America/New_York:20250911T104500
DTSTAMP:20260423T054201
CREATED:20250830T163755Z
LAST-MODIFIED:20250830T163755Z
UID:17667-1757587500-1757587500@towerlane.org
SUMMARY:30-Minute Exercise
DESCRIPTION:Part of our Physical Pathway.\n\n A shortened\, modified version of our Healthy & Fit. These sessions are typically performed half seated\, half standing\, and can be modified to most ability levels. Practical strategies for minimizing fall risk are discussed.
URL:https://towerlane.org/event/30-minute-exercise-23/2025-09-11/
LOCATION:Sanctuary
END:VEVENT
BEGIN:VEVENT
DTSTART;TZID=America/New_York:20250910T140000
DTEND;TZID=America/New_York:20250910T140000
DTSTAMP:20260423T054201
CREATED:20250830T163349Z
LAST-MODIFIED:20250830T163349Z
UID:17661-1757512800-1757512800@towerlane.org
SUMMARY:JFS Support Group
DESCRIPTION:Part of our Emotional Pathway.\nWeekly support group with LCSW Elanit Linder from Jewish Family Service.
URL:https://towerlane.org/event/jfs-support-group-50/2025-09-10/
LOCATION:Sanctuary
END:VEVENT
BEGIN:VEVENT
DTSTART;TZID=America/New_York:20250910T130000
DTEND;TZID=America/New_York:20250910T130000
DTSTAMP:20260423T054201
CREATED:20250830T163156Z
LAST-MODIFIED:20250830T163156Z
UID:17657-1757509200-1757509200@towerlane.org
SUMMARY:Healthy & Fit
DESCRIPTION:Part of our Physical Pathway. \nA full body exercise session that can be scaled to most ability levels. These workouts aim to increase strength and balance\, improve flexibility and overall fitness levels.”
URL:https://towerlane.org/event/healthy-fit-65/2025-09-10/
LOCATION:Sanctuary
END:VEVENT
BEGIN:VEVENT
DTSTART;TZID=America/New_York:20250910T110000
DTEND;TZID=America/New_York:20250910T110000
DTSTAMP:20260423T054201
CREATED:20250830T162906Z
LAST-MODIFIED:20250830T162906Z
UID:17652-1757502000-1757502000@towerlane.org
SUMMARY:Brain Boosters
DESCRIPTION:Part of our Intellectual Pathway.\nA lively\, game-based cognitive program that keeps the mind active through puzzles and creative challenges. Designed for fun\, flexibility\, and fast-paced brain stimulation.
URL:https://towerlane.org/event/brain-boosters-2/2025-09-10/
LOCATION:Sanctuary
END:VEVENT
BEGIN:VEVENT
DTSTART;TZID=America/New_York:20250909T140000
DTEND;TZID=America/New_York:20250909T140000
DTSTAMP:20260423T054201
CREATED:20250830T170855Z
LAST-MODIFIED:20250830T170855Z
UID:17731-1757426400-1757426400@towerlane.org
SUMMARY:Photographer Michael Tomashefsky
DESCRIPTION:
URL:https://towerlane.org/event/photographer-michael-tomashefsky/
LOCATION:Sanctuary
END:VEVENT
BEGIN:VEVENT
DTSTART;TZID=America/New_York:20250909T113000
DTEND;TZID=America/New_York:20250909T113000
DTSTAMP:20260423T054201
CREATED:20250830T152633Z
LAST-MODIFIED:20250830T152633Z
UID:17640-1757417400-1757417400@towerlane.org
SUMMARY:30-Minute Exercise
DESCRIPTION:Part of our Physical Pathway.\n\n A shortened\, modified version of our Healthy & Fit. These sessions are typically performed half seated\, half standing\, and can be modified to most ability levels. Practical strategies for minimizing fall risk are discussed.
URL:https://towerlane.org/event/30-minute-exercise-22/2025-09-09/
LOCATION:Sanctuary
END:VEVENT
BEGIN:VEVENT
DTSTART;TZID=America/New_York:20250908T190000
DTEND;TZID=America/New_York:20250908T190000
DTSTAMP:20260423T054201
CREATED:20250830T152030Z
LAST-MODIFIED:20250830T152030Z
UID:17628-1757358000-1757358000@towerlane.org
SUMMARY:Movie Night
DESCRIPTION:
URL:https://towerlane.org/event/movie-night-75/2025-09-08/
LOCATION:Sanctuary
END:VEVENT
BEGIN:VEVENT
DTSTART;TZID=America/New_York:20250908T140000
DTEND;TZID=America/New_York:20250908T140000
DTSTAMP:20260423T054201
CREATED:20250830T170529Z
LAST-MODIFIED:20250830T170529Z
UID:17727-1757340000-1757340000@towerlane.org
SUMMARY:Welcome Rabbi Scolnic: "What it Means to be Kosher"
DESCRIPTION:
URL:https://towerlane.org/event/welcome-rabbi-scolnic-what-it-means-to-be-kosher/
LOCATION:Sanctuary
END:VEVENT
BEGIN:VEVENT
DTSTART;TZID=America/New_York:20250907T190000
DTEND;TZID=America/New_York:20250907T190000
DTSTAMP:20260423T054201
CREATED:20250830T165607Z
LAST-MODIFIED:20250830T165607Z
UID:17711-1757271600-1757271600@towerlane.org
SUMMARY:Movie Night
DESCRIPTION:
URL:https://towerlane.org/event/movie-night-77/2025-09-07/
LOCATION:Sanctuary
END:VEVENT
BEGIN:VEVENT
DTSTART;TZID=America/New_York:20250906T190000
DTEND;TZID=America/New_York:20250906T190000
DTSTAMP:20260423T054201
CREATED:20250830T165415Z
LAST-MODIFIED:20250830T165415Z
UID:17706-1757185200-1757185200@towerlane.org
SUMMARY:Movie Night
DESCRIPTION:
URL:https://towerlane.org/event/movie-night-76/2025-09-06/
LOCATION:Sanctuary
END:VEVENT
BEGIN:VEVENT
DTSTART;TZID=America/New_York:20250906T140000
DTEND;TZID=America/New_York:20250906T140000
DTSTAMP:20260423T054201
CREATED:20250830T165310Z
LAST-MODIFIED:20250830T165310Z
UID:17701-1757167200-1757167200@towerlane.org
SUMMARY:Bingo
DESCRIPTION:Part of our Social Pathway.\nThe classic game.
URL:https://towerlane.org/event/bingo-133/2025-09-06/
LOCATION:Sanctuary
END:VEVENT
BEGIN:VEVENT
DTSTART;TZID=America/New_York:20250906T100000
DTEND;TZID=America/New_York:20250906T100000
DTSTAMP:20260423T054201
CREATED:20250830T165141Z
LAST-MODIFIED:20250830T165141Z
UID:17696-1757152800-1757152800@towerlane.org
SUMMARY:Shabbat
DESCRIPTION:Part of our Spiritual Pathway.\nFriday night and Saturday morning Shabbat services with Ruthie Greenblatt and Sarah Moskowitz.
URL:https://towerlane.org/event/shabbat-78/2025-09-06/
LOCATION:Sanctuary
END:VEVENT
BEGIN:VEVENT
DTSTART;TZID=America/New_York:20250905T183000
DTEND;TZID=America/New_York:20250905T183000
DTSTAMP:20260423T054201
CREATED:20250830T165045Z
LAST-MODIFIED:20250830T165045Z
UID:17691-1757097000-1757097000@towerlane.org
SUMMARY:Shabbat
DESCRIPTION:Part of our Spiritual Pathway.\nFriday night and Saturday morning Shabbat services with Ruthie Greenblatt and Sarah Moskowitz.
URL:https://towerlane.org/event/shabbat-77/2025-09-05/
LOCATION:Sanctuary
END:VEVENT
BEGIN:VEVENT
DTSTART;TZID=America/New_York:20250905T140000
DTEND;TZID=America/New_York:20250905T140000
DTSTAMP:20260423T054201
CREATED:20250830T164917Z
LAST-MODIFIED:20250830T164917Z
UID:17686-1757080800-1757080800@towerlane.org
SUMMARY:Current Events
DESCRIPTION:Part of our Intellectual Pathway.\nResident-led interactive discussion group.
URL:https://towerlane.org/event/current-events-36/2025-09-05/
LOCATION:Sanctuary
END:VEVENT
END:VCALENDAR