BEGIN:VCALENDAR
VERSION:2.0
PRODID:-//The Towers - ECPv6.10.3//NONSGML v1.0//EN
CALSCALE:GREGORIAN
METHOD:PUBLISH
X-WR-CALNAME:The Towers
X-ORIGINAL-URL:https://towerlane.org
X-WR-CALDESC:Events for The Towers
REFRESH-INTERVAL;VALUE=DURATION:PT1H
X-Robots-Tag:noindex
X-PUBLISHED-TTL:PT1H
BEGIN:VTIMEZONE
TZID:America/New_York
BEGIN:DAYLIGHT
TZOFFSETFROM:-0500
TZOFFSETTO:-0400
TZNAME:EDT
DTSTART:20260308T070000
END:DAYLIGHT
BEGIN:STANDARD
TZOFFSETFROM:-0400
TZOFFSETTO:-0500
TZNAME:EST
DTSTART:20261101T060000
END:STANDARD
END:VTIMEZONE
BEGIN:VEVENT
DTSTART;TZID=America/New_York:20260404T100000
DTEND;TZID=America/New_York:20260404T100000
DTSTAMP:20260420T171856
CREATED:20260330T200023Z
LAST-MODIFIED:20260330T200023Z
UID:20237-1775296800-1775296800@towerlane.org
SUMMARY:Shabbat
DESCRIPTION:Part of our Spiritual Pathway.\nFriday night and Saturday morning Shabbat services with Ruthie Greenblatt and Sarah Moskowitz.
URL:https://towerlane.org/event/shabbat-92/2026-04-04/
LOCATION:Sanctuary
END:VEVENT
BEGIN:VEVENT
DTSTART;TZID=America/New_York:20260403T183000
DTEND;TZID=America/New_York:20260403T183000
DTSTAMP:20260420T171856
CREATED:20260330T195836Z
LAST-MODIFIED:20260330T195836Z
UID:20232-1775241000-1775241000@towerlane.org
SUMMARY:Shabbat
DESCRIPTION:Part of our Spiritual Pathway.\nFriday night and Saturday morning Shabbat services with Ruthie Greenblatt and Sarah Moskowitz.
URL:https://towerlane.org/event/shabbat-91/2026-04-03/
LOCATION:Sanctuary
END:VEVENT
BEGIN:VEVENT
DTSTART;TZID=America/New_York:20260403T151500
DTEND;TZID=America/New_York:20260403T151500
DTSTAMP:20260420T171856
CREATED:20260330T195722Z
LAST-MODIFIED:20260330T195722Z
UID:20230-1775229300-1775229300@towerlane.org
SUMMARY:Violin Performance
DESCRIPTION:Part of our Social Pathway. \nConcerts\, themed game nights\, trivia and more scheduled throughout the month.
URL:https://towerlane.org/event/violin-performance/
LOCATION:Sanctuary
END:VEVENT
BEGIN:VEVENT
DTSTART;TZID=America/New_York:20260403T140000
DTEND;TZID=America/New_York:20260403T140000
DTSTAMP:20260420T171856
CREATED:20260330T195522Z
LAST-MODIFIED:20260330T195522Z
UID:20223-1775224800-1775224800@towerlane.org
SUMMARY:Current Events
DESCRIPTION:Part of our Intellectual Pathway.\nResident-led interactive discussion group.
URL:https://towerlane.org/event/current-events-43/2026-04-03/
LOCATION:Sanctuary
END:VEVENT
BEGIN:VEVENT
DTSTART;TZID=America/New_York:20260403T100000
DTEND;TZID=America/New_York:20260403T100000
DTSTAMP:20260420T171856
CREATED:20260330T194940Z
LAST-MODIFIED:20260330T194940Z
UID:20208-1775210400-1775210400@towerlane.org
SUMMARY:Interfaith Bible Study
DESCRIPTION:Part of our Spiritual Pathway.\n\nDiscuss selected passages from the Old and New Testaments.
URL:https://towerlane.org/event/interfaith-bible-study-18/2026-04-03/
LOCATION:Sanctuary
END:VEVENT
BEGIN:VEVENT
DTSTART;TZID=America/New_York:20260401T190000
DTEND;TZID=America/New_York:20260401T190000
DTSTAMP:20260420T171856
CREATED:20260330T194607Z
LAST-MODIFIED:20260330T194607Z
UID:20204-1775070000-1775070000@towerlane.org
SUMMARY:Movie Night
DESCRIPTION:
URL:https://towerlane.org/event/movie-night-98/
LOCATION:Sanctuary
END:VEVENT
BEGIN:VEVENT
DTSTART;TZID=America/New_York:20260401T140000
DTEND;TZID=America/New_York:20260401T140000
DTSTAMP:20260420T171856
CREATED:20260330T194502Z
LAST-MODIFIED:20260330T194502Z
UID:20198-1775052000-1775052000@towerlane.org
SUMMARY:Healthy Minds & Living Support Group
DESCRIPTION:Part of our Emotional Pathway.\nThis group intends to empower older adults and help them evolve through learning new skills\, coping strategies\, and lifestyle tips. A different topic is discussed each week. Led by MSW-LMSW Grace Ford.
URL:https://towerlane.org/event/healthy-minds-living-support-group-5/2026-04-01/
LOCATION:Sanctuary
END:VEVENT
BEGIN:VEVENT
DTSTART;TZID=America/New_York:20260401T130000
DTEND;TZID=America/New_York:20260401T130000
DTSTAMP:20260420T171856
CREATED:20260330T194232Z
LAST-MODIFIED:20260330T194232Z
UID:20193-1775048400-1775048400@towerlane.org
SUMMARY:Healthy & Fit
DESCRIPTION:Part of our Physical Pathway.\nA full body exercise session that can be scaled to most ability levels. These workouts aim to increase strength and balance\, improve flexibility and overall fitness levels.
URL:https://towerlane.org/event/healthy-fit-75/2026-04-01/
LOCATION:Sanctuary
END:VEVENT
BEGIN:VEVENT
DTSTART;TZID=America/New_York:20260401T104500
DTEND;TZID=America/New_York:20260401T104500
DTSTAMP:20260420T171856
CREATED:20260330T194040Z
LAST-MODIFIED:20260330T194040Z
UID:20186-1775040300-1775040300@towerlane.org
SUMMARY:Chorus Rehearsal
DESCRIPTION:Part of our Psychological Pathway. \nChorus leader Kevin Mack leads weekly rehearsals culminating in themed performances throughout the year. Runs seasonally.
URL:https://towerlane.org/event/chorus-rehearsal-32/2026-04-01/
LOCATION:Sanctuary
END:VEVENT
BEGIN:VEVENT
DTSTART;TZID=America/New_York:20260331T190000
DTEND;TZID=America/New_York:20260331T190000
DTSTAMP:20260420T171856
CREATED:20260227T214010Z
LAST-MODIFIED:20260227T214010Z
UID:20097-1774983600-1774983600@towerlane.org
SUMMARY:Lecture Screening: "Physicist Lisa Randell"
DESCRIPTION:
URL:https://towerlane.org/event/lecture-screening-physicist-lisa-randell/
LOCATION:Sanctuary
END:VEVENT
BEGIN:VEVENT
DTSTART;TZID=America/New_York:20260331T113000
DTEND;TZID=America/New_York:20260331T113000
DTSTAMP:20260420T171856
CREATED:20260227T203756Z
LAST-MODIFIED:20260227T203756Z
UID:20021-1774956600-1774956600@towerlane.org
SUMMARY:30-Minute Exercise
DESCRIPTION:Part of our Physical Pathway.\n\n A shortened\, modified version of our Healthy & Fit. These sessions are typically performed half seated\, half standing\, and can be modified to most ability levels. Practical strategies for minimizing fall risk are discussed.
URL:https://towerlane.org/event/30-minute-exercise-38/2026-03-31/
LOCATION:Sanctuary
END:VEVENT
BEGIN:VEVENT
DTSTART;TZID=America/New_York:20260330T190000
DTEND;TZID=America/New_York:20260330T190000
DTSTAMP:20260420T171856
CREATED:20260227T213830Z
LAST-MODIFIED:20260227T213858Z
UID:20095-1774897200-1774897200@towerlane.org
SUMMARY:Game Night with Charles Rosenay
DESCRIPTION:Part of our Social Pathway. \nConcerts\, themed game nights\, trivia and more scheduled throughout the month.
URL:https://towerlane.org/event/game-night-with-charles-rosenay-29/
LOCATION:Sanctuary
END:VEVENT
BEGIN:VEVENT
DTSTART;TZID=America/New_York:20260330T140000
DTEND;TZID=America/New_York:20260330T140000
DTSTAMP:20260420T171856
CREATED:20260227T203237Z
LAST-MODIFIED:20260227T203237Z
UID:20011-1774879200-1774879200@towerlane.org
SUMMARY:Bingo
DESCRIPTION:Part of our Social Pathway.\nThe classic game.
URL:https://towerlane.org/event/bingo-148/2026-03-30/
LOCATION:Sanctuary
END:VEVENT
BEGIN:VEVENT
DTSTART;TZID=America/New_York:20260329T190000
DTEND;TZID=America/New_York:20260329T190000
DTSTAMP:20260420T171856
CREATED:20260227T184007Z
LAST-MODIFIED:20260227T184007Z
UID:19865-1774810800-1774810800@towerlane.org
SUMMARY:Movie Night
DESCRIPTION:
URL:https://towerlane.org/event/movie-night-95/2026-03-29/
LOCATION:Sanctuary
END:VEVENT
BEGIN:VEVENT
DTSTART;TZID=America/New_York:20260329T113000
DTEND;TZID=America/New_York:20260329T113000
DTSTAMP:20260420T171856
CREATED:20260227T213650Z
LAST-MODIFIED:20260227T213650Z
UID:20093-1774783800-1774783800@towerlane.org
SUMMARY:Dance for All
DESCRIPTION:
URL:https://towerlane.org/event/dance-for-all-3/
LOCATION:Sanctuary
END:VEVENT
BEGIN:VEVENT
DTSTART;TZID=America/New_York:20260328T190000
DTEND;TZID=America/New_York:20260328T190000
DTSTAMP:20260420T171856
CREATED:20260227T202439Z
LAST-MODIFIED:20260227T202439Z
UID:19995-1774724400-1774724400@towerlane.org
SUMMARY:Movie Night
DESCRIPTION:
URL:https://towerlane.org/event/movie-night-97/2026-03-28/
LOCATION:Sanctuary
END:VEVENT
BEGIN:VEVENT
DTSTART;TZID=America/New_York:20260328T140000
DTEND;TZID=America/New_York:20260328T140000
DTSTAMP:20260420T171856
CREATED:20260227T205956Z
LAST-MODIFIED:20260227T205956Z
UID:20053-1774706400-1774706400@towerlane.org
SUMMARY:Bingo
DESCRIPTION:Part of our Social Pathway.\nThe classic game.
URL:https://towerlane.org/event/bingo-149/2026-03-28/
LOCATION:Sanctuary
END:VEVENT
BEGIN:VEVENT
DTSTART;TZID=America/New_York:20260328T100000
DTEND;TZID=America/New_York:20260328T220000
DTSTAMP:20260420T171856
CREATED:20260227T201911Z
LAST-MODIFIED:20260227T201911Z
UID:19986-1774692000-1774735200@towerlane.org
SUMMARY:Shabbat
DESCRIPTION:Part of our Spiritual Pathway.\nFriday night and Saturday morning Shabbat services with Ruthie Greenblatt and Sarah Moskowitz.
URL:https://towerlane.org/event/shabbat-90/2026-03-28/
LOCATION:Sanctuary
END:VEVENT
BEGIN:VEVENT
DTSTART;TZID=America/New_York:20260327T183000
DTEND;TZID=America/New_York:20260327T183000
DTSTAMP:20260420T171856
CREATED:20260227T201559Z
LAST-MODIFIED:20260227T201559Z
UID:19979-1774636200-1774636200@towerlane.org
SUMMARY:Shabbat
DESCRIPTION:Part of our Spiritual Pathway.\nFriday night and Saturday morning Shabbat services with Ruthie Greenblatt and Sarah Moskowitz.
URL:https://towerlane.org/event/shabbat-89/2026-03-27/
LOCATION:Sanctuary
END:VEVENT
BEGIN:VEVENT
DTSTART;TZID=America/New_York:20260327T140000
DTEND;TZID=America/New_York:20260327T140000
DTSTAMP:20260420T171856
CREATED:20260227T201255Z
LAST-MODIFIED:20260227T201255Z
UID:19969-1774620000-1774620000@towerlane.org
SUMMARY:Current Events
DESCRIPTION:Part of our Intellectual Pathway.\nResident-led interactive discussion group.
URL:https://towerlane.org/event/current-events-42/2026-03-27/
LOCATION:Sanctuary
END:VEVENT
BEGIN:VEVENT
DTSTART;TZID=America/New_York:20260326T190000
DTEND;TZID=America/New_York:20260326T190000
DTSTAMP:20260420T171856
CREATED:20260227T195304Z
LAST-MODIFIED:20260227T195304Z
UID:19938-1774551600-1774551600@towerlane.org
SUMMARY:Movie Night
DESCRIPTION:
URL:https://towerlane.org/event/movie-night-96/2026-03-26/
LOCATION:Sanctuary
END:VEVENT
BEGIN:VEVENT
DTSTART;TZID=America/New_York:20260326T133000
DTEND;TZID=America/New_York:20260326T133000
DTSTAMP:20260420T171856
CREATED:20260227T213421Z
LAST-MODIFIED:20260227T213421Z
UID:20087-1774531800-1774531800@towerlane.org
SUMMARY:Chorus Concert
DESCRIPTION:Chorus leader Kevin Mack leads weekly rehearsals culminating in themed performances throughout the year. Runs seasonally.
URL:https://towerlane.org/event/chorus-concert-12/
LOCATION:Sanctuary
END:VEVENT
BEGIN:VEVENT
DTSTART;TZID=America/New_York:20260326T110000
DTEND;TZID=America/New_York:20260326T110000
DTSTAMP:20260420T171856
CREATED:20260227T213231Z
LAST-MODIFIED:20260227T213231Z
UID:20085-1774522800-1774522800@towerlane.org
SUMMARY:Town Hall Meeting
DESCRIPTION:
URL:https://towerlane.org/event/town-hall-meeting-8/
LOCATION:Sanctuary
END:VEVENT
BEGIN:VEVENT
DTSTART;TZID=America/New_York:20260325T190000
DTEND;TZID=America/New_York:20260325T190000
DTSTAMP:20260420T171856
CREATED:20260227T205228Z
LAST-MODIFIED:20260227T205228Z
UID:20043-1774465200-1774465200@towerlane.org
SUMMARY:Applied Civics with Steve and Victor
DESCRIPTION:
URL:https://towerlane.org/event/applied-civics-with-steve-and-victor/2026-03-25/
LOCATION:Sanctuary
END:VEVENT
BEGIN:VEVENT
DTSTART;TZID=America/New_York:20260325T140000
DTEND;TZID=America/New_York:20260325T140000
DTSTAMP:20260420T171856
CREATED:20260227T204901Z
LAST-MODIFIED:20260227T204901Z
UID:20038-1774447200-1774447200@towerlane.org
SUMMARY:Healthy Minds & Living Support Group
DESCRIPTION:Part of our Emotional Pathway. \nThis group intends to empower older adults and help them evolve through learning new skills\, coping strategies\, and lifestyle tips. A different topic is discussed each week. Led by MSW-LMSW Grace Ford.
URL:https://towerlane.org/event/healthy-minds-living-support-group-4/2026-03-25/
LOCATION:Sanctuary
END:VEVENT
BEGIN:VEVENT
DTSTART;TZID=America/New_York:20260325T130000
DTEND;TZID=America/New_York:20260325T130000
DTSTAMP:20260420T171856
CREATED:20260227T204724Z
LAST-MODIFIED:20260227T204724Z
UID:20034-1774443600-1774443600@towerlane.org
SUMMARY:Healthy & Fit
DESCRIPTION:Part of our Physical Pathway.\nA full body exercise session that can be scaled to most ability levels. These workouts aim to increase strength and balance\, improve flexibility and overall fitness levels.
URL:https://towerlane.org/event/healthy-fit-74/2026-03-25/
LOCATION:Sanctuary
END:VEVENT
BEGIN:VEVENT
DTSTART;TZID=America/New_York:20260325T104500
DTEND;TZID=America/New_York:20260325T104500
DTSTAMP:20260420T171856
CREATED:20260227T192902Z
LAST-MODIFIED:20260227T192902Z
UID:19918-1774435500-1774435500@towerlane.org
SUMMARY:Chorus Rehearsal
DESCRIPTION:Part of our Psychological Pathway. \nChorus leader Kevin Mack leads weekly rehearsals culminating in themed performances throughout the year. Runs seasonally.
URL:https://towerlane.org/event/chorus-rehearsal-31/2026-03-25/
LOCATION:Sanctuary
END:VEVENT
BEGIN:VEVENT
DTSTART;TZID=America/New_York:20260324T140000
DTEND;TZID=America/New_York:20260324T140000
DTSTAMP:20260420T171856
CREATED:20260227T213041Z
LAST-MODIFIED:20260227T213041Z
UID:20081-1774360800-1774360800@towerlane.org
SUMMARY:Resident Services Meet and Greet
DESCRIPTION:
URL:https://towerlane.org/event/resident-services-meet-and-greet/
LOCATION:Sanctuary
END:VEVENT
BEGIN:VEVENT
DTSTART;TZID=America/New_York:20260324T113000
DTEND;TZID=America/New_York:20260324T113000
DTSTAMP:20260420T171856
CREATED:20260227T203756Z
LAST-MODIFIED:20260227T203756Z
UID:20020-1774351800-1774351800@towerlane.org
SUMMARY:30-Minute Exercise
DESCRIPTION:Part of our Physical Pathway.\n\n A shortened\, modified version of our Healthy & Fit. These sessions are typically performed half seated\, half standing\, and can be modified to most ability levels. Practical strategies for minimizing fall risk are discussed.
URL:https://towerlane.org/event/30-minute-exercise-38/2026-03-24/
LOCATION:Sanctuary
END:VEVENT
BEGIN:VEVENT
DTSTART;TZID=America/New_York:20260323T140000
DTEND;TZID=America/New_York:20260323T140000
DTSTAMP:20260420T171856
CREATED:20260227T203237Z
LAST-MODIFIED:20260227T203237Z
UID:20010-1774274400-1774274400@towerlane.org
SUMMARY:Bingo
DESCRIPTION:Part of our Social Pathway.\nThe classic game.
URL:https://towerlane.org/event/bingo-148/2026-03-23/
LOCATION:Sanctuary
END:VEVENT
END:VCALENDAR