BEGIN:VCALENDAR
VERSION:2.0
PRODID:-//The Towers - ECPv6.10.3//NONSGML v1.0//EN
CALSCALE:GREGORIAN
METHOD:PUBLISH
X-ORIGINAL-URL:https://towerlane.org
X-WR-CALDESC:Events for The Towers
REFRESH-INTERVAL;VALUE=DURATION:PT1H
X-Robots-Tag:noindex
X-PUBLISHED-TTL:PT1H
BEGIN:VTIMEZONE
TZID:America/New_York
BEGIN:DAYLIGHT
TZOFFSETFROM:-0500
TZOFFSETTO:-0400
TZNAME:EDT
DTSTART:20250309T070000
END:DAYLIGHT
BEGIN:STANDARD
TZOFFSETFROM:-0400
TZOFFSETTO:-0500
TZNAME:EST
DTSTART:20251102T060000
END:STANDARD
END:VTIMEZONE
BEGIN:VEVENT
DTSTART;TZID=America/New_York:20250804T190000
DTEND;TZID=America/New_York:20250804T190000
DTSTAMP:20260423T190409
CREATED:20250730T193426Z
LAST-MODIFIED:20250730T193426Z
UID:17423-1754334000-1754334000@towerlane.org
SUMMARY:Movie Night
DESCRIPTION:
URL:https://towerlane.org/event/movie-night-74/2025-08-04/
LOCATION:Sanctuary
END:VEVENT
BEGIN:VEVENT
DTSTART;TZID=America/New_York:20250804T140000
DTEND;TZID=America/New_York:20250804T140000
DTSTAMP:20260423T190409
CREATED:20250730T193337Z
LAST-MODIFIED:20250730T193337Z
UID:17418-1754316000-1754316000@towerlane.org
SUMMARY:Bingo
DESCRIPTION:Part of our Social Pathway.\nThe classic game.
URL:https://towerlane.org/event/bingo-131/2025-08-04/
LOCATION:Sanctuary
END:VEVENT
BEGIN:VEVENT
DTSTART;TZID=America/New_York:20250804T130000
DTEND;TZID=America/New_York:20250804T130000
DTSTAMP:20260423T190409
CREATED:20250730T193158Z
LAST-MODIFIED:20250730T193158Z
UID:17416-1754312400-1754312400@towerlane.org
SUMMARY:30 Minute Exercise
DESCRIPTION:Part of our Physical Pathway.\n\n A shortened\, modified version of our Healthy & Fit. These sessions are typically performed half seated\, half standing\, and can be modified to most ability levels. Practical strategies for minimizing fall risk are discussed.
URL:https://towerlane.org/event/30-minute-exercise-19/
LOCATION:Sanctuary
END:VEVENT
BEGIN:VEVENT
DTSTART;TZID=America/New_York:20250803T190000
DTEND;TZID=America/New_York:20250803T190000
DTSTAMP:20260423T190409
CREATED:20250730T192551Z
LAST-MODIFIED:20250730T192551Z
UID:17400-1754247600-1754247600@towerlane.org
SUMMARY:Movie Night
DESCRIPTION:
URL:https://towerlane.org/event/movie-night-73/2025-08-03/
LOCATION:Sanctuary
END:VEVENT
BEGIN:VEVENT
DTSTART;TZID=America/New_York:20250803T110000
DTEND;TZID=America/New_York:20250803T110000
DTSTAMP:20260423T190409
CREATED:20250730T192414Z
LAST-MODIFIED:20250730T192414Z
UID:17398-1754218800-1754218800@towerlane.org
SUMMARY:Joy of Drumming
DESCRIPTION:
URL:https://towerlane.org/event/joy-of-drumming/
LOCATION:Sanctuary
END:VEVENT
BEGIN:VEVENT
DTSTART;TZID=America/New_York:20250802T190000
DTEND;TZID=America/New_York:20250802T190000
DTSTAMP:20260423T190409
CREATED:20250730T192136Z
LAST-MODIFIED:20250730T192136Z
UID:17392-1754161200-1754161200@towerlane.org
SUMMARY:Movie Night
DESCRIPTION:
URL:https://towerlane.org/event/movie-night-72/2025-08-02/
LOCATION:Sanctuary
END:VEVENT
BEGIN:VEVENT
DTSTART;TZID=America/New_York:20250802T140000
DTEND;TZID=America/New_York:20250802T140000
DTSTAMP:20260423T190409
CREATED:20250730T191744Z
LAST-MODIFIED:20250730T191744Z
UID:17384-1754143200-1754143200@towerlane.org
SUMMARY:Bingo
DESCRIPTION:Part of our Social Pathway\nThe classic game.
URL:https://towerlane.org/event/bingo-130/2025-08-02/
LOCATION:Sanctuary
END:VEVENT
BEGIN:VEVENT
DTSTART;TZID=America/New_York:20250802T100000
DTEND;TZID=America/New_York:20250802T100000
DTSTAMP:20260423T190409
CREATED:20250730T191556Z
LAST-MODIFIED:20250730T191556Z
UID:17378-1754128800-1754128800@towerlane.org
SUMMARY:Shabbat
DESCRIPTION:Part of our Spiritual Pathway\nFriday night and Saturday morning Shabbat services with Ruthie Greenblatt and Sarah Moskowitz.
URL:https://towerlane.org/event/shabbat-76/2025-08-02/
LOCATION:Sanctuary
END:VEVENT
BEGIN:VEVENT
DTSTART;TZID=America/New_York:20250801T183000
DTEND;TZID=America/New_York:20250801T183000
DTSTAMP:20260423T190409
CREATED:20250730T191354Z
LAST-MODIFIED:20250730T191354Z
UID:17372-1754073000-1754073000@towerlane.org
SUMMARY:Shabbat
DESCRIPTION:Part of our Spiritual Pathway\nFriday night and Saturday morning Shabbat services with Ruthie Greenblatt and Sarah Moskowitz.
URL:https://towerlane.org/event/shabbat-75/2025-08-01/
LOCATION:Sanctuary
END:VEVENT
BEGIN:VEVENT
DTSTART;TZID=America/New_York:20250801T140000
DTEND;TZID=America/New_York:20250801T140000
DTSTAMP:20260423T190409
CREATED:20250730T191201Z
LAST-MODIFIED:20250730T191201Z
UID:17366-1754056800-1754056800@towerlane.org
SUMMARY:Current Events
DESCRIPTION:Part of our Intellectual Pathway\nResident-led interactive discussion group.
URL:https://towerlane.org/event/current-events-35/2025-08-01/
LOCATION:Sanctuary
END:VEVENT
BEGIN:VEVENT
DTSTART;TZID=America/New_York:20250801T100000
DTEND;TZID=America/New_York:20250801T100000
DTSTAMP:20260423T190409
CREATED:20250730T190155Z
LAST-MODIFIED:20250730T190155Z
UID:17351-1754042400-1754042400@towerlane.org
SUMMARY:Interfaith Bible Study
DESCRIPTION:Part of our Spiritual Pathway\nDiscuss selected passages from the Old and New Testaments.
URL:https://towerlane.org/event/interfaith-bible-study-8/2025-08-01/
LOCATION:Sanctuary
END:VEVENT
BEGIN:VEVENT
DTSTART;TZID=America/New_York:20250731T140000
DTEND;TZID=America/New_York:20250731T140000
DTSTAMP:20260423T190409
CREATED:20250701T171952Z
LAST-MODIFIED:20250701T171952Z
UID:17335-1753970400-1753970400@towerlane.org
SUMMARY:QU Students Group
DESCRIPTION:Group led by Quinnipiac Doctorate Students. Topics vary.
URL:https://towerlane.org/event/qu-students-group-40/2025-07-31/
LOCATION:Sanctuary
END:VEVENT
BEGIN:VEVENT
DTSTART;TZID=America/New_York:20250731T130000
DTEND;TZID=America/New_York:20250731T130000
DTSTAMP:20260423T190409
CREATED:20250701T172619Z
LAST-MODIFIED:20250701T172619Z
UID:17345-1753966800-1753966800@towerlane.org
SUMMARY:30 Minute Exercise
DESCRIPTION:Part of our Physical Pathway\n\n A shortened\, modified version of our Healthy & Fit. These sessions are typically performed half seated\, half standing\, and can be modified to most ability levels. Practical strategies for minimizing fall risk are discussed.
URL:https://towerlane.org/event/30-minute-exercise-18/
LOCATION:Sanctuary
END:VEVENT
BEGIN:VEVENT
DTSTART;TZID=America/New_York:20250731T110000
DTEND;TZID=America/New_York:20250731T110000
DTSTAMP:20260423T190409
CREATED:20250701T172509Z
LAST-MODIFIED:20250701T172509Z
UID:17343-1753959600-1753959600@towerlane.org
SUMMARY:Gus Town Hall Meeting
DESCRIPTION:
URL:https://towerlane.org/event/gus-town-hall-meeting-26/
LOCATION:Sanctuary
END:VEVENT
BEGIN:VEVENT
DTSTART;TZID=America/New_York:20250730T140000
DTEND;TZID=America/New_York:20250730T140000
DTSTAMP:20260423T190409
CREATED:20250701T145118Z
LAST-MODIFIED:20250701T145118Z
UID:17190-1753884000-1753884000@towerlane.org
SUMMARY:JFS Support Group
DESCRIPTION:Part of our Emotional Pathway \nWeekly support group with LCSW Elanit Linder from Jewish Family Service.
URL:https://towerlane.org/event/jfs-support-group-48/2025-07-30/
LOCATION:Sanctuary
END:VEVENT
BEGIN:VEVENT
DTSTART;TZID=America/New_York:20250730T130000
DTEND;TZID=America/New_York:20250730T130000
DTSTAMP:20260423T190409
CREATED:20250701T144848Z
LAST-MODIFIED:20250701T144848Z
UID:17184-1753880400-1753880400@towerlane.org
SUMMARY:Healthy & Fit
DESCRIPTION:Part of our Physical Pathway \nA full body exercise session that can be scaled to most ability levels. These workouts aim to increase strength and balance\, improve flexibility and overall fitness levels.”
URL:https://towerlane.org/event/healthy-fit-63/2025-07-30/
LOCATION:Sanctuary
END:VEVENT
BEGIN:VEVENT
DTSTART;TZID=America/New_York:20250729T190000
DTEND;TZID=America/New_York:20250729T190000
DTSTAMP:20260423T190409
CREATED:20250701T172403Z
LAST-MODIFIED:20250701T172403Z
UID:17341-1753815600-1753815600@towerlane.org
SUMMARY:Welcome "Foggy Otis: An Evening of Golden Oldies on Ukelele"
DESCRIPTION:Part of our Social Pathway \nConcerts\, themed game nights\, trivia and more scheduled throughout the month.
URL:https://towerlane.org/event/welcome-foggy-otis-an-evening-of-golden-oldies-on-ukelele/
LOCATION:Sanctuary
END:VEVENT
BEGIN:VEVENT
DTSTART;TZID=America/New_York:20250729T113000
DTEND;TZID=America/New_York:20250729T113000
DTSTAMP:20260423T190409
CREATED:20250701T143610Z
LAST-MODIFIED:20250701T143610Z
UID:17160-1753788600-1753788600@towerlane.org
SUMMARY:30 Minute Exercise
DESCRIPTION:Part of our Physical Pathway\n\n A shortened\, modified version of our Healthy & Fit. These sessions are typically performed half seated\, half standing\, and can be modified to most ability levels. Practical strategies for minimizing fall risk are discussed.
URL:https://towerlane.org/event/30-minute-exercise-15/2025-07-29/
LOCATION:Sanctuary
END:VEVENT
BEGIN:VEVENT
DTSTART;TZID=America/New_York:20250728T190000
DTEND;TZID=America/New_York:20250728T190000
DTSTAMP:20260423T190409
CREATED:20250701T152013Z
LAST-MODIFIED:20250701T152013Z
UID:17251-1753729200-1753729200@towerlane.org
SUMMARY:Movie Night
DESCRIPTION:
URL:https://towerlane.org/event/movie-night-71/2025-07-28/
LOCATION:Sanctuary
END:VEVENT
BEGIN:VEVENT
DTSTART;TZID=America/New_York:20250728T140000
DTEND;TZID=America/New_York:20250728T140000
DTSTAMP:20260423T190409
CREATED:20250701T151854Z
LAST-MODIFIED:20250701T151854Z
UID:17245-1753711200-1753711200@towerlane.org
SUMMARY:Bingo
DESCRIPTION:Part of our Social Pathway\nThe classic game.
URL:https://towerlane.org/event/bingo-129/2025-07-28/
LOCATION:Sanctuary
END:VEVENT
BEGIN:VEVENT
DTSTART;TZID=America/New_York:20250727T190000
DTEND;TZID=America/New_York:20250727T190000
DTSTAMP:20260423T190409
CREATED:20250701T151159Z
LAST-MODIFIED:20250701T151159Z
UID:17230-1753642800-1753642800@towerlane.org
SUMMARY:Movie Night
DESCRIPTION:
URL:https://towerlane.org/event/movie-night-70/2025-07-27/
LOCATION:Sanctuary
END:VEVENT
BEGIN:VEVENT
DTSTART;TZID=America/New_York:20250726T190000
DTEND;TZID=America/New_York:20250726T190000
DTSTAMP:20260423T190409
CREATED:20250701T151025Z
LAST-MODIFIED:20250701T151025Z
UID:17225-1753556400-1753556400@towerlane.org
SUMMARY:Movie Night
DESCRIPTION:
URL:https://towerlane.org/event/movie-night-69/2025-07-26/
LOCATION:Sanctuary
END:VEVENT
BEGIN:VEVENT
DTSTART;TZID=America/New_York:20250726T140000
DTEND;TZID=America/New_York:20250726T140000
DTSTAMP:20260423T190409
CREATED:20250701T150916Z
LAST-MODIFIED:20250701T150916Z
UID:17220-1753538400-1753538400@towerlane.org
SUMMARY:Bingo
DESCRIPTION:Part of our Social Pathway\nThe classic game.
URL:https://towerlane.org/event/bingo-128/2025-07-26/
LOCATION:Sanctuary
END:VEVENT
BEGIN:VEVENT
DTSTART;TZID=America/New_York:20250726T100000
DTEND;TZID=America/New_York:20250726T100000
DTSTAMP:20260423T190409
CREATED:20250701T150737Z
LAST-MODIFIED:20250701T150737Z
UID:17215-1753524000-1753524000@towerlane.org
SUMMARY:Shabbat
DESCRIPTION:Part of our Spiritual Pathway\nFriday night and Saturday morning Shabbat services with Ruthie Greenblatt and Sarah Moskowitz.
URL:https://towerlane.org/event/shabbat-74/2025-07-26/
LOCATION:Sanctuary
END:VEVENT
BEGIN:VEVENT
DTSTART;TZID=America/New_York:20250725T183000
DTEND;TZID=America/New_York:20250725T183000
DTSTAMP:20260423T190409
CREATED:20250701T150353Z
LAST-MODIFIED:20250701T150353Z
UID:17210-1753468200-1753468200@towerlane.org
SUMMARY:Shabbat
DESCRIPTION:Part of our Spiritual Pathway\nFriday night and Saturday morning Shabbat services with Ruthie Greenblatt and Sarah Moskowitz.
URL:https://towerlane.org/event/shabbat-73/2025-07-25/
LOCATION:Sanctuary
END:VEVENT
BEGIN:VEVENT
DTSTART;TZID=America/New_York:20250725T140000
DTEND;TZID=America/New_York:20250725T140000
DTSTAMP:20260423T190409
CREATED:20250701T164118Z
LAST-MODIFIED:20250701T164118Z
UID:17283-1753452000-1753452000@towerlane.org
SUMMARY:Current Events
DESCRIPTION:Part of our Intellectual Pathway\nResident-led interactive discussion group.
URL:https://towerlane.org/event/current-events-34/2025-07-25/
LOCATION:Sanctuary
END:VEVENT
BEGIN:VEVENT
DTSTART;TZID=America/New_York:20250725T100000
DTEND;TZID=America/New_York:20250725T100000
DTSTAMP:20260423T190409
CREATED:20250701T170333Z
LAST-MODIFIED:20250701T170333Z
UID:17314-1753437600-1753437600@towerlane.org
SUMMARY:Interfaith Bible Study
DESCRIPTION:Part of our Spiritual Pathway\nDiscuss selected passages from the Old and New Testaments.
URL:https://towerlane.org/event/interfaith-bible-study-7/2025-07-25/
LOCATION:Sanctuary
END:VEVENT
BEGIN:VEVENT
DTSTART;TZID=America/New_York:20250724T140000
DTEND;TZID=America/New_York:20250724T140000
DTSTAMP:20260423T190409
CREATED:20250701T171952Z
LAST-MODIFIED:20250701T171952Z
UID:17334-1753365600-1753365600@towerlane.org
SUMMARY:QU Students Group
DESCRIPTION:Group led by Quinnipiac Doctorate Students. Topics vary.
URL:https://towerlane.org/event/qu-students-group-40/2025-07-24/
LOCATION:Sanctuary
END:VEVENT
BEGIN:VEVENT
DTSTART;TZID=America/New_York:20250724T130000
DTEND;TZID=America/New_York:20250724T130000
DTSTAMP:20260423T190409
CREATED:20250701T171840Z
LAST-MODIFIED:20250701T171840Z
UID:17332-1753362000-1753362000@towerlane.org
SUMMARY:Catholic Mass
DESCRIPTION:Part of our Spiritual Pathway\nTwice per month Catholic service with Father Ryan Lerner.
URL:https://towerlane.org/event/catholic-mass-70/
LOCATION:Sanctuary
END:VEVENT
BEGIN:VEVENT
DTSTART;TZID=America/New_York:20250724T104500
DTEND;TZID=America/New_York:20250724T104500
DTSTAMP:20260423T190409
CREATED:20250701T171614Z
LAST-MODIFIED:20250701T171614Z
UID:17328-1753353900-1753353900@towerlane.org
SUMMARY:30 Minute Exercise
DESCRIPTION:Part of our Physical Pathway\n\n A shortened\, modified version of our Healthy & Fit. These sessions are typically performed half seated\, half standing\, and can be modified to most ability levels. Practical strategies for minimizing fall risk are discussed.
URL:https://towerlane.org/event/30-minute-exercise-17/
LOCATION:Sanctuary
END:VEVENT
END:VCALENDAR