BEGIN:VCALENDAR
VERSION:2.0
PRODID:-//The Towers - ECPv6.10.3//NONSGML v1.0//EN
CALSCALE:GREGORIAN
METHOD:PUBLISH
X-WR-CALNAME:The Towers
X-ORIGINAL-URL:https://towerlane.org
X-WR-CALDESC:Events for The Towers
REFRESH-INTERVAL;VALUE=DURATION:PT1H
X-Robots-Tag:noindex
X-PUBLISHED-TTL:PT1H
BEGIN:VTIMEZONE
TZID:America/New_York
BEGIN:DAYLIGHT
TZOFFSETFROM:-0500
TZOFFSETTO:-0400
TZNAME:EDT
DTSTART:20250309T070000
END:DAYLIGHT
BEGIN:STANDARD
TZOFFSETFROM:-0400
TZOFFSETTO:-0500
TZNAME:EST
DTSTART:20251102T060000
END:STANDARD
END:VTIMEZONE
BEGIN:VEVENT
DTSTART;TZID=America/New_York:20250404T183000
DTEND;TZID=America/New_York:20250404T183000
DTSTAMP:20260425T075317
CREATED:20250402T150859Z
LAST-MODIFIED:20250402T150859Z
UID:16414-1743791400-1743791400@towerlane.org
SUMMARY:Shabbat
DESCRIPTION:
URL:https://towerlane.org/event/shabbat-67/2025-04-04/
LOCATION:Sanctuary
END:VEVENT
BEGIN:VEVENT
DTSTART;TZID=America/New_York:20250404T140000
DTEND;TZID=America/New_York:20250404T140000
DTSTAMP:20260425T075317
CREATED:20250402T150756Z
LAST-MODIFIED:20250402T150756Z
UID:16409-1743775200-1743775200@towerlane.org
SUMMARY:Current Events
DESCRIPTION:
URL:https://towerlane.org/event/current-events-31/2025-04-04/
LOCATION:Sanctuary
END:VEVENT
BEGIN:VEVENT
DTSTART;TZID=America/New_York:20250404T100000
DTEND;TZID=America/New_York:20250404T130000
DTSTAMP:20260425T075317
CREATED:20250402T150348Z
LAST-MODIFIED:20250402T150348Z
UID:16392-1743760800-1743771600@towerlane.org
SUMMARY:Jim Brochin Students Visit
DESCRIPTION:
URL:https://towerlane.org/event/jim-brochin-students-visit-2/
LOCATION:Sanctuary
END:VEVENT
BEGIN:VEVENT
DTSTART;TZID=America/New_York:20250403T133000
DTEND;TZID=America/New_York:20250403T133000
DTSTAMP:20260425T075317
CREATED:20250402T150221Z
LAST-MODIFIED:20250402T150221Z
UID:16388-1743687000-1743687000@towerlane.org
SUMMARY:Chorus Concert
DESCRIPTION:
URL:https://towerlane.org/event/chorus-concert-7/
LOCATION:Sanctuary
END:VEVENT
BEGIN:VEVENT
DTSTART;TZID=America/New_York:20250402T190000
DTEND;TZID=America/New_York:20250402T190000
DTSTAMP:20260425T075317
CREATED:20250402T145841Z
LAST-MODIFIED:20250402T145841Z
UID:16375-1743620400-1743620400@towerlane.org
SUMMARY:Karaoke Night Hosted by Charles Rosenay
DESCRIPTION:
URL:https://towerlane.org/event/karaoke-night-hosted-by-charles-rosenay/
LOCATION:Sanctuary
END:VEVENT
BEGIN:VEVENT
DTSTART;TZID=America/New_York:20250402T140000
DTEND;TZID=America/New_York:20250402T140000
DTSTAMP:20260425T075317
CREATED:20250402T145800Z
LAST-MODIFIED:20250402T145800Z
UID:16370-1743602400-1743602400@towerlane.org
SUMMARY:JFS Support Group
DESCRIPTION:
URL:https://towerlane.org/event/jfs-support-group-44/2025-04-02/
LOCATION:Sanctuary
END:VEVENT
BEGIN:VEVENT
DTSTART;TZID=America/New_York:20250402T130000
DTEND;TZID=America/New_York:20250402T130000
DTSTAMP:20260425T075317
CREATED:20250402T145657Z
LAST-MODIFIED:20250402T145657Z
UID:16365-1743598800-1743598800@towerlane.org
SUMMARY:Healthy & Fit
DESCRIPTION:
URL:https://towerlane.org/event/healthy-fit-60/2025-04-02/
LOCATION:Sanctuary
END:VEVENT
BEGIN:VEVENT
DTSTART;TZID=America/New_York:20250402T104500
DTEND;TZID=America/New_York:20250402T104500
DTSTAMP:20260425T075317
CREATED:20250402T145547Z
LAST-MODIFIED:20250402T145547Z
UID:16359-1743590700-1743590700@towerlane.org
SUMMARY:Chorus Rehearsal
DESCRIPTION:
URL:https://towerlane.org/event/chorus-rehearsal-21/2025-04-02/
LOCATION:Sanctuary
END:VEVENT
BEGIN:VEVENT
DTSTART;TZID=America/New_York:20250401T190000
DTEND;TZID=America/New_York:20250401T190000
DTSTAMP:20260425T075317
CREATED:20250402T145354Z
LAST-MODIFIED:20250402T145354Z
UID:16357-1743534000-1743534000@towerlane.org
SUMMARY:Movie and Discussion with Jim Brochin
DESCRIPTION:
URL:https://towerlane.org/event/movie-and-discussion-with-jim-brochin-33/
LOCATION:Sanctuary
END:VEVENT
BEGIN:VEVENT
DTSTART;TZID=America/New_York:20250401T113000
DTEND;TZID=America/New_York:20250401T113000
DTSTAMP:20260425T075317
CREATED:20250402T144820Z
LAST-MODIFIED:20250402T144932Z
UID:16331-1743507000-1743507000@towerlane.org
SUMMARY:30 Minute Exercise
DESCRIPTION:
URL:https://towerlane.org/event/create-a-word-37/2025-04-01/
LOCATION:Sanctuary
END:VEVENT
BEGIN:VEVENT
DTSTART;TZID=America/New_York:20250331T020000
DTEND;TZID=America/New_York:20250331T140000
DTSTAMP:20260425T075317
CREATED:20250304T174055Z
LAST-MODIFIED:20250304T174055Z
UID:16168-1743386400-1743429600@towerlane.org
SUMMARY:Bingo
DESCRIPTION:
URL:https://towerlane.org/event/bingo-121/2025-03-31/
LOCATION:Sanctuary
END:VEVENT
BEGIN:VEVENT
DTSTART;TZID=America/New_York:20250330T190000
DTEND;TZID=America/New_York:20250330T190000
DTSTAMP:20260425T075317
CREATED:20250304T172931Z
LAST-MODIFIED:20250304T172931Z
UID:16133-1743361200-1743361200@towerlane.org
SUMMARY:Movie Night
DESCRIPTION:
URL:https://towerlane.org/event/movie-night-60/2025-03-30/
LOCATION:Sanctuary
END:VEVENT
BEGIN:VEVENT
DTSTART;TZID=America/New_York:20250329T190000
DTEND;TZID=America/New_York:20250329T190000
DTSTAMP:20260425T075317
CREATED:20250304T172656Z
LAST-MODIFIED:20250304T172656Z
UID:16125-1743274800-1743274800@towerlane.org
SUMMARY:Movie Night
DESCRIPTION:
URL:https://towerlane.org/event/movie-night-59/2025-03-29/
LOCATION:Sanctuary
END:VEVENT
BEGIN:VEVENT
DTSTART;TZID=America/New_York:20250329T140000
DTEND;TZID=America/New_York:20250329T140000
DTSTAMP:20260425T075317
CREATED:20250304T172523Z
LAST-MODIFIED:20250304T172523Z
UID:16119-1743256800-1743256800@towerlane.org
SUMMARY:Bingo
DESCRIPTION:
URL:https://towerlane.org/event/bingo-120/2025-03-29/
LOCATION:Sanctuary
END:VEVENT
BEGIN:VEVENT
DTSTART;TZID=America/New_York:20250329T100000
DTEND;TZID=America/New_York:20250329T100000
DTSTAMP:20260425T075317
CREATED:20250304T172323Z
LAST-MODIFIED:20250304T172323Z
UID:16111-1743242400-1743242400@towerlane.org
SUMMARY:Shabbat
DESCRIPTION:
URL:https://towerlane.org/event/shabbat-65/2025-03-29/
LOCATION:Sanctuary
END:VEVENT
BEGIN:VEVENT
DTSTART;TZID=America/New_York:20250328T183000
DTEND;TZID=America/New_York:20250328T183000
DTSTAMP:20260425T075317
CREATED:20250304T180311Z
LAST-MODIFIED:20250304T180311Z
UID:16249-1743186600-1743186600@towerlane.org
SUMMARY:Shabbat
DESCRIPTION:
URL:https://towerlane.org/event/shabbat-66/2025-03-28/
LOCATION:Sanctuary
END:VEVENT
BEGIN:VEVENT
DTSTART;TZID=America/New_York:20250328T140000
DTEND;TZID=America/New_York:20250328T140000
DTSTAMP:20260425T075317
CREATED:20250304T180224Z
LAST-MODIFIED:20250304T180224Z
UID:16244-1743170400-1743170400@towerlane.org
SUMMARY:Current Events
DESCRIPTION:
URL:https://towerlane.org/event/current-events-30/2025-03-28/
LOCATION:Sanctuary
END:VEVENT
BEGIN:VEVENT
DTSTART;TZID=America/New_York:20250327T190000
DTEND;TZID=America/New_York:20250327T190000
DTSTAMP:20260425T075317
CREATED:20250305T191326Z
LAST-MODIFIED:20250305T191326Z
UID:16329-1743102000-1743102000@towerlane.org
SUMMARY:"An Evening with The Mafia" Presented by Albert Fox and Charles Rosenay
DESCRIPTION:
URL:https://towerlane.org/event/an-evening-with-the-mafia-presented-by-albert-fox-and-charles-rosenay/
LOCATION:Sanctuary
END:VEVENT
BEGIN:VEVENT
DTSTART;TZID=America/New_York:20250327T110000
DTEND;TZID=America/New_York:20250327T110000
DTSTAMP:20260425T075317
CREATED:20250305T191107Z
LAST-MODIFIED:20250305T191107Z
UID:16323-1743073200-1743073200@towerlane.org
SUMMARY:Gus Town Hall Meeting
DESCRIPTION:
URL:https://towerlane.org/event/gus-town-hall-meeting-23/
LOCATION:Sanctuary
END:VEVENT
BEGIN:VEVENT
DTSTART;TZID=America/New_York:20250326T133000
DTEND;TZID=America/New_York:20250326T133000
DTSTAMP:20260425T075317
CREATED:20250305T190943Z
LAST-MODIFIED:20250305T190943Z
UID:16319-1742995800-1742995800@towerlane.org
SUMMARY:"Through The Decades Fashion Show"
DESCRIPTION:
URL:https://towerlane.org/event/through-the-decades-fashion-show/
LOCATION:Sanctuary
END:VEVENT
BEGIN:VEVENT
DTSTART;TZID=America/New_York:20250326T104500
DTEND;TZID=America/New_York:20250326T104500
DTSTAMP:20260425T075317
CREATED:20250304T174856Z
LAST-MODIFIED:20250304T174856Z
UID:16200-1742985900-1742985900@towerlane.org
SUMMARY:Chorus Rehearsal
DESCRIPTION:
URL:https://towerlane.org/event/chorus-rehearsal-20/2025-03-26/
LOCATION:Sanctuary
END:VEVENT
BEGIN:VEVENT
DTSTART;TZID=America/New_York:20250325T190000
DTEND;TZID=America/New_York:20250325T190000
DTSTAMP:20260425T075317
CREATED:20250305T190806Z
LAST-MODIFIED:20250305T190806Z
UID:16315-1742929200-1742929200@towerlane.org
SUMMARY:Lecture Screening: "Neil Shubin: Your Inner Fish"
DESCRIPTION:
URL:https://towerlane.org/event/lecture-screening-neil-shubin-your-inner-fish/
LOCATION:Sanctuary
END:VEVENT
BEGIN:VEVENT
DTSTART;TZID=America/New_York:20250325T113000
DTEND;TZID=America/New_York:20250325T113000
DTSTAMP:20260425T075317
CREATED:20250304T174504Z
LAST-MODIFIED:20250304T174504Z
UID:16186-1742902200-1742902200@towerlane.org
SUMMARY:30 Minute Exercise
DESCRIPTION:
URL:https://towerlane.org/event/30-minute-exercise-8/2025-03-25/
LOCATION:Sanctuary
END:VEVENT
BEGIN:VEVENT
DTSTART;TZID=America/New_York:20250324T020000
DTEND;TZID=America/New_York:20250324T140000
DTSTAMP:20260425T075317
CREATED:20250304T174055Z
LAST-MODIFIED:20250304T174055Z
UID:16167-1742781600-1742824800@towerlane.org
SUMMARY:Bingo
DESCRIPTION:
URL:https://towerlane.org/event/bingo-121/2025-03-24/
LOCATION:Sanctuary
END:VEVENT
BEGIN:VEVENT
DTSTART;TZID=America/New_York:20250323T190000
DTEND;TZID=America/New_York:20250323T190000
DTSTAMP:20260425T075317
CREATED:20250304T172931Z
LAST-MODIFIED:20250304T172931Z
UID:16132-1742756400-1742756400@towerlane.org
SUMMARY:Movie Night
DESCRIPTION:
URL:https://towerlane.org/event/movie-night-60/2025-03-23/
LOCATION:Sanctuary
END:VEVENT
BEGIN:VEVENT
DTSTART;TZID=America/New_York:20250323T130000
DTEND;TZID=America/New_York:20250323T150000
DTSTAMP:20260425T075317
CREATED:20250305T190647Z
LAST-MODIFIED:20250305T190647Z
UID:16313-1742734800-1742742000@towerlane.org
SUMMARY:Game Day
DESCRIPTION:
URL:https://towerlane.org/event/game-day-2/
LOCATION:Sanctuary
END:VEVENT
BEGIN:VEVENT
DTSTART;TZID=America/New_York:20250322T190000
DTEND;TZID=America/New_York:20250322T190000
DTSTAMP:20260425T075317
CREATED:20250304T172656Z
LAST-MODIFIED:20250304T172656Z
UID:16124-1742670000-1742670000@towerlane.org
SUMMARY:Movie Night
DESCRIPTION:
URL:https://towerlane.org/event/movie-night-59/2025-03-22/
LOCATION:Sanctuary
END:VEVENT
BEGIN:VEVENT
DTSTART;TZID=America/New_York:20250322T140000
DTEND;TZID=America/New_York:20250322T140000
DTSTAMP:20260425T075317
CREATED:20250304T172523Z
LAST-MODIFIED:20250304T172523Z
UID:16118-1742652000-1742652000@towerlane.org
SUMMARY:Bingo
DESCRIPTION:
URL:https://towerlane.org/event/bingo-120/2025-03-22/
LOCATION:Sanctuary
END:VEVENT
BEGIN:VEVENT
DTSTART;TZID=America/New_York:20250322T100000
DTEND;TZID=America/New_York:20250322T100000
DTSTAMP:20260425T075317
CREATED:20250304T172323Z
LAST-MODIFIED:20250304T172323Z
UID:16110-1742637600-1742637600@towerlane.org
SUMMARY:Shabbat
DESCRIPTION:
URL:https://towerlane.org/event/shabbat-65/2025-03-22/
LOCATION:Sanctuary
END:VEVENT
BEGIN:VEVENT
DTSTART;TZID=America/New_York:20250321T183000
DTEND;TZID=America/New_York:20250321T183000
DTSTAMP:20260425T075317
CREATED:20250304T180311Z
LAST-MODIFIED:20250304T180311Z
UID:16248-1742581800-1742581800@towerlane.org
SUMMARY:Shabbat
DESCRIPTION:
URL:https://towerlane.org/event/shabbat-66/2025-03-21/
LOCATION:Sanctuary
END:VEVENT
END:VCALENDAR