BEGIN:VCALENDAR
VERSION:2.0
PRODID:-//The Towers - ECPv6.10.3//NONSGML v1.0//EN
CALSCALE:GREGORIAN
METHOD:PUBLISH
X-ORIGINAL-URL:https://towerlane.org
X-WR-CALDESC:Events for The Towers
REFRESH-INTERVAL;VALUE=DURATION:PT1H
X-Robots-Tag:noindex
X-PUBLISHED-TTL:PT1H
BEGIN:VTIMEZONE
TZID:America/New_York
BEGIN:DAYLIGHT
TZOFFSETFROM:-0500
TZOFFSETTO:-0400
TZNAME:EDT
DTSTART:20240310T070000
END:DAYLIGHT
BEGIN:STANDARD
TZOFFSETFROM:-0400
TZOFFSETTO:-0500
TZNAME:EST
DTSTART:20241103T060000
END:STANDARD
END:VTIMEZONE
BEGIN:VEVENT
DTSTART;TZID=America/New_York:20241118T130000
DTEND;TZID=America/New_York:20241118T130000
DTSTAMP:20260426T001529
CREATED:20241101T154028Z
LAST-MODIFIED:20241101T154028Z
UID:14727-1731934800-1731934800@towerlane.org
SUMMARY:Medicare Talk with Leslie Pruitt
DESCRIPTION:
URL:https://towerlane.org/event/medicare-talk-with-leslie-pruitt-2/
LOCATION:Solarium
END:VEVENT
BEGIN:VEVENT
DTSTART;TZID=America/New_York:20241118T110000
DTEND;TZID=America/New_York:20241118T110000
DTSTAMP:20260426T001529
CREATED:20241101T153956Z
LAST-MODIFIED:20241101T153956Z
UID:14725-1731927600-1731927600@towerlane.org
SUMMARY:Medicare Talk with Leslie Pruitt
DESCRIPTION:
URL:https://towerlane.org/event/medicare-talk-with-leslie-pruitt/
LOCATION:Solarium
END:VEVENT
BEGIN:VEVENT
DTSTART;TZID=America/New_York:20241118T100000
DTEND;TZID=America/New_York:20241118T100000
DTSTAMP:20260426T001529
CREATED:20241031T165756Z
LAST-MODIFIED:20241031T165756Z
UID:14640-1731924000-1731924000@towerlane.org
SUMMARY:Coffee Klatch
DESCRIPTION:
URL:https://towerlane.org/event/coffee-klatch-27/2024-11-18/
LOCATION:Solarium
END:VEVENT
BEGIN:VEVENT
DTSTART;TZID=America/New_York:20241116T140000
DTEND;TZID=America/New_York:20241116T140000
DTSTAMP:20260426T001529
CREATED:20241031T165137Z
LAST-MODIFIED:20241031T165137Z
UID:14620-1731765600-1731765600@towerlane.org
SUMMARY:Bingo
DESCRIPTION:
URL:https://towerlane.org/event/bingo-112/2024-11-16/
LOCATION:Solarium
END:VEVENT
BEGIN:VEVENT
DTSTART;TZID=America/New_York:20241116T100000
DTEND;TZID=America/New_York:20241116T100000
DTSTAMP:20260426T001529
CREATED:20241031T165006Z
LAST-MODIFIED:20241031T165006Z
UID:14614-1731751200-1731751200@towerlane.org
SUMMARY:Shabbat
DESCRIPTION:
URL:https://towerlane.org/event/shabbat-58/2024-11-16/
LOCATION:Solarium
END:VEVENT
BEGIN:VEVENT
DTSTART;TZID=America/New_York:20241115T184500
DTEND;TZID=America/New_York:20241115T184500
DTSTAMP:20260426T001529
CREATED:20241031T164833Z
LAST-MODIFIED:20241031T164833Z
UID:14608-1731696300-1731696300@towerlane.org
SUMMARY:Shabbat
DESCRIPTION:
URL:https://towerlane.org/event/shabbat-57/2024-11-15/
LOCATION:Solarium
END:VEVENT
BEGIN:VEVENT
DTSTART;TZID=America/New_York:20241115T140000
DTEND;TZID=America/New_York:20241115T140000
DTSTAMP:20260426T001529
CREATED:20241031T164718Z
LAST-MODIFIED:20241031T164718Z
UID:14602-1731679200-1731679200@towerlane.org
SUMMARY:Current Events
DESCRIPTION:
URL:https://towerlane.org/event/current-events-27/2024-11-15/
LOCATION:Solarium
END:VEVENT
BEGIN:VEVENT
DTSTART;TZID=America/New_York:20241115T110000
DTEND;TZID=America/New_York:20241115T110000
DTSTAMP:20260426T001529
CREATED:20241031T164426Z
LAST-MODIFIED:20241031T164426Z
UID:14591-1731668400-1731668400@towerlane.org
SUMMARY:Knitting Group
DESCRIPTION:
URL:https://towerlane.org/event/knitting-group-64/2024-11-15/
LOCATION:Solarium
END:VEVENT
BEGIN:VEVENT
DTSTART;TZID=America/New_York:20241114T103000
DTEND;TZID=America/New_York:20241114T103000
DTSTAMP:20260426T001529
CREATED:20241101T153458Z
LAST-MODIFIED:20241101T153458Z
UID:14713-1731580200-1731580200@towerlane.org
SUMMARY:Hopkins Students Visit
DESCRIPTION:
URL:https://towerlane.org/event/hopkins-students-visit-8/
LOCATION:Solarium
END:VEVENT
BEGIN:VEVENT
DTSTART;TZID=America/New_York:20241113T190000
DTEND;TZID=America/New_York:20241113T190000
DTSTAMP:20260426T001529
CREATED:20241101T153405Z
LAST-MODIFIED:20241101T153405Z
UID:14711-1731524400-1731524400@towerlane.org
SUMMARY:Spanish/Bilingual Christian Service
DESCRIPTION:
URL:https://towerlane.org/event/spanish-bilingual-christian-service-5/
LOCATION:Solarium
END:VEVENT
BEGIN:VEVENT
DTSTART;TZID=America/New_York:20241113T130000
DTEND;TZID=America/New_York:20241113T130000
DTSTAMP:20260426T001529
CREATED:20241101T153330Z
LAST-MODIFIED:20241101T153330Z
UID:14709-1731502800-1731502800@towerlane.org
SUMMARY:HealthPro Talk
DESCRIPTION:
URL:https://towerlane.org/event/healthpro-talk/
LOCATION:Solarium
END:VEVENT
BEGIN:VEVENT
DTSTART;TZID=America/New_York:20241112T130000
DTEND;TZID=America/New_York:20241112T130000
DTSTAMP:20260426T001529
CREATED:20241031T170836Z
LAST-MODIFIED:20241031T170836Z
UID:14672-1731416400-1731416400@towerlane.org
SUMMARY:Interactive Music
DESCRIPTION:
URL:https://towerlane.org/event/interactive-music-27/2024-11-12/
LOCATION:Solarium
END:VEVENT
BEGIN:VEVENT
DTSTART;TZID=America/New_York:20241112T113000
DTEND;TZID=America/New_York:20241112T113000
DTSTAMP:20260426T001529
CREATED:20241031T170635Z
LAST-MODIFIED:20241031T170635Z
UID:14667-1731411000-1731411000@towerlane.org
SUMMARY:30 Minute Exercise
DESCRIPTION:
URL:https://towerlane.org/event/30-minute-exercise-3/2024-11-12/
LOCATION:Solarium
END:VEVENT
BEGIN:VEVENT
DTSTART;TZID=America/New_York:20241111T140000
DTEND;TZID=America/New_York:20241111T140000
DTSTAMP:20260426T001529
CREATED:20241031T170214Z
LAST-MODIFIED:20241031T170214Z
UID:14653-1731333600-1731333600@towerlane.org
SUMMARY:Bingo
DESCRIPTION:
URL:https://towerlane.org/event/bingo-113/2024-11-11/
LOCATION:Solarium
END:VEVENT
BEGIN:VEVENT
DTSTART;TZID=America/New_York:20241111T100000
DTEND;TZID=America/New_York:20241111T100000
DTSTAMP:20260426T001529
CREATED:20241031T171615Z
LAST-MODIFIED:20241031T171615Z
UID:14698-1731319200-1731319200@towerlane.org
SUMMARY:Hospitality/Welcome Desk Meeting
DESCRIPTION:
URL:https://towerlane.org/event/hospitality-welcome-desk-meeting/
LOCATION:Solarium
END:VEVENT
BEGIN:VEVENT
DTSTART;TZID=America/New_York:20241109T140000
DTEND;TZID=America/New_York:20241109T140000
DTSTAMP:20260426T001529
CREATED:20241031T165137Z
LAST-MODIFIED:20241031T165137Z
UID:14619-1731160800-1731160800@towerlane.org
SUMMARY:Bingo
DESCRIPTION:
URL:https://towerlane.org/event/bingo-112/2024-11-09/
LOCATION:Solarium
END:VEVENT
BEGIN:VEVENT
DTSTART;TZID=America/New_York:20241109T100000
DTEND;TZID=America/New_York:20241109T100000
DTSTAMP:20260426T001529
CREATED:20241031T165006Z
LAST-MODIFIED:20241031T165006Z
UID:14613-1731146400-1731146400@towerlane.org
SUMMARY:Shabbat
DESCRIPTION:
URL:https://towerlane.org/event/shabbat-58/2024-11-09/
LOCATION:Solarium
END:VEVENT
BEGIN:VEVENT
DTSTART;TZID=America/New_York:20241108T184500
DTEND;TZID=America/New_York:20241108T184500
DTSTAMP:20260426T001529
CREATED:20241031T164833Z
LAST-MODIFIED:20241031T164833Z
UID:14607-1731091500-1731091500@towerlane.org
SUMMARY:Shabbat
DESCRIPTION:
URL:https://towerlane.org/event/shabbat-57/2024-11-08/
LOCATION:Solarium
END:VEVENT
BEGIN:VEVENT
DTSTART;TZID=America/New_York:20241108T140000
DTEND;TZID=America/New_York:20241108T140000
DTSTAMP:20260426T001529
CREATED:20241031T164718Z
LAST-MODIFIED:20241031T164718Z
UID:14601-1731074400-1731074400@towerlane.org
SUMMARY:Current Events
DESCRIPTION:
URL:https://towerlane.org/event/current-events-27/2024-11-08/
LOCATION:Solarium
END:VEVENT
BEGIN:VEVENT
DTSTART;TZID=America/New_York:20241108T110000
DTEND;TZID=America/New_York:20241108T110000
DTSTAMP:20260426T001529
CREATED:20241031T164426Z
LAST-MODIFIED:20241031T164426Z
UID:14590-1731063600-1731063600@towerlane.org
SUMMARY:Knitting Group
DESCRIPTION:
URL:https://towerlane.org/event/knitting-group-64/2024-11-08/
LOCATION:Solarium
END:VEVENT
BEGIN:VEVENT
DTSTART;TZID=America/New_York:20241107T103000
DTEND;TZID=America/New_York:20241107T103000
DTSTAMP:20260426T001529
CREATED:20241031T171337Z
LAST-MODIFIED:20241031T171337Z
UID:14690-1730975400-1730975400@towerlane.org
SUMMARY:Hopkins Students Visit
DESCRIPTION:
URL:https://towerlane.org/event/hopkins-students-visit-7/
LOCATION:Solarium
END:VEVENT
BEGIN:VEVENT
DTSTART;TZID=America/New_York:20241106T190000
DTEND;TZID=America/New_York:20241106T190000
DTSTAMP:20260426T001529
CREATED:20241031T171303Z
LAST-MODIFIED:20241031T171303Z
UID:14688-1730919600-1730919600@towerlane.org
SUMMARY:Family Feud with Charles Rosenay
DESCRIPTION:
URL:https://towerlane.org/event/family-feud-with-charles-rosenay/
LOCATION:Solarium
END:VEVENT
BEGIN:VEVENT
DTSTART;TZID=America/New_York:20241106T130000
DTEND;TZID=America/New_York:20241106T130000
DTSTAMP:20260426T001529
CREATED:20241031T171124Z
LAST-MODIFIED:20241031T171124Z
UID:14679-1730898000-1730898000@towerlane.org
SUMMARY:Healthy & Fit
DESCRIPTION:
URL:https://towerlane.org/event/healthy-fit-54/
LOCATION:Solarium
END:VEVENT
BEGIN:VEVENT
DTSTART;TZID=America/New_York:20241105T130000
DTEND;TZID=America/New_York:20241105T130000
DTSTAMP:20260426T001529
CREATED:20241031T170836Z
LAST-MODIFIED:20241031T170836Z
UID:14671-1730811600-1730811600@towerlane.org
SUMMARY:Interactive Music
DESCRIPTION:
URL:https://towerlane.org/event/interactive-music-27/
LOCATION:Solarium
END:VEVENT
BEGIN:VEVENT
DTSTART;TZID=America/New_York:20241105T113000
DTEND;TZID=America/New_York:20241105T113000
DTSTAMP:20260426T001529
CREATED:20241031T170635Z
LAST-MODIFIED:20241031T170635Z
UID:14666-1730806200-1730806200@towerlane.org
SUMMARY:30 Minute Exercise
DESCRIPTION:
URL:https://towerlane.org/event/30-minute-exercise-3/
LOCATION:Solarium
END:VEVENT
BEGIN:VEVENT
DTSTART;TZID=America/New_York:20241104T140000
DTEND;TZID=America/New_York:20241104T140000
DTSTAMP:20260426T001529
CREATED:20241031T170214Z
LAST-MODIFIED:20241031T170214Z
UID:14652-1730728800-1730728800@towerlane.org
SUMMARY:Bingo
DESCRIPTION:
URL:https://towerlane.org/event/bingo-113/
LOCATION:Solarium
END:VEVENT
BEGIN:VEVENT
DTSTART;TZID=America/New_York:20241104T100000
DTEND;TZID=America/New_York:20241104T100000
DTSTAMP:20260426T001529
CREATED:20241031T165756Z
LAST-MODIFIED:20241031T165756Z
UID:14639-1730714400-1730714400@towerlane.org
SUMMARY:Coffee Klatch
DESCRIPTION:
URL:https://towerlane.org/event/coffee-klatch-27/
LOCATION:Solarium
END:VEVENT
BEGIN:VEVENT
DTSTART;TZID=America/New_York:20241102T153000
DTEND;TZID=America/New_York:20241102T153000
DTSTAMP:20260426T001529
CREATED:20241031T165230Z
LAST-MODIFIED:20241031T165230Z
UID:14623-1730561400-1730561400@towerlane.org
SUMMARY:Christian Worship Service
DESCRIPTION:
URL:https://towerlane.org/event/christian-worship-service-40/
LOCATION:Solarium
END:VEVENT
BEGIN:VEVENT
DTSTART;TZID=America/New_York:20241102T140000
DTEND;TZID=America/New_York:20241102T140000
DTSTAMP:20260426T001529
CREATED:20241031T165137Z
LAST-MODIFIED:20241031T165137Z
UID:14618-1730556000-1730556000@towerlane.org
SUMMARY:Bingo
DESCRIPTION:
URL:https://towerlane.org/event/bingo-112/
LOCATION:Solarium
END:VEVENT
BEGIN:VEVENT
DTSTART;TZID=America/New_York:20241102T100000
DTEND;TZID=America/New_York:20241102T100000
DTSTAMP:20260426T001529
CREATED:20241031T165006Z
LAST-MODIFIED:20241031T165006Z
UID:14612-1730541600-1730541600@towerlane.org
SUMMARY:Shabbat
DESCRIPTION:
URL:https://towerlane.org/event/shabbat-58/
LOCATION:Solarium
END:VEVENT
END:VCALENDAR