BEGIN:VCALENDAR
VERSION:2.0
PRODID:-//The Towers - ECPv6.10.3//NONSGML v1.0//EN
CALSCALE:GREGORIAN
METHOD:PUBLISH
X-ORIGINAL-URL:https://towerlane.org
X-WR-CALDESC:Events for The Towers
REFRESH-INTERVAL;VALUE=DURATION:PT1H
X-Robots-Tag:noindex
X-PUBLISHED-TTL:PT1H
BEGIN:VTIMEZONE
TZID:America/New_York
BEGIN:DAYLIGHT
TZOFFSETFROM:-0500
TZOFFSETTO:-0400
TZNAME:EDT
DTSTART:20250309T070000
END:DAYLIGHT
BEGIN:STANDARD
TZOFFSETFROM:-0400
TZOFFSETTO:-0500
TZNAME:EST
DTSTART:20251102T060000
END:STANDARD
END:VTIMEZONE
BEGIN:VEVENT
DTSTART;TZID=America/New_York:20250725T110000
DTEND;TZID=America/New_York:20250725T110000
DTSTAMP:20260424T232758
CREATED:20250701T163716Z
LAST-MODIFIED:20250701T163716Z
UID:17273-1753441200-1753441200@towerlane.org
SUMMARY:Knitting Group
DESCRIPTION:Part of our Intellectual Pathway \nMeets weekly to knit or crochet blankets for community donation.
URL:https://towerlane.org/event/knitting-group-72/2025-07-25/
LOCATION:Solarium
END:VEVENT
BEGIN:VEVENT
DTSTART;TZID=America/New_York:20250718T110000
DTEND;TZID=America/New_York:20250718T110000
DTSTAMP:20260424T232758
CREATED:20250701T163716Z
LAST-MODIFIED:20250701T163716Z
UID:17272-1752836400-1752836400@towerlane.org
SUMMARY:Knitting Group
DESCRIPTION:Part of our Intellectual Pathway \nMeets weekly to knit or crochet blankets for community donation.
URL:https://towerlane.org/event/knitting-group-72/2025-07-18/
LOCATION:Solarium
END:VEVENT
BEGIN:VEVENT
DTSTART;TZID=America/New_York:20250711T110000
DTEND;TZID=America/New_York:20250711T110000
DTSTAMP:20260424T232758
CREATED:20250701T163716Z
LAST-MODIFIED:20250701T163716Z
UID:17271-1752231600-1752231600@towerlane.org
SUMMARY:Knitting Group
DESCRIPTION:Part of our Intellectual Pathway \nMeets weekly to knit or crochet blankets for community donation.
URL:https://towerlane.org/event/knitting-group-72/2025-07-11/
LOCATION:Solarium
END:VEVENT
BEGIN:VEVENT
DTSTART;TZID=America/New_York:20250627T110000
DTEND;TZID=America/New_York:20250627T110000
DTSTAMP:20260424T232758
CREATED:20250601T181246Z
LAST-MODIFIED:20250601T181246Z
UID:16992-1751022000-1751022000@towerlane.org
SUMMARY:Knitting Group
DESCRIPTION:Part of our Intellectual Pathway \nMeets weekly to knit or crochet blankets for community donation.
URL:https://towerlane.org/event/knitting-group-71/2025-06-27/
LOCATION:Solarium
END:VEVENT
BEGIN:VEVENT
DTSTART;TZID=America/New_York:20250620T110000
DTEND;TZID=America/New_York:20250620T110000
DTSTAMP:20260424T232758
CREATED:20250601T181246Z
LAST-MODIFIED:20250601T181246Z
UID:16991-1750417200-1750417200@towerlane.org
SUMMARY:Knitting Group
DESCRIPTION:Part of our Intellectual Pathway \nMeets weekly to knit or crochet blankets for community donation.
URL:https://towerlane.org/event/knitting-group-71/2025-06-20/
LOCATION:Solarium
END:VEVENT
BEGIN:VEVENT
DTSTART;TZID=America/New_York:20250613T110000
DTEND;TZID=America/New_York:20250613T110000
DTSTAMP:20260424T232758
CREATED:20250601T181246Z
LAST-MODIFIED:20250601T181246Z
UID:16990-1749812400-1749812400@towerlane.org
SUMMARY:Knitting Group
DESCRIPTION:Part of our Intellectual Pathway \nMeets weekly to knit or crochet blankets for community donation.
URL:https://towerlane.org/event/knitting-group-71/2025-06-13/
LOCATION:Solarium
END:VEVENT
BEGIN:VEVENT
DTSTART;TZID=America/New_York:20250606T110000
DTEND;TZID=America/New_York:20250606T110000
DTSTAMP:20260424T232758
CREATED:20250601T181246Z
LAST-MODIFIED:20250601T181246Z
UID:16989-1749207600-1749207600@towerlane.org
SUMMARY:Knitting Group
DESCRIPTION:Part of our Intellectual Pathway \nMeets weekly to knit or crochet blankets for community donation.
URL:https://towerlane.org/event/knitting-group-71/2025-06-06/
LOCATION:Solarium
END:VEVENT
BEGIN:VEVENT
DTSTART;TZID=America/New_York:20250530T110000
DTEND;TZID=America/New_York:20250530T110000
DTSTAMP:20260424T232758
CREATED:20250501T140322Z
LAST-MODIFIED:20250501T140322Z
UID:16671-1748602800-1748602800@towerlane.org
SUMMARY:Knitting Group
DESCRIPTION:
URL:https://towerlane.org/event/knitting-group-70/2025-05-30/
LOCATION:Solarium
END:VEVENT
BEGIN:VEVENT
DTSTART;TZID=America/New_York:20250523T110000
DTEND;TZID=America/New_York:20250523T110000
DTSTAMP:20260424T232758
CREATED:20250501T140322Z
LAST-MODIFIED:20250501T140322Z
UID:16670-1747998000-1747998000@towerlane.org
SUMMARY:Knitting Group
DESCRIPTION:
URL:https://towerlane.org/event/knitting-group-70/2025-05-23/
LOCATION:Solarium
END:VEVENT
BEGIN:VEVENT
DTSTART;TZID=America/New_York:20250522T130000
DTEND;TZID=America/New_York:20250522T130000
DTSTAMP:20260424T232758
CREATED:20250502T184258Z
LAST-MODIFIED:20250502T184258Z
UID:16817-1747918800-1747918800@towerlane.org
SUMMARY:Torah Study with Ruthie
DESCRIPTION:
URL:https://towerlane.org/event/torah-study-with-ruthie-25/
LOCATION:Solarium
END:VEVENT
BEGIN:VEVENT
DTSTART;TZID=America/New_York:20250516T110000
DTEND;TZID=America/New_York:20250516T110000
DTSTAMP:20260424T232758
CREATED:20250501T140322Z
LAST-MODIFIED:20250501T140322Z
UID:16669-1747393200-1747393200@towerlane.org
SUMMARY:Knitting Group
DESCRIPTION:
URL:https://towerlane.org/event/knitting-group-70/2025-05-16/
LOCATION:Solarium
END:VEVENT
BEGIN:VEVENT
DTSTART;TZID=America/New_York:20250509T110000
DTEND;TZID=America/New_York:20250509T110000
DTSTAMP:20260424T232758
CREATED:20250501T140322Z
LAST-MODIFIED:20250501T140322Z
UID:16668-1746788400-1746788400@towerlane.org
SUMMARY:Knitting Group
DESCRIPTION:
URL:https://towerlane.org/event/knitting-group-70/2025-05-09/
LOCATION:Solarium
END:VEVENT
BEGIN:VEVENT
DTSTART;TZID=America/New_York:20250508T130000
DTEND;TZID=America/New_York:20250508T130000
DTSTAMP:20260424T232758
CREATED:20250502T182322Z
LAST-MODIFIED:20250502T182322Z
UID:16778-1746709200-1746709200@towerlane.org
SUMMARY:Torah Study with Ruthie
DESCRIPTION:
URL:https://towerlane.org/event/torah-study-with-ruthie-24/
LOCATION:Solarium
END:VEVENT
BEGIN:VEVENT
DTSTART;TZID=America/New_York:20250502T110000
DTEND;TZID=America/New_York:20250502T110000
DTSTAMP:20260424T232758
CREATED:20250501T140322Z
LAST-MODIFIED:20250501T140322Z
UID:16667-1746183600-1746183600@towerlane.org
SUMMARY:Knitting Group
DESCRIPTION:
URL:https://towerlane.org/event/knitting-group-70/2025-05-02/
LOCATION:Solarium
END:VEVENT
BEGIN:VEVENT
DTSTART;TZID=America/New_York:20250425T110000
DTEND;TZID=America/New_York:20250425T110000
DTSTAMP:20260424T232758
CREATED:20250402T150543Z
LAST-MODIFIED:20250402T150543Z
UID:16402-1745578800-1745578800@towerlane.org
SUMMARY:Knitting Group
DESCRIPTION:
URL:https://towerlane.org/event/knitting-group-69/2025-04-25/
LOCATION:Solarium
END:VEVENT
BEGIN:VEVENT
DTSTART;TZID=America/New_York:20250418T110000
DTEND;TZID=America/New_York:20250418T110000
DTSTAMP:20260424T232758
CREATED:20250402T150543Z
LAST-MODIFIED:20250402T150543Z
UID:16401-1744974000-1744974000@towerlane.org
SUMMARY:Knitting Group
DESCRIPTION:
URL:https://towerlane.org/event/knitting-group-69/2025-04-18/
LOCATION:Solarium
END:VEVENT
BEGIN:VEVENT
DTSTART;TZID=America/New_York:20250416T110000
DTEND;TZID=America/New_York:20250416T110000
DTSTAMP:20260424T232758
CREATED:20250402T153454Z
LAST-MODIFIED:20250402T153454Z
UID:16496-1744801200-1744801200@towerlane.org
SUMMARY:Meet Buddy the Therapy Dog
DESCRIPTION:
URL:https://towerlane.org/event/meet-buddy-the-therapy-dog/
LOCATION:Solarium
END:VEVENT
BEGIN:VEVENT
DTSTART;TZID=America/New_York:20250411T110000
DTEND;TZID=America/New_York:20250411T110000
DTSTAMP:20260424T232758
CREATED:20250402T150543Z
LAST-MODIFIED:20250402T150543Z
UID:16400-1744369200-1744369200@towerlane.org
SUMMARY:Knitting Group
DESCRIPTION:
URL:https://towerlane.org/event/knitting-group-69/2025-04-11/
LOCATION:Solarium
END:VEVENT
BEGIN:VEVENT
DTSTART;TZID=America/New_York:20250404T110000
DTEND;TZID=America/New_York:20250404T110000
DTSTAMP:20260424T232758
CREATED:20250402T150543Z
LAST-MODIFIED:20250402T150543Z
UID:16399-1743764400-1743764400@towerlane.org
SUMMARY:Knitting Group
DESCRIPTION:
URL:https://towerlane.org/event/knitting-group-69/2025-04-04/
LOCATION:Solarium
END:VEVENT
BEGIN:VEVENT
DTSTART;TZID=America/New_York:20250328T110000
DTEND;TZID=America/New_York:20250328T110000
DTSTAMP:20260424T232758
CREATED:20250304T180028Z
LAST-MODIFIED:20250304T180028Z
UID:16234-1743159600-1743159600@towerlane.org
SUMMARY:Knitting Group
DESCRIPTION:
URL:https://towerlane.org/event/knitting-group-68/2025-03-28/
LOCATION:Solarium
END:VEVENT
BEGIN:VEVENT
DTSTART;TZID=America/New_York:20250321T110000
DTEND;TZID=America/New_York:20250321T110000
DTSTAMP:20260424T232758
CREATED:20250304T180028Z
LAST-MODIFIED:20250304T180028Z
UID:16233-1742554800-1742554800@towerlane.org
SUMMARY:Knitting Group
DESCRIPTION:
URL:https://towerlane.org/event/knitting-group-68/2025-03-21/
LOCATION:Solarium
END:VEVENT
BEGIN:VEVENT
DTSTART;TZID=America/New_York:20250314T110000
DTEND;TZID=America/New_York:20250314T110000
DTSTAMP:20260424T232758
CREATED:20250304T180028Z
LAST-MODIFIED:20250304T180028Z
UID:16232-1741950000-1741950000@towerlane.org
SUMMARY:Knitting Group
DESCRIPTION:
URL:https://towerlane.org/event/knitting-group-68/2025-03-14/
LOCATION:Solarium
END:VEVENT
BEGIN:VEVENT
DTSTART;TZID=America/New_York:20250307T110000
DTEND;TZID=America/New_York:20250307T110000
DTSTAMP:20260424T232758
CREATED:20250304T180028Z
LAST-MODIFIED:20250304T180028Z
UID:16231-1741345200-1741345200@towerlane.org
SUMMARY:Knitting Group
DESCRIPTION:
URL:https://towerlane.org/event/knitting-group-68/
LOCATION:Solarium
END:VEVENT
BEGIN:VEVENT
DTSTART;TZID=America/New_York:20250302T130000
DTEND;TZID=America/New_York:20250302T150000
DTSTAMP:20260424T232758
CREATED:20250304T172831Z
LAST-MODIFIED:20250304T172831Z
UID:16127-1740920400-1740927600@towerlane.org
SUMMARY:Art Show Hosted by Dale
DESCRIPTION:
URL:https://towerlane.org/event/art-show-hosted-by-dale-2/
LOCATION:Solarium
END:VEVENT
BEGIN:VEVENT
DTSTART;TZID=America/New_York:20250301T130000
DTEND;TZID=America/New_York:20250301T150000
DTSTAMP:20260424T232758
CREATED:20250304T172414Z
LAST-MODIFIED:20250304T172414Z
UID:16113-1740834000-1740841200@towerlane.org
SUMMARY:Art Show Hosted by Dale
DESCRIPTION:
URL:https://towerlane.org/event/art-show-hosted-by-dale/
LOCATION:Solarium
END:VEVENT
BEGIN:VEVENT
DTSTART;TZID=America/New_York:20250228T183000
DTEND;TZID=America/New_York:20250228T183000
DTSTAMP:20260424T232758
CREATED:20250204T172028Z
LAST-MODIFIED:20250204T172028Z
UID:15295-1740767400-1740767400@towerlane.org
SUMMARY:Shabbat
DESCRIPTION:
URL:https://towerlane.org/event/shabbat-63/2025-02-28/
LOCATION:Solarium
END:VEVENT
BEGIN:VEVENT
DTSTART;TZID=America/New_York:20250228T140000
DTEND;TZID=America/New_York:20250228T140000
DTSTAMP:20260424T232758
CREATED:20250204T171927Z
LAST-MODIFIED:20250204T171927Z
UID:15290-1740751200-1740751200@towerlane.org
SUMMARY:Current Events
DESCRIPTION:
URL:https://towerlane.org/event/current-events-29/2025-02-28/
LOCATION:Solarium
END:VEVENT
BEGIN:VEVENT
DTSTART;TZID=America/New_York:20250228T110000
DTEND;TZID=America/New_York:20250228T110000
DTSTAMP:20260424T232758
CREATED:20250204T171723Z
LAST-MODIFIED:20250204T171723Z
UID:15280-1740740400-1740740400@towerlane.org
SUMMARY:Knitting Group
DESCRIPTION:
URL:https://towerlane.org/event/knitting-group-67/2025-02-28/
LOCATION:Solarium
END:VEVENT
BEGIN:VEVENT
DTSTART;TZID=America/New_York:20250227T130000
DTEND;TZID=America/New_York:20250227T130000
DTSTAMP:20260424T232758
CREATED:20250204T190357Z
LAST-MODIFIED:20250204T190357Z
UID:15405-1740661200-1740661200@towerlane.org
SUMMARY:HealthPro Information Session with Ali and Dean
DESCRIPTION:
URL:https://towerlane.org/event/healthpro-information-session-with-ali-and-dean/
LOCATION:Solarium
END:VEVENT
BEGIN:VEVENT
DTSTART;TZID=America/New_York:20250227T110000
DTEND;TZID=America/New_York:20250227T110000
DTSTAMP:20260424T232758
CREATED:20250204T190314Z
LAST-MODIFIED:20250204T190314Z
UID:15403-1740654000-1740654000@towerlane.org
SUMMARY:Gus Town Hall Meeting
DESCRIPTION:
URL:https://towerlane.org/event/gus-town-hall-meeting-22/
LOCATION:Solarium
END:VEVENT
END:VCALENDAR