BEGIN:VCALENDAR
VERSION:2.0
PRODID:-//The Towers - ECPv6.10.3//NONSGML v1.0//EN
CALSCALE:GREGORIAN
METHOD:PUBLISH
X-ORIGINAL-URL:https://towerlane.org
X-WR-CALDESC:Events for The Towers
REFRESH-INTERVAL;VALUE=DURATION:PT1H
X-Robots-Tag:noindex
X-PUBLISHED-TTL:PT1H
BEGIN:VTIMEZONE
TZID:America/New_York
BEGIN:DAYLIGHT
TZOFFSETFROM:-0500
TZOFFSETTO:-0400
TZNAME:EDT
DTSTART:20240310T070000
END:DAYLIGHT
BEGIN:STANDARD
TZOFFSETFROM:-0400
TZOFFSETTO:-0500
TZNAME:EST
DTSTART:20241103T060000
END:STANDARD
END:VTIMEZONE
BEGIN:VEVENT
DTSTART;TZID=America/New_York:20240924T094500
DTEND;TZID=America/New_York:20240924T094500
DTSTAMP:20260420T151457
CREATED:20240903T165345Z
LAST-MODIFIED:20240903T165345Z
UID:14337-1727171100-1727171100@towerlane.org
SUMMARY:Sewing Group
DESCRIPTION:
URL:https://towerlane.org/event/sewing-group-4/
LOCATION:Tower One 20th Floor
END:VEVENT
BEGIN:VEVENT
DTSTART;TZID=America/New_York:20240923T111500
DTEND;TZID=America/New_York:20240923T111500
DTSTAMP:20260420T151457
CREATED:20240903T150952Z
LAST-MODIFIED:20240903T150952Z
UID:14285-1727090100-1727090100@towerlane.org
SUMMARY:Creative Art
DESCRIPTION:
URL:https://towerlane.org/event/creative-art-25/2024-09-23/
LOCATION:Tower One 20th Floor
END:VEVENT
BEGIN:VEVENT
DTSTART;TZID=America/New_York:20240919T130000
DTEND;TZID=America/New_York:20240919T130000
DTSTAMP:20260420T151457
CREATED:20240903T165120Z
LAST-MODIFIED:20240903T165120Z
UID:14331-1726750800-1726750800@towerlane.org
SUMMARY:Catholic Mass
DESCRIPTION:
URL:https://towerlane.org/event/catholic-mass-52/
LOCATION:Tower One 20th Floor
END:VEVENT
BEGIN:VEVENT
DTSTART;TZID=America/New_York:20240916T111500
DTEND;TZID=America/New_York:20240916T111500
DTSTAMP:20260420T151457
CREATED:20240903T150952Z
LAST-MODIFIED:20240903T150952Z
UID:14284-1726485300-1726485300@towerlane.org
SUMMARY:Creative Art
DESCRIPTION:
URL:https://towerlane.org/event/creative-art-25/2024-09-16/
LOCATION:Tower One 20th Floor
END:VEVENT
BEGIN:VEVENT
DTSTART;TZID=America/New_York:20240913T110000
DTEND;TZID=America/New_York:20240913T110000
DTSTAMP:20260420T151457
CREATED:20240903T164251Z
LAST-MODIFIED:20240903T164251Z
UID:14310-1726225200-1726225200@towerlane.org
SUMMARY:Knitting Group
DESCRIPTION:
URL:https://towerlane.org/event/knitting-group-60/
LOCATION:Tower One 20th Floor
END:VEVENT
BEGIN:VEVENT
DTSTART;TZID=America/New_York:20240910T094500
DTEND;TZID=America/New_York:20240910T094500
DTSTAMP:20260420T151457
CREATED:20240903T151224Z
LAST-MODIFIED:20240903T151224Z
UID:14294-1725961500-1725961500@towerlane.org
SUMMARY:Sewing Group
DESCRIPTION:
URL:https://towerlane.org/event/sewing-group-3/
LOCATION:Tower One 20th Floor
END:VEVENT
BEGIN:VEVENT
DTSTART;TZID=America/New_York:20240909T111500
DTEND;TZID=America/New_York:20240909T111500
DTSTAMP:20260420T151457
CREATED:20240903T150952Z
LAST-MODIFIED:20240903T150952Z
UID:14283-1725880500-1725880500@towerlane.org
SUMMARY:Creative Art
DESCRIPTION:
URL:https://towerlane.org/event/creative-art-25/
LOCATION:Tower One 20th Floor
END:VEVENT
BEGIN:VEVENT
DTSTART;TZID=America/New_York:20240905T130000
DTEND;TZID=America/New_York:20240905T130000
DTSTAMP:20260420T151457
CREATED:20240903T145549Z
LAST-MODIFIED:20240903T145549Z
UID:14246-1725541200-1725541200@towerlane.org
SUMMARY:Catholic Mass
DESCRIPTION:
URL:https://towerlane.org/event/catholic-mass-51/
LOCATION:Tower One 20th Floor
END:VEVENT
BEGIN:VEVENT
DTSTART;TZID=America/New_York:20240827T094500
DTEND;TZID=America/New_York:20240827T094500
DTSTAMP:20260420T151457
CREATED:20240730T191511Z
LAST-MODIFIED:20240730T191511Z
UID:14157-1724751900-1724751900@towerlane.org
SUMMARY:Sewing Project
DESCRIPTION:
URL:https://towerlane.org/event/sewing-project-21/
LOCATION:Tower One 20th Floor
END:VEVENT
BEGIN:VEVENT
DTSTART;TZID=America/New_York:20240826T111500
DTEND;TZID=America/New_York:20240826T111500
DTSTAMP:20260420T151457
CREATED:20240730T162554Z
LAST-MODIFIED:20240730T162554Z
UID:14071-1724670900-1724670900@towerlane.org
SUMMARY:Creative Art
DESCRIPTION:
URL:https://towerlane.org/event/creative-art-24/2024-08-26/
LOCATION:Tower One 20th Floor
END:VEVENT
BEGIN:VEVENT
DTSTART;TZID=America/New_York:20240823T110000
DTEND;TZID=America/New_York:20240823T110000
DTSTAMP:20260420T151457
CREATED:20240730T191327Z
LAST-MODIFIED:20240730T191327Z
UID:14153-1724410800-1724410800@towerlane.org
SUMMARY:Knitting Group
DESCRIPTION:
URL:https://towerlane.org/event/knitting-group-58/
LOCATION:Tower One 20th Floor
END:VEVENT
BEGIN:VEVENT
DTSTART;TZID=America/New_York:20240822T130000
DTEND;TZID=America/New_York:20240822T130000
DTSTAMP:20260420T151457
CREATED:20240730T191130Z
LAST-MODIFIED:20240730T191130Z
UID:14149-1724331600-1724331600@towerlane.org
SUMMARY:Catholic Mass
DESCRIPTION:
URL:https://towerlane.org/event/catholic-mass-50/
LOCATION:Tower One 20th Floor
END:VEVENT
BEGIN:VEVENT
DTSTART;TZID=America/New_York:20240819T111500
DTEND;TZID=America/New_York:20240819T111500
DTSTAMP:20260420T151457
CREATED:20240730T162554Z
LAST-MODIFIED:20240730T162554Z
UID:14070-1724066100-1724066100@towerlane.org
SUMMARY:Creative Art
DESCRIPTION:
URL:https://towerlane.org/event/creative-art-24/2024-08-19/
LOCATION:Tower One 20th Floor
END:VEVENT
BEGIN:VEVENT
DTSTART;TZID=America/New_York:20240814T110000
DTEND;TZID=America/New_York:20240814T110000
DTSTAMP:20260420T151457
CREATED:20240730T163530Z
LAST-MODIFIED:20240730T163530Z
UID:14103-1723633200-1723633200@towerlane.org
SUMMARY:QU Students Group
DESCRIPTION:
URL:https://towerlane.org/event/qu-students-group-24/2024-08-14/
LOCATION:Tower One 20th Floor
END:VEVENT
BEGIN:VEVENT
DTSTART;TZID=America/New_York:20240813T094500
DTEND;TZID=America/New_York:20240813T094500
DTSTAMP:20260420T151457
CREATED:20240730T164442Z
LAST-MODIFIED:20240730T164442Z
UID:14129-1723542300-1723542300@towerlane.org
SUMMARY:Sewing Project
DESCRIPTION:
URL:https://towerlane.org/event/sewing-project-20/
LOCATION:Tower One 20th Floor
END:VEVENT
BEGIN:VEVENT
DTSTART;TZID=America/New_York:20240812T111500
DTEND;TZID=America/New_York:20240812T111500
DTSTAMP:20260420T151457
CREATED:20240730T162554Z
LAST-MODIFIED:20240730T162554Z
UID:14069-1723461300-1723461300@towerlane.org
SUMMARY:Creative Art
DESCRIPTION:
URL:https://towerlane.org/event/creative-art-24/2024-08-12/
LOCATION:Tower One 20th Floor
END:VEVENT
BEGIN:VEVENT
DTSTART;TZID=America/New_York:20240808T150000
DTEND;TZID=America/New_York:20240808T150000
DTSTAMP:20260420T151457
CREATED:20240730T164150Z
LAST-MODIFIED:20240730T164150Z
UID:14123-1723129200-1723129200@towerlane.org
SUMMARY:Book Club Meeting
DESCRIPTION:
URL:https://towerlane.org/event/book-club-meeting-16/
LOCATION:Tower One 20th Floor
END:VEVENT
BEGIN:VEVENT
DTSTART;TZID=America/New_York:20240807T110000
DTEND;TZID=America/New_York:20240807T110000
DTSTAMP:20260420T151457
CREATED:20240730T163530Z
LAST-MODIFIED:20240730T163530Z
UID:14102-1723028400-1723028400@towerlane.org
SUMMARY:QU Students Group
DESCRIPTION:
URL:https://towerlane.org/event/qu-students-group-24/
LOCATION:Tower One 20th Floor
END:VEVENT
BEGIN:VEVENT
DTSTART;TZID=America/New_York:20240805T111500
DTEND;TZID=America/New_York:20240805T111500
DTSTAMP:20260420T151457
CREATED:20240730T162554Z
LAST-MODIFIED:20240730T162554Z
UID:14068-1722856500-1722856500@towerlane.org
SUMMARY:Creative Art
DESCRIPTION:
URL:https://towerlane.org/event/creative-art-24/
LOCATION:Tower One 20th Floor
END:VEVENT
BEGIN:VEVENT
DTSTART;TZID=America/New_York:20240801T130000
DTEND;TZID=America/New_York:20240801T130000
DTSTAMP:20260420T151457
CREATED:20240730T153205Z
LAST-MODIFIED:20240730T153205Z
UID:14006-1722517200-1722517200@towerlane.org
SUMMARY:Catholic Mass
DESCRIPTION:
URL:https://towerlane.org/event/catholic-mass-49/
LOCATION:Tower One 20th Floor
END:VEVENT
BEGIN:VEVENT
DTSTART;TZID=America/New_York:20240730T094500
DTEND;TZID=America/New_York:20240730T094500
DTSTAMP:20260420T151457
CREATED:20240630T150805Z
LAST-MODIFIED:20240630T150805Z
UID:13967-1722332700-1722332700@towerlane.org
SUMMARY:Sewing Project
DESCRIPTION:
URL:https://towerlane.org/event/sewing-project-19/
LOCATION:Tower One 20th Floor
END:VEVENT
BEGIN:VEVENT
DTSTART;TZID=America/New_York:20240729T111500
DTEND;TZID=America/New_York:20240729T111500
DTSTAMP:20260420T151457
CREATED:20240629T145824Z
LAST-MODIFIED:20240629T145824Z
UID:13802-1722251700-1722251700@towerlane.org
SUMMARY:Creative Art
DESCRIPTION:
URL:https://towerlane.org/event/creative-art-23/2024-07-29/
LOCATION:Tower One 20th Floor
END:VEVENT
BEGIN:VEVENT
DTSTART;TZID=America/New_York:20240726T110000
DTEND;TZID=America/New_York:20240726T110000
DTSTAMP:20260420T151457
CREATED:20240630T150605Z
LAST-MODIFIED:20240630T150605Z
UID:13961-1721991600-1721991600@towerlane.org
SUMMARY:Knitting Group
DESCRIPTION:
URL:https://towerlane.org/event/knitting-group-56/
LOCATION:Tower One 20th Floor
END:VEVENT
BEGIN:VEVENT
DTSTART;TZID=America/New_York:20240725T130000
DTEND;TZID=America/New_York:20240725T130000
DTSTAMP:20260420T151457
CREATED:20240630T150421Z
LAST-MODIFIED:20240630T150421Z
UID:13955-1721912400-1721912400@towerlane.org
SUMMARY:Catholic Mass
DESCRIPTION:
URL:https://towerlane.org/event/catholic-mass-48/
LOCATION:Tower One 20th Floor
END:VEVENT
BEGIN:VEVENT
DTSTART;TZID=America/New_York:20240722T111500
DTEND;TZID=America/New_York:20240722T111500
DTSTAMP:20260420T151457
CREATED:20240629T145824Z
LAST-MODIFIED:20240629T145824Z
UID:13801-1721646900-1721646900@towerlane.org
SUMMARY:Creative Art
DESCRIPTION:
URL:https://towerlane.org/event/creative-art-23/2024-07-22/
LOCATION:Tower One 20th Floor
END:VEVENT
BEGIN:VEVENT
DTSTART;TZID=America/New_York:20240716T094500
DTEND;TZID=America/New_York:20240716T094500
DTSTAMP:20260420T151457
CREATED:20240630T145351Z
LAST-MODIFIED:20240630T145351Z
UID:13929-1721123100-1721123100@towerlane.org
SUMMARY:Sewing Project
DESCRIPTION:
URL:https://towerlane.org/event/sewing-project-18/
LOCATION:Tower One 20th Floor
END:VEVENT
BEGIN:VEVENT
DTSTART;TZID=America/New_York:20240715T111500
DTEND;TZID=America/New_York:20240715T111500
DTSTAMP:20260420T151457
CREATED:20240629T145824Z
LAST-MODIFIED:20240629T145824Z
UID:13800-1721042100-1721042100@towerlane.org
SUMMARY:Creative Art
DESCRIPTION:
URL:https://towerlane.org/event/creative-art-23/2024-07-15/
LOCATION:Tower One 20th Floor
END:VEVENT
BEGIN:VEVENT
DTSTART;TZID=America/New_York:20240711T150000
DTEND;TZID=America/New_York:20240711T150000
DTSTAMP:20260420T151457
CREATED:20240630T145037Z
LAST-MODIFIED:20240630T145037Z
UID:13923-1720710000-1720710000@towerlane.org
SUMMARY:Book Club Meeting
DESCRIPTION:
URL:https://towerlane.org/event/book-club-meeting-15/
LOCATION:Tower One 20th Floor
END:VEVENT
BEGIN:VEVENT
DTSTART;TZID=America/New_York:20240711T130000
DTEND;TZID=America/New_York:20240711T130000
DTSTAMP:20260420T151457
CREATED:20240630T144918Z
LAST-MODIFIED:20240630T144918Z
UID:13919-1720702800-1720702800@towerlane.org
SUMMARY:Catholic Mass
DESCRIPTION:
URL:https://towerlane.org/event/catholic-mass-47/
LOCATION:Tower One 20th Floor
END:VEVENT
BEGIN:VEVENT
DTSTART;TZID=America/New_York:20240702T094500
DTEND;TZID=America/New_York:20240702T094500
DTSTAMP:20260420T151457
CREATED:20240629T150307Z
LAST-MODIFIED:20240629T150307Z
UID:13813-1719913500-1719913500@towerlane.org
SUMMARY:Sewing Project
DESCRIPTION:
URL:https://towerlane.org/event/sewing-project-17/
LOCATION:Tower One 20th Floor
END:VEVENT
END:VCALENDAR