BEGIN:VCALENDAR
VERSION:2.0
PRODID:-//The Towers - ECPv6.10.3//NONSGML v1.0//EN
CALSCALE:GREGORIAN
METHOD:PUBLISH
X-ORIGINAL-URL:https://towerlane.org
X-WR-CALDESC:Events for The Towers
REFRESH-INTERVAL;VALUE=DURATION:PT1H
X-Robots-Tag:noindex
X-PUBLISHED-TTL:PT1H
BEGIN:VTIMEZONE
TZID:America/New_York
BEGIN:DAYLIGHT
TZOFFSETFROM:-0500
TZOFFSETTO:-0400
TZNAME:EDT
DTSTART:20240310T070000
END:DAYLIGHT
BEGIN:STANDARD
TZOFFSETFROM:-0400
TZOFFSETTO:-0500
TZNAME:EST
DTSTART:20241103T060000
END:STANDARD
END:VTIMEZONE
BEGIN:VEVENT
DTSTART;TZID=America/New_York:20240525T190000
DTEND;TZID=America/New_York:20240525T190000
DTSTAMP:20260420T080246
CREATED:20240507T134130Z
LAST-MODIFIED:20240507T134130Z
UID:13470-1716663600-1716663600@towerlane.org
SUMMARY:Movie Night
DESCRIPTION:
URL:https://towerlane.org/event/movie-night-39/2024-05-25/
LOCATION:East Lounge
END:VEVENT
BEGIN:VEVENT
DTSTART;TZID=America/New_York:20240518T190000
DTEND;TZID=America/New_York:20240518T190000
DTSTAMP:20260420T080246
CREATED:20240507T134130Z
LAST-MODIFIED:20240507T134130Z
UID:13469-1716058800-1716058800@towerlane.org
SUMMARY:Movie Night
DESCRIPTION:
URL:https://towerlane.org/event/movie-night-39/2024-05-18/
LOCATION:East Lounge
END:VEVENT
BEGIN:VEVENT
DTSTART;TZID=America/New_York:20240511T190000
DTEND;TZID=America/New_York:20240511T190000
DTSTAMP:20260420T080246
CREATED:20240507T134130Z
LAST-MODIFIED:20240507T134130Z
UID:13468-1715454000-1715454000@towerlane.org
SUMMARY:Movie Night
DESCRIPTION:
URL:https://towerlane.org/event/movie-night-39/2024-05-11/
LOCATION:East Lounge
END:VEVENT
BEGIN:VEVENT
DTSTART;TZID=America/New_York:20240504T190000
DTEND;TZID=America/New_York:20240504T190000
DTSTAMP:20260420T080246
CREATED:20240507T134130Z
LAST-MODIFIED:20240507T134130Z
UID:13467-1714849200-1714849200@towerlane.org
SUMMARY:Movie Night
DESCRIPTION:
URL:https://towerlane.org/event/movie-night-39/
LOCATION:East Lounge
END:VEVENT
END:VCALENDAR