BEGIN:VCALENDAR
VERSION:2.0
PRODID:-//The Towers - ECPv6.10.3//NONSGML v1.0//EN
CALSCALE:GREGORIAN
METHOD:PUBLISH
X-ORIGINAL-URL:https://towerlane.org
X-WR-CALDESC:Events for The Towers
REFRESH-INTERVAL;VALUE=DURATION:PT1H
X-Robots-Tag:noindex
X-PUBLISHED-TTL:PT1H
BEGIN:VTIMEZONE
TZID:America/New_York
BEGIN:DAYLIGHT
TZOFFSETFROM:-0500
TZOFFSETTO:-0400
TZNAME:EDT
DTSTART:20250309T070000
END:DAYLIGHT
BEGIN:STANDARD
TZOFFSETFROM:-0400
TZOFFSETTO:-0500
TZNAME:EST
DTSTART:20251102T060000
END:STANDARD
END:VTIMEZONE
BEGIN:VEVENT
DTSTART;TZID=America/New_York:20250425T183000
DTEND;TZID=America/New_York:20250425T183000
DTSTAMP:20260420T175814
CREATED:20250402T150859Z
LAST-MODIFIED:20250402T150859Z
UID:16417-1745605800-1745605800@towerlane.org
SUMMARY:Shabbat
DESCRIPTION:
URL:https://towerlane.org/event/shabbat-67/2025-04-25/
LOCATION:Sanctuary
END:VEVENT
BEGIN:VEVENT
DTSTART;TZID=America/New_York:20250418T183000
DTEND;TZID=America/New_York:20250418T183000
DTSTAMP:20260420T175814
CREATED:20250402T150859Z
LAST-MODIFIED:20250402T150859Z
UID:16416-1745001000-1745001000@towerlane.org
SUMMARY:Shabbat
DESCRIPTION:
URL:https://towerlane.org/event/shabbat-67/2025-04-18/
LOCATION:Sanctuary
END:VEVENT
BEGIN:VEVENT
DTSTART;TZID=America/New_York:20250411T183000
DTEND;TZID=America/New_York:20250411T183000
DTSTAMP:20260420T175814
CREATED:20250402T150859Z
LAST-MODIFIED:20250402T150859Z
UID:16415-1744396200-1744396200@towerlane.org
SUMMARY:Shabbat
DESCRIPTION:
URL:https://towerlane.org/event/shabbat-67/2025-04-11/
LOCATION:Sanctuary
END:VEVENT
BEGIN:VEVENT
DTSTART;TZID=America/New_York:20250404T183000
DTEND;TZID=America/New_York:20250404T183000
DTSTAMP:20260420T175814
CREATED:20250402T150859Z
LAST-MODIFIED:20250402T150859Z
UID:16414-1743791400-1743791400@towerlane.org
SUMMARY:Shabbat
DESCRIPTION:
URL:https://towerlane.org/event/shabbat-67/2025-04-04/
LOCATION:Sanctuary
END:VEVENT
END:VCALENDAR