BEGIN:VCALENDAR
VERSION:2.0
PRODID:-//The Towers - ECPv6.10.3//NONSGML v1.0//EN
CALSCALE:GREGORIAN
METHOD:PUBLISH
X-WR-CALNAME:The Towers
X-ORIGINAL-URL:https://towerlane.org
X-WR-CALDESC:Events for The Towers
REFRESH-INTERVAL;VALUE=DURATION:PT1H
X-Robots-Tag:noindex
X-PUBLISHED-TTL:PT1H
BEGIN:VTIMEZONE
TZID:America/New_York
BEGIN:DAYLIGHT
TZOFFSETFROM:-0500
TZOFFSETTO:-0400
TZNAME:EDT
DTSTART:20260308T070000
END:DAYLIGHT
BEGIN:STANDARD
TZOFFSETFROM:-0400
TZOFFSETTO:-0500
TZNAME:EST
DTSTART:20261101T060000
END:STANDARD
END:VTIMEZONE
BEGIN:VEVENT
DTSTART;TZID=America/New_York:20260421T110000
DTEND;TZID=America/New_York:20260421T110000
DTSTAMP:20260421T060242
CREATED:20260330T210347Z
LAST-MODIFIED:20260330T210347Z
UID:20299-1776769200-1776769200@towerlane.org
SUMMARY:Create a Word
DESCRIPTION:Part of our Intellectual Pathway.\nPopular resident-led word puzzle game that challenges the mind.
URL:https://towerlane.org/event/create-a-word-50/2026-04-21/
LOCATION:Tower One 19th Floor
END:VEVENT
BEGIN:VEVENT
DTSTART;TZID=America/New_York:20260421T113000
DTEND;TZID=America/New_York:20260421T113000
DTSTAMP:20260421T060242
CREATED:20260330T210524Z
LAST-MODIFIED:20260330T210524Z
UID:20304-1776771000-1776771000@towerlane.org
SUMMARY:30-Minute Exercise
DESCRIPTION:Part of our Physical Pathway.\n\nA shortened\, modified version of our Healthy & Fit. These sessions are typically performed half seated\, half standing\, and can be modified to most ability levels. Practical strategies for minimizing fall risk are discussed.
URL:https://towerlane.org/event/30-minute-exercise-39/2026-04-21/
LOCATION:Sanctuary
END:VEVENT
BEGIN:VEVENT
DTSTART;TZID=America/New_York:20260421T130000
DTEND;TZID=America/New_York:20260421T130000
DTSTAMP:20260421T060242
CREATED:20260330T210723Z
LAST-MODIFIED:20260330T210723Z
UID:20309-1776776400-1776776400@towerlane.org
SUMMARY:Interactive Music
DESCRIPTION:Part of our Psychological Pathway.\nMusic therapy uses several different interventions to promote wellness and manage stress. It encourages communication and expression through musical interaction and it is just a lot of fun!  Led by certified music therapist Tess Sandler.
URL:https://towerlane.org/event/interactive-music-47/2026-04-21/
LOCATION:Dining Room
END:VEVENT
BEGIN:VEVENT
DTSTART;TZID=America/New_York:20260421T140000
DTEND;TZID=America/New_York:20260421T140000
DTSTAMP:20260421T060242
CREATED:20260330T220542Z
LAST-MODIFIED:20260330T220542Z
UID:20408-1776780000-1776780000@towerlane.org
SUMMARY:Morrison Food Talk
DESCRIPTION:
URL:https://towerlane.org/event/morrison-food-talk-8/
LOCATION:Dining Room
END:VEVENT
BEGIN:VEVENT
DTSTART;TZID=America/New_York:20260421T150000
DTEND;TZID=America/New_York:20260421T150000
DTSTAMP:20260421T060242
CREATED:20260330T220752Z
LAST-MODIFIED:20260330T220752Z
UID:20410-1776783600-1776783600@towerlane.org
SUMMARY:Lego Building
DESCRIPTION:
URL:https://towerlane.org/event/lego-building/
LOCATION:Creativity Studio
END:VEVENT
BEGIN:VEVENT
DTSTART;TZID=America/New_York:20260421T190000
DTEND;TZID=America/New_York:20260421T190000
DTSTAMP:20260421T060242
CREATED:20260330T220845Z
LAST-MODIFIED:20260330T220845Z
UID:20412-1776798000-1776798000@towerlane.org
SUMMARY:Lecture Screening: "Dark Matter & The Dinosaurs"
DESCRIPTION:
URL:https://towerlane.org/event/lecture-screening-dark-matter-the-dinosaurs/
LOCATION:Sanctuary
END:VEVENT
END:VCALENDAR