BEGIN:VCALENDAR
VERSION:2.0
PRODID:-//The Towers - ECPv6.10.3//NONSGML v1.0//EN
CALSCALE:GREGORIAN
METHOD:PUBLISH
X-WR-CALNAME:The Towers
X-ORIGINAL-URL:https://towerlane.org
X-WR-CALDESC:Events for The Towers
REFRESH-INTERVAL;VALUE=DURATION:PT1H
X-Robots-Tag:noindex
X-PUBLISHED-TTL:PT1H
BEGIN:VTIMEZONE
TZID:America/New_York
BEGIN:DAYLIGHT
TZOFFSETFROM:-0500
TZOFFSETTO:-0400
TZNAME:EDT
DTSTART:20230312T070000
END:DAYLIGHT
BEGIN:STANDARD
TZOFFSETFROM:-0400
TZOFFSETTO:-0500
TZNAME:EST
DTSTART:20231105T060000
END:STANDARD
END:VTIMEZONE
BEGIN:VEVENT
DTSTART;TZID=America/New_York:20230501T100000
DTEND;TZID=America/New_York:20230501T100000
DTSTAMP:20260425T100741
CREATED:20230429T145823Z
LAST-MODIFIED:20230429T145823Z
UID:10415-1682935200-1682935200@towerlane.org
SUMMARY:Coffee Klatch
DESCRIPTION:
URL:https://towerlane.org/event/coffee-klatch-11/2023-05-01/
LOCATION:Tower East Meeting Room
END:VEVENT
BEGIN:VEVENT
DTSTART;TZID=America/New_York:20230501T110000
DTEND;TZID=America/New_York:20230501T110000
DTSTAMP:20260425T100742
CREATED:20230429T145933Z
LAST-MODIFIED:20230429T145933Z
UID:10420-1682938800-1682938800@towerlane.org
SUMMARY:Creative Art
DESCRIPTION:
URL:https://towerlane.org/event/creative-art-7/2023-05-01/
LOCATION:Tower East Meeting Room
END:VEVENT
BEGIN:VEVENT
DTSTART;TZID=America/New_York:20230501T130000
DTEND;TZID=America/New_York:20230501T130000
DTSTAMP:20260425T100742
CREATED:20230429T150115Z
LAST-MODIFIED:20230429T150115Z
UID:10425-1682946000-1682946000@towerlane.org
SUMMARY:Healthy & Fit
DESCRIPTION:
URL:https://towerlane.org/event/healthy-fit-14/2023-05-01/
LOCATION:Tower East Meeting Room
END:VEVENT
BEGIN:VEVENT
DTSTART;TZID=America/New_York:20230501T141500
DTEND;TZID=America/New_York:20230501T141500
DTSTAMP:20260425T100742
CREATED:20230429T150237Z
LAST-MODIFIED:20230429T150237Z
UID:10429-1682950500-1682950500@towerlane.org
SUMMARY:Bingo
DESCRIPTION:
URL:https://towerlane.org/event/bingo-64/2023-05-01/
LOCATION:Tower East Meeting Room
END:VEVENT
BEGIN:VEVENT
DTSTART;TZID=America/New_York:20230501T190000
DTEND;TZID=America/New_York:20230501T190000
DTSTAMP:20260425T100742
CREATED:20230429T150333Z
LAST-MODIFIED:20230429T150333Z
UID:10433-1682967600-1682967600@towerlane.org
SUMMARY:Classic Movie/TV Series Night
DESCRIPTION:
URL:https://towerlane.org/event/classic-movie-tv-series-night/
LOCATION:Tower East Meeting Room
END:VEVENT
BEGIN:VEVENT
DTSTART;TZID=America/New_York:20230502T100000
DTEND;TZID=America/New_York:20230502T100000
DTSTAMP:20260425T100742
CREATED:20230429T150452Z
LAST-MODIFIED:20230429T150452Z
UID:10435-1683021600-1683021600@towerlane.org
SUMMARY:Dining Scarf Project
DESCRIPTION:
URL:https://towerlane.org/event/dining-scarf-project-17/
LOCATION:Tower East Meeting Room
END:VEVENT
BEGIN:VEVENT
DTSTART;TZID=America/New_York:20230502T104500
DTEND;TZID=America/New_York:20230502T104500
DTSTAMP:20260425T100742
CREATED:20230429T150706Z
LAST-MODIFIED:20230429T150706Z
UID:10437-1683024300-1683024300@towerlane.org
SUMMARY:Create a Word
DESCRIPTION:
URL:https://towerlane.org/event/create-a-word-12/2023-05-02/
LOCATION:Tower One 20th Floor
END:VEVENT
BEGIN:VEVENT
DTSTART;TZID=America/New_York:20230502T130000
DTEND;TZID=America/New_York:20230502T130000
DTSTAMP:20260425T100742
CREATED:20230429T150813Z
LAST-MODIFIED:20230429T150813Z
UID:10443-1683032400-1683032400@towerlane.org
SUMMARY:Interactive Music
DESCRIPTION:
URL:https://towerlane.org/event/interactive-music-8/2023-05-02/
LOCATION:Tower East Meeting Room
END:VEVENT
BEGIN:VEVENT
DTSTART;TZID=America/New_York:20230502T140000
DTEND;TZID=America/New_York:20230502T140000
DTSTAMP:20260425T100742
CREATED:20230429T150941Z
LAST-MODIFIED:20230429T150941Z
UID:10449-1683036000-1683036000@towerlane.org
SUMMARY:Yiddish
DESCRIPTION:
URL:https://towerlane.org/event/yiddish-9/2023-05-02/
LOCATION:Tower East Meeting Room
END:VEVENT
BEGIN:VEVENT
DTSTART;TZID=America/New_York:20230502T190000
DTEND;TZID=America/New_York:20230502T190000
DTSTAMP:20260425T100742
CREATED:20230429T151019Z
LAST-MODIFIED:20230429T151019Z
UID:10455-1683054000-1683054000@towerlane.org
SUMMARY:Movie & Discussion with Jim B.
DESCRIPTION:
URL:https://towerlane.org/event/movie-discussion-with-jim-b-11/
LOCATION:Tower East Meeting Room
END:VEVENT
BEGIN:VEVENT
DTSTART;TZID=America/New_York:20230503T130000
DTEND;TZID=America/New_York:20230503T130000
DTSTAMP:20260425T100742
CREATED:20230429T151120Z
LAST-MODIFIED:20230429T151120Z
UID:10457-1683118800-1683118800@towerlane.org
SUMMARY:Healthy & Fit
DESCRIPTION:
URL:https://towerlane.org/event/healthy-fit-15/2023-05-03/
LOCATION:Tower East Meeting Room
END:VEVENT
BEGIN:VEVENT
DTSTART;TZID=America/New_York:20230503T140000
DTEND;TZID=America/New_York:20230503T140000
DTSTAMP:20260425T100742
CREATED:20230429T151308Z
LAST-MODIFIED:20230429T151308Z
UID:10463-1683122400-1683122400@towerlane.org
SUMMARY:JFS Support Group
DESCRIPTION:
URL:https://towerlane.org/event/jfs-support-group-18/2023-05-03/
LOCATION:Tower One 19th Floor
END:VEVENT
BEGIN:VEVENT
DTSTART;TZID=America/New_York:20230503T150000
DTEND;TZID=America/New_York:20230503T150000
DTSTAMP:20260425T100742
CREATED:20230429T151416Z
LAST-MODIFIED:20230429T151416Z
UID:10469-1683126000-1683126000@towerlane.org
SUMMARY:Dining Meeting
DESCRIPTION:
URL:https://towerlane.org/event/dining-meeting-5/
LOCATION:Tower East Meeting Room
END:VEVENT
BEGIN:VEVENT
DTSTART;TZID=America/New_York:20230504T110000
DTEND;TZID=America/New_York:20230504T110000
DTSTAMP:20260425T100742
CREATED:20230429T151511Z
LAST-MODIFIED:20230429T151511Z
UID:10471-1683198000-1683198000@towerlane.org
SUMMARY:Mindfulness & Movement
DESCRIPTION:
URL:https://towerlane.org/event/mindfulness-movement-5/
LOCATION:Tower East Meeting Room
END:VEVENT
BEGIN:VEVENT
DTSTART;TZID=America/New_York:20230504T130000
DTEND;TZID=America/New_York:20230504T130000
DTSTAMP:20260425T100742
CREATED:20230429T151552Z
LAST-MODIFIED:20230429T151552Z
UID:10473-1683205200-1683205200@towerlane.org
SUMMARY:Catholic Mass
DESCRIPTION:
URL:https://towerlane.org/event/catholic-mass-17/
LOCATION:Tower East Meeting Room
END:VEVENT
BEGIN:VEVENT
DTSTART;TZID=America/New_York:20230504T130000
DTEND;TZID=America/New_York:20230504T130000
DTSTAMP:20260425T100742
CREATED:20230429T151709Z
LAST-MODIFIED:20230429T151709Z
UID:10475-1683205200-1683205200@towerlane.org
SUMMARY:Torah Study with Ruthie
DESCRIPTION:
URL:https://towerlane.org/event/torah-study-with-ruthie-4/2023-05-04/
LOCATION:Tower One 19th Floor
END:VEVENT
BEGIN:VEVENT
DTSTART;TZID=America/New_York:20230504T140000
DTEND;TZID=America/New_York:20230504T140000
DTSTAMP:20260425T100742
CREATED:20230429T151841Z
LAST-MODIFIED:20230429T151841Z
UID:10479-1683208800-1683208800@towerlane.org
SUMMARY:Quattro de Mayo Social Hour
DESCRIPTION:
URL:https://towerlane.org/event/quattro-de-mayo-social-hour/
LOCATION:Tower East Meeting Room
END:VEVENT
BEGIN:VEVENT
DTSTART;VALUE=DATE:20230505
DTEND;VALUE=DATE:20230506
DTSTAMP:20260425T100742
CREATED:20230429T152418Z
LAST-MODIFIED:20230429T152418Z
UID:10495-1683244800-1683331199@towerlane.org
SUMMARY:AFTERNOON TOWER EAST MEETING ROOM PROGRAMS CANCELED
DESCRIPTION:
URL:https://towerlane.org/event/afternoon-tower-east-meeting-room-programs-canceled/
END:VEVENT
BEGIN:VEVENT
DTSTART;TZID=America/New_York:20230505T100000
DTEND;TZID=America/New_York:20230505T100000
DTSTAMP:20260425T100742
CREATED:20230429T151938Z
LAST-MODIFIED:20230429T151938Z
UID:10481-1683280800-1683280800@towerlane.org
SUMMARY:Bible Study
DESCRIPTION:
URL:https://towerlane.org/event/bible-study-32/
LOCATION:Tower One 20th Floor
END:VEVENT
BEGIN:VEVENT
DTSTART;TZID=America/New_York:20230505T110000
DTEND;TZID=America/New_York:20230505T110000
DTSTAMP:20260425T100742
CREATED:20230429T152050Z
LAST-MODIFIED:20230429T152050Z
UID:10483-1683284400-1683284400@towerlane.org
SUMMARY:Hopkins Students Visit
DESCRIPTION:
URL:https://towerlane.org/event/hopkins-students-visit-2/
LOCATION:Tower One 20th Floor
END:VEVENT
BEGIN:VEVENT
DTSTART;TZID=America/New_York:20230505T110000
DTEND;TZID=America/New_York:20230505T110000
DTSTAMP:20260425T100742
CREATED:20230429T152156Z
LAST-MODIFIED:20230429T152156Z
UID:10485-1683284400-1683284400@towerlane.org
SUMMARY:Knitting Group
DESCRIPTION:
URL:https://towerlane.org/event/knitting-group-29/2023-05-05/
LOCATION:Tower One 19th Floor
END:VEVENT
BEGIN:VEVENT
DTSTART;TZID=America/New_York:20230505T184500
DTEND;TZID=America/New_York:20230505T184500
DTSTAMP:20260425T100742
CREATED:20230429T152307Z
LAST-MODIFIED:20230429T152307Z
UID:10490-1683312300-1683312300@towerlane.org
SUMMARY:Shabbat
DESCRIPTION:
URL:https://towerlane.org/event/shabbat-17/2023-05-05/
LOCATION:Tower East Meeting Room
END:VEVENT
BEGIN:VEVENT
DTSTART;TZID=America/New_York:20230506T100000
DTEND;TZID=America/New_York:20230506T100000
DTSTAMP:20260425T100742
CREATED:20230429T152547Z
LAST-MODIFIED:20230429T152547Z
UID:10497-1683367200-1683367200@towerlane.org
SUMMARY:Shabbat
DESCRIPTION:
URL:https://towerlane.org/event/shabbat-18/2023-05-06/
LOCATION:Tower East Meeting Room
END:VEVENT
BEGIN:VEVENT
DTSTART;TZID=America/New_York:20230506T140000
DTEND;TZID=America/New_York:20230506T140000
DTSTAMP:20260425T100742
CREATED:20230429T152714Z
LAST-MODIFIED:20230429T152714Z
UID:10502-1683381600-1683381600@towerlane.org
SUMMARY:Bingo
DESCRIPTION:
URL:https://towerlane.org/event/bingo-65/2023-05-06/
LOCATION:Tower East Meeting Room
END:VEVENT
BEGIN:VEVENT
DTSTART;TZID=America/New_York:20230506T153000
DTEND;TZID=America/New_York:20230506T153000
DTSTAMP:20260425T100742
CREATED:20230429T152800Z
LAST-MODIFIED:20230429T152800Z
UID:10506-1683387000-1683387000@towerlane.org
SUMMARY:Christian Worship Service
DESCRIPTION:
URL:https://towerlane.org/event/christian-worship-service-6/
LOCATION:Tower East Meeting Room
END:VEVENT
BEGIN:VEVENT
DTSTART;TZID=America/New_York:20230506T190000
DTEND;TZID=America/New_York:20230506T190000
DTSTAMP:20260425T100742
CREATED:20230429T152845Z
LAST-MODIFIED:20230429T152845Z
UID:10508-1683399600-1683399600@towerlane.org
SUMMARY:Movie Night
DESCRIPTION:
URL:https://towerlane.org/event/movie-night-24/2023-05-06/
LOCATION:Tower East Meeting Room
END:VEVENT
BEGIN:VEVENT
DTSTART;TZID=America/New_York:20230507T110000
DTEND;TZID=America/New_York:20230507T110000
DTSTAMP:20260425T100742
CREATED:20230429T153016Z
LAST-MODIFIED:20230429T153016Z
UID:10513-1683457200-1683457200@towerlane.org
SUMMARY:Chair Yoga
DESCRIPTION:
URL:https://towerlane.org/event/chair-yoga-11/2023-05-07/
LOCATION:Tower East Meeting Room
END:VEVENT
BEGIN:VEVENT
DTSTART;TZID=America/New_York:20230507T140000
DTEND;TZID=America/New_York:20230507T140000
DTSTAMP:20260425T100742
CREATED:20230429T153113Z
LAST-MODIFIED:20230429T153113Z
UID:10517-1683468000-1683468000@towerlane.org
SUMMARY:Afternoon Movie
DESCRIPTION:
URL:https://towerlane.org/event/afternoon-movie-15/
LOCATION:Tower East Meeting Room
END:VEVENT
BEGIN:VEVENT
DTSTART;VALUE=DATE:20230508
DTEND;VALUE=DATE:20230509
DTSTAMP:20260425T100742
CREATED:20230429T165952Z
LAST-MODIFIED:20230429T165952Z
UID:10521-1683504000-1683590399@towerlane.org
SUMMARY:NO EXERCISE TODAY. BINGO IS TENTATIVE
DESCRIPTION:
URL:https://towerlane.org/event/no-exercise-today-bingo-is-tentative/
END:VEVENT
BEGIN:VEVENT
DTSTART;TZID=America/New_York:20230508T130000
DTEND;TZID=America/New_York:20230508T130000
DTSTAMP:20260425T100742
CREATED:20230429T165919Z
LAST-MODIFIED:20230429T165919Z
UID:10519-1683550800-1683550800@towerlane.org
SUMMARY:Special Meeting with Tim Smith from Morrison Living
DESCRIPTION:
URL:https://towerlane.org/event/special-meeting-with-tim-smith-from-morrison-living/
LOCATION:Tower East Meeting Room
END:VEVENT
END:VCALENDAR