BEGIN:VCALENDAR
VERSION:2.0
PRODID:-//The Towers - ECPv6.10.3//NONSGML v1.0//EN
CALSCALE:GREGORIAN
METHOD:PUBLISH
X-ORIGINAL-URL:https://towerlane.org
X-WR-CALDESC:Events for The Towers
REFRESH-INTERVAL;VALUE=DURATION:PT1H
X-Robots-Tag:noindex
X-PUBLISHED-TTL:PT1H
BEGIN:VTIMEZONE
TZID:America/New_York
BEGIN:DAYLIGHT
TZOFFSETFROM:-0500
TZOFFSETTO:-0400
TZNAME:EDT
DTSTART:20240310T070000
END:DAYLIGHT
BEGIN:STANDARD
TZOFFSETFROM:-0400
TZOFFSETTO:-0500
TZNAME:EST
DTSTART:20241103T060000
END:STANDARD
END:VTIMEZONE
BEGIN:VEVENT
DTSTART;TZID=America/New_York:20240201T113000
DTEND;TZID=America/New_York:20240201T113000
DTSTAMP:20260424T201152
CREATED:20240131T210445Z
LAST-MODIFIED:20240131T210445Z
UID:12782-1706787000-1706787000@towerlane.org
SUMMARY:30 Minute Balance
DESCRIPTION:
URL:https://towerlane.org/event/30-minute-balance-9/
LOCATION:Tower East Meeting Room
END:VEVENT
BEGIN:VEVENT
DTSTART;TZID=America/New_York:20240201T130000
DTEND;TZID=America/New_York:20240201T130000
DTSTAMP:20260424T201152
CREATED:20240131T210614Z
LAST-MODIFIED:20240131T210614Z
UID:12785-1706792400-1706792400@towerlane.org
SUMMARY:Torah Study with Ruthie
DESCRIPTION:
URL:https://towerlane.org/event/torah-study-with-ruthie-12/
LOCATION:Tower One 19th Floor
END:VEVENT
BEGIN:VEVENT
DTSTART;TZID=America/New_York:20240201T140000
DTEND;TZID=America/New_York:20240201T140000
DTSTAMP:20260424T201152
CREATED:20240131T210720Z
LAST-MODIFIED:20240131T210720Z
UID:12790-1706796000-1706796000@towerlane.org
SUMMARY:History Channel Documentary Screening: "King"
DESCRIPTION:
URL:https://towerlane.org/event/history-channel-documentary-screening-king/
LOCATION:Tower East Meeting Room
END:VEVENT
BEGIN:VEVENT
DTSTART;TZID=America/New_York:20240202T100000
DTEND;TZID=America/New_York:20240202T100000
DTSTAMP:20260424T201152
CREATED:20240131T210815Z
LAST-MODIFIED:20240131T210815Z
UID:12792-1706868000-1706868000@towerlane.org
SUMMARY:Bible Study
DESCRIPTION:
URL:https://towerlane.org/event/bible-study-50/
LOCATION:Tower East Meeting Room
END:VEVENT
BEGIN:VEVENT
DTSTART;TZID=America/New_York:20240202T110000
DTEND;TZID=America/New_York:20240202T110000
DTSTAMP:20260424T201152
CREATED:20240131T210857Z
LAST-MODIFIED:20240131T210857Z
UID:12794-1706871600-1706871600@towerlane.org
SUMMARY:All About You
DESCRIPTION:
URL:https://towerlane.org/event/all-about-you-22/
LOCATION:Tower One 19th Floor
END:VEVENT
BEGIN:VEVENT
DTSTART;TZID=America/New_York:20240202T110000
DTEND;TZID=America/New_York:20240202T110000
DTSTAMP:20260424T201152
CREATED:20240131T210954Z
LAST-MODIFIED:20240131T210954Z
UID:12796-1706871600-1706871600@towerlane.org
SUMMARY:Knitting Group
DESCRIPTION:
URL:https://towerlane.org/event/knitting-group-44/
LOCATION:Tower One 20th Floor
END:VEVENT
BEGIN:VEVENT
DTSTART;TZID=America/New_York:20240202T140000
DTEND;TZID=America/New_York:20240202T140000
DTSTAMP:20260424T201152
CREATED:20240131T211118Z
LAST-MODIFIED:20240131T211118Z
UID:12798-1706882400-1706882400@towerlane.org
SUMMARY:Current Events
DESCRIPTION:
URL:https://towerlane.org/event/current-events-20/
LOCATION:Tower East Meeting Room
END:VEVENT
BEGIN:VEVENT
DTSTART;TZID=America/New_York:20240202T184500
DTEND;TZID=America/New_York:20240202T184500
DTSTAMP:20260424T201152
CREATED:20240131T211237Z
LAST-MODIFIED:20240131T211237Z
UID:12802-1706899500-1706899500@towerlane.org
SUMMARY:Shabbat
DESCRIPTION:
URL:https://towerlane.org/event/shabbat-38/
LOCATION:Tower East Meeting Room
END:VEVENT
BEGIN:VEVENT
DTSTART;TZID=America/New_York:20240203T100000
DTEND;TZID=America/New_York:20240203T100000
DTSTAMP:20260424T201152
CREATED:20240131T211338Z
LAST-MODIFIED:20240131T211338Z
UID:12807-1706954400-1706954400@towerlane.org
SUMMARY:Shabbat
DESCRIPTION:
URL:https://towerlane.org/event/shabbat-39/
LOCATION:Tower East Meeting Room
END:VEVENT
BEGIN:VEVENT
DTSTART;TZID=America/New_York:20240203T140000
DTEND;TZID=America/New_York:20240203T140000
DTSTAMP:20260424T201152
CREATED:20240131T211454Z
LAST-MODIFIED:20240131T211454Z
UID:12812-1706968800-1706968800@towerlane.org
SUMMARY:Bingo
DESCRIPTION:
URL:https://towerlane.org/event/bingo-88/
LOCATION:Tower East Meeting Room
END:VEVENT
BEGIN:VEVENT
DTSTART;TZID=America/New_York:20240203T190000
DTEND;TZID=America/New_York:20240203T190000
DTSTAMP:20260424T201152
CREATED:20240131T211533Z
LAST-MODIFIED:20240131T211533Z
UID:12817-1706986800-1706986800@towerlane.org
SUMMARY:Movie Night
DESCRIPTION:
URL:https://towerlane.org/event/movie-night-36/
LOCATION:Tower East Meeting Room
END:VEVENT
BEGIN:VEVENT
DTSTART;TZID=America/New_York:20240204T110000
DTEND;TZID=America/New_York:20240204T110000
DTSTAMP:20260424T201152
CREATED:20240131T211735Z
LAST-MODIFIED:20240131T211735Z
UID:12822-1707044400-1707044400@towerlane.org
SUMMARY:Chair Yoga
DESCRIPTION:
URL:https://towerlane.org/event/chair-yoga-23/
LOCATION:Tower East Meeting Room
END:VEVENT
BEGIN:VEVENT
DTSTART;TZID=America/New_York:20240204T130000
DTEND;TZID=America/New_York:20240204T130000
DTSTAMP:20260424T201152
CREATED:20240131T211915Z
LAST-MODIFIED:20240131T211915Z
UID:12826-1707051600-1707051600@towerlane.org
SUMMARY:Classic TV
DESCRIPTION:
URL:https://towerlane.org/event/classic-tv-4/
LOCATION:Tower East Meeting Room
END:VEVENT
BEGIN:VEVENT
DTSTART;TZID=America/New_York:20240205T110000
DTEND;TZID=America/New_York:20240205T110000
DTSTAMP:20260424T201152
CREATED:20240201T184922Z
LAST-MODIFIED:20240201T184922Z
UID:12828-1707130800-1707130800@towerlane.org
SUMMARY:Creative Art
DESCRIPTION:
URL:https://towerlane.org/event/creative-art-18/
LOCATION:Tower One 20th Floor
END:VEVENT
BEGIN:VEVENT
DTSTART;TZID=America/New_York:20240205T130000
DTEND;TZID=America/New_York:20240205T130000
DTSTAMP:20260424T201152
CREATED:20240201T185139Z
LAST-MODIFIED:20240201T185139Z
UID:12833-1707138000-1707138000@towerlane.org
SUMMARY:Tai Chi
DESCRIPTION:
URL:https://towerlane.org/event/tai-chi-15/
LOCATION:Tower East Meeting Room
END:VEVENT
BEGIN:VEVENT
DTSTART;TZID=America/New_York:20240205T140000
DTEND;TZID=America/New_York:20240205T140000
DTSTAMP:20260424T201152
CREATED:20240201T185420Z
LAST-MODIFIED:20240201T185420Z
UID:12841-1707141600-1707141600@towerlane.org
SUMMARY:Sports Trivia
DESCRIPTION:
URL:https://towerlane.org/event/sports-trivia-3/
LOCATION:Tower One 20th Floor
END:VEVENT
BEGIN:VEVENT
DTSTART;TZID=America/New_York:20240205T141500
DTEND;TZID=America/New_York:20240205T141500
DTSTAMP:20260424T201152
CREATED:20240201T185334Z
LAST-MODIFIED:20240201T185334Z
UID:12837-1707142500-1707142500@towerlane.org
SUMMARY:Bingo
DESCRIPTION:
URL:https://towerlane.org/event/bingo-89/
LOCATION:Tower East Meeting Room
END:VEVENT
BEGIN:VEVENT
DTSTART;TZID=America/New_York:20240205T184500
DTEND;TZID=America/New_York:20240205T184500
DTSTAMP:20260424T201152
CREATED:20240201T185534Z
LAST-MODIFIED:20240201T185534Z
UID:12843-1707158700-1707158700@towerlane.org
SUMMARY:Nourish Project
DESCRIPTION:
URL:https://towerlane.org/event/nourish-project-6/
LOCATION:Tower East Meeting Room
END:VEVENT
BEGIN:VEVENT
DTSTART;TZID=America/New_York:20240206T104500
DTEND;TZID=America/New_York:20240206T104500
DTSTAMP:20260424T201152
CREATED:20240201T185736Z
LAST-MODIFIED:20240201T185736Z
UID:12848-1707216300-1707216300@towerlane.org
SUMMARY:Create a Word
DESCRIPTION:
URL:https://towerlane.org/event/create-a-word-23/
LOCATION:Tower One 20th Floor
END:VEVENT
BEGIN:VEVENT
DTSTART;TZID=America/New_York:20240206T113000
DTEND;TZID=America/New_York:20240206T113000
DTSTAMP:20260424T201152
CREATED:20240201T185910Z
LAST-MODIFIED:20240201T185910Z
UID:12853-1707219000-1707219000@towerlane.org
SUMMARY:30 Minute Balance
DESCRIPTION:
URL:https://towerlane.org/event/30-minute-balance-10/
LOCATION:Tower East Meeting Room
END:VEVENT
BEGIN:VEVENT
DTSTART;TZID=America/New_York:20240206T130000
DTEND;TZID=America/New_York:20240206T130000
DTSTAMP:20260424T201152
CREATED:20240201T190040Z
LAST-MODIFIED:20240201T190040Z
UID:12857-1707224400-1707224400@towerlane.org
SUMMARY:Interactive Music
DESCRIPTION:
URL:https://towerlane.org/event/interactive-music-18/
LOCATION:Tower East Meeting Room
END:VEVENT
BEGIN:VEVENT
DTSTART;TZID=America/New_York:20240206T140000
DTEND;TZID=America/New_York:20240206T140000
DTSTAMP:20260424T201152
CREATED:20240201T190135Z
LAST-MODIFIED:20240201T190135Z
UID:12862-1707228000-1707228000@towerlane.org
SUMMARY:Yiddish
DESCRIPTION:
URL:https://towerlane.org/event/yiddish-21/
LOCATION:Tower East Meeting Room
END:VEVENT
BEGIN:VEVENT
DTSTART;TZID=America/New_York:20240206T190000
DTEND;TZID=America/New_York:20240206T190000
DTSTAMP:20260424T201152
CREATED:20240201T190216Z
LAST-MODIFIED:20240201T190216Z
UID:12867-1707246000-1707246000@towerlane.org
SUMMARY:Movie and Discussion with Jim Brochin
DESCRIPTION:
URL:https://towerlane.org/event/movie-and-discussion-with-jim-brochin-16/
LOCATION:Tower East Meeting Room
END:VEVENT
BEGIN:VEVENT
DTSTART;TZID=America/New_York:20240207T104500
DTEND;TZID=America/New_York:20240207T104500
DTSTAMP:20260424T201152
CREATED:20240201T190449Z
LAST-MODIFIED:20240201T190449Z
UID:12869-1707302700-1707302700@towerlane.org
SUMMARY:Chorus Rehearsal
DESCRIPTION:
URL:https://towerlane.org/event/chorus-rehearsal-11/
LOCATION:Tower East Meeting Room
END:VEVENT
BEGIN:VEVENT
DTSTART;TZID=America/New_York:20240207T110000
DTEND;TZID=America/New_York:20240207T130000
DTSTAMP:20260424T201152
CREATED:20240201T190553Z
LAST-MODIFIED:20240201T190553Z
UID:12874-1707303600-1707310800@towerlane.org
SUMMARY:Kristy Manning from Wilson Library
DESCRIPTION:
URL:https://towerlane.org/event/kristy-manning-from-wilson-library/
LOCATION:East Lounge
END:VEVENT
BEGIN:VEVENT
DTSTART;TZID=America/New_York:20240207T130000
DTEND;TZID=America/New_York:20240207T130000
DTSTAMP:20260424T201152
CREATED:20240201T190706Z
LAST-MODIFIED:20240201T190706Z
UID:12876-1707310800-1707310800@towerlane.org
SUMMARY:Healthy & Fit
DESCRIPTION:
URL:https://towerlane.org/event/healthy-fit-36/
LOCATION:Tower East Meeting Room
END:VEVENT
BEGIN:VEVENT
DTSTART;TZID=America/New_York:20240207T140000
DTEND;TZID=America/New_York:20240207T140000
DTSTAMP:20260424T201152
CREATED:20240201T190825Z
LAST-MODIFIED:20240201T190825Z
UID:12881-1707314400-1707314400@towerlane.org
SUMMARY:JFS Support Group
DESCRIPTION:
URL:https://towerlane.org/event/jfs-support-group-28/
LOCATION:Tower One 19th Floor
END:VEVENT
BEGIN:VEVENT
DTSTART;TZID=America/New_York:20240208T103000
DTEND;TZID=America/New_York:20240208T103000
DTSTAMP:20260424T201152
CREATED:20240201T190911Z
LAST-MODIFIED:20240201T190911Z
UID:12886-1707388200-1707388200@towerlane.org
SUMMARY:Catholic Mass
DESCRIPTION:
URL:https://towerlane.org/event/catholic-mass-37/
LOCATION:Tower East Meeting Room
END:VEVENT
BEGIN:VEVENT
DTSTART;TZID=America/New_York:20240208T133000
DTEND;TZID=America/New_York:20240208T133000
DTSTAMP:20260424T201152
CREATED:20240201T190950Z
LAST-MODIFIED:20240201T190950Z
UID:12888-1707399000-1707399000@towerlane.org
SUMMARY:Chorus Concert
DESCRIPTION:
URL:https://towerlane.org/event/chorus-concert-4/
LOCATION:Tower East Meeting Room
END:VEVENT
BEGIN:VEVENT
DTSTART;TZID=America/New_York:20240208T190000
DTEND;TZID=America/New_York:20240208T190000
DTSTAMP:20260424T201152
CREATED:20240201T191032Z
LAST-MODIFIED:20240201T191032Z
UID:12890-1707418800-1707418800@towerlane.org
SUMMARY:Democracy Series with Steve and Victor
DESCRIPTION:
URL:https://towerlane.org/event/democracy-series-with-steve-and-victor-11/
LOCATION:Tower East Meeting Room
END:VEVENT
END:VCALENDAR