BEGIN:VCALENDAR
VERSION:2.0
PRODID:-//The Towers - ECPv6.10.3//NONSGML v1.0//EN
CALSCALE:GREGORIAN
METHOD:PUBLISH
X-ORIGINAL-URL:https://towerlane.org
X-WR-CALDESC:Events for The Towers
REFRESH-INTERVAL;VALUE=DURATION:PT1H
X-Robots-Tag:noindex
X-PUBLISHED-TTL:PT1H
BEGIN:VTIMEZONE
TZID:America/New_York
BEGIN:DAYLIGHT
TZOFFSETFROM:-0500
TZOFFSETTO:-0400
TZNAME:EDT
DTSTART:20240310T070000
END:DAYLIGHT
BEGIN:STANDARD
TZOFFSETFROM:-0400
TZOFFSETTO:-0500
TZNAME:EST
DTSTART:20241103T060000
END:STANDARD
END:VTIMEZONE
BEGIN:VEVENT
DTSTART;TZID=America/New_York:20240301T130000
DTEND;TZID=America/New_York:20240301T130000
DTSTAMP:20260424T183728
CREATED:20240229T184907Z
LAST-MODIFIED:20240229T184907Z
UID:13011-1709298000-1709298000@towerlane.org
SUMMARY:Tai Chi
DESCRIPTION:
URL:https://towerlane.org/event/tai-chi-17/
LOCATION:Tower East Meeting Room
END:VEVENT
BEGIN:VEVENT
DTSTART;TZID=America/New_York:20240301T140000
DTEND;TZID=America/New_York:20240301T140000
DTSTAMP:20260424T183728
CREATED:20240229T185027Z
LAST-MODIFIED:20240229T185027Z
UID:13016-1709301600-1709301600@towerlane.org
SUMMARY:Current Events
DESCRIPTION:
URL:https://towerlane.org/event/current-events-21/
LOCATION:Tower East Meeting Room
END:VEVENT
BEGIN:VEVENT
DTSTART;TZID=America/New_York:20240301T184500
DTEND;TZID=America/New_York:20240301T184500
DTSTAMP:20260424T183728
CREATED:20240229T185142Z
LAST-MODIFIED:20240229T185142Z
UID:13022-1709318700-1709318700@towerlane.org
SUMMARY:Shabbat
DESCRIPTION:
URL:https://towerlane.org/event/shabbat-40/
LOCATION:Tower East Meeting Room
END:VEVENT
BEGIN:VEVENT
DTSTART;TZID=America/New_York:20240302T100000
DTEND;TZID=America/New_York:20240302T100000
DTSTAMP:20260424T183728
CREATED:20240229T185240Z
LAST-MODIFIED:20240229T185240Z
UID:13028-1709373600-1709373600@towerlane.org
SUMMARY:Shabbat
DESCRIPTION:
URL:https://towerlane.org/event/shabbat-41/
LOCATION:Tower East Meeting Room
END:VEVENT
BEGIN:VEVENT
DTSTART;TZID=America/New_York:20240302T140000
DTEND;TZID=America/New_York:20240302T140000
DTSTAMP:20260424T183728
CREATED:20240229T185508Z
LAST-MODIFIED:20240229T185508Z
UID:13030-1709388000-1709388000@towerlane.org
SUMMARY:Bingo
DESCRIPTION:
URL:https://towerlane.org/event/bingo-91/
LOCATION:Tower East Meeting Room
END:VEVENT
BEGIN:VEVENT
DTSTART;TZID=America/New_York:20240302T190000
DTEND;TZID=America/New_York:20240302T190000
DTSTAMP:20260424T183728
CREATED:20240229T185633Z
LAST-MODIFIED:20240229T185633Z
UID:13036-1709406000-1709406000@towerlane.org
SUMMARY:Movie Night
DESCRIPTION:
URL:https://towerlane.org/event/movie-night-37/
LOCATION:Tower East Meeting Room
END:VEVENT
BEGIN:VEVENT
DTSTART;TZID=America/New_York:20240303T130000
DTEND;TZID=America/New_York:20240303T130000
DTSTAMP:20260424T183728
CREATED:20240229T190000Z
LAST-MODIFIED:20240229T190000Z
UID:13046-1709470800-1709470800@towerlane.org
SUMMARY:Afternoon Movie
DESCRIPTION:
URL:https://towerlane.org/event/afternoon-movie-17/
LOCATION:Tower East Meeting Room
END:VEVENT
BEGIN:VEVENT
DTSTART;TZID=America/New_York:20240304T110000
DTEND;TZID=America/New_York:20240304T110000
DTSTAMP:20260424T183728
CREATED:20240229T190132Z
LAST-MODIFIED:20240229T190132Z
UID:13048-1709550000-1709550000@towerlane.org
SUMMARY:Creative Art
DESCRIPTION:
URL:https://towerlane.org/event/creative-art-19/
LOCATION:Tower One 20th Floor
END:VEVENT
BEGIN:VEVENT
DTSTART;TZID=America/New_York:20240304T130000
DTEND;TZID=America/New_York:20240304T130000
DTSTAMP:20260424T183728
CREATED:20240229T190256Z
LAST-MODIFIED:20240229T190256Z
UID:13053-1709557200-1709557200@towerlane.org
SUMMARY:Tai Chi
DESCRIPTION:
URL:https://towerlane.org/event/tai-chi-18/
LOCATION:Tower East Meeting Room
END:VEVENT
BEGIN:VEVENT
DTSTART;TZID=America/New_York:20240304T140000
DTEND;TZID=America/New_York:20240304T140000
DTSTAMP:20260424T183728
CREATED:20240229T190349Z
LAST-MODIFIED:20240229T190349Z
UID:13055-1709560800-1709560800@towerlane.org
SUMMARY:Bingo
DESCRIPTION:
URL:https://towerlane.org/event/bingo-92/
LOCATION:Tower East Meeting Room
END:VEVENT
BEGIN:VEVENT
DTSTART;TZID=America/New_York:20240304T153000
DTEND;TZID=America/New_York:20240304T153000
DTSTAMP:20260424T183728
CREATED:20240229T190431Z
LAST-MODIFIED:20240229T190431Z
UID:13057-1709566200-1709566200@towerlane.org
SUMMARY:Discussion with Rabbi Scolnic
DESCRIPTION:
URL:https://towerlane.org/event/discussion-with-rabbi-scolnic-10/
LOCATION:Tower East Meeting Room
END:VEVENT
BEGIN:VEVENT
DTSTART;TZID=America/New_York:20240305T104500
DTEND;TZID=America/New_York:20240305T104500
DTSTAMP:20260424T183728
CREATED:20240229T190700Z
LAST-MODIFIED:20240229T190700Z
UID:13059-1709635500-1709635500@towerlane.org
SUMMARY:Create a Word
DESCRIPTION:
URL:https://towerlane.org/event/create-a-word-24/
LOCATION:Tower One 19th Floor
END:VEVENT
BEGIN:VEVENT
DTSTART;TZID=America/New_York:20240305T113000
DTEND;TZID=America/New_York:20240305T113000
DTSTAMP:20260424T183728
CREATED:20240229T190828Z
LAST-MODIFIED:20240229T190828Z
UID:13064-1709638200-1709638200@towerlane.org
SUMMARY:30 Minute Balance
DESCRIPTION:
URL:https://towerlane.org/event/30-minute-balance-11/
LOCATION:Tower East Meeting Room
END:VEVENT
BEGIN:VEVENT
DTSTART;TZID=America/New_York:20240305T130000
DTEND;TZID=America/New_York:20240305T130000
DTSTAMP:20260424T183728
CREATED:20240229T190940Z
LAST-MODIFIED:20240229T190940Z
UID:13066-1709643600-1709643600@towerlane.org
SUMMARY:Interactive Music
DESCRIPTION:
URL:https://towerlane.org/event/interactive-music-19/
LOCATION:Tower East Meeting Room
END:VEVENT
BEGIN:VEVENT
DTSTART;TZID=America/New_York:20240305T190000
DTEND;TZID=America/New_York:20240305T190000
DTSTAMP:20260424T183728
CREATED:20240229T191018Z
LAST-MODIFIED:20240229T191018Z
UID:13068-1709665200-1709665200@towerlane.org
SUMMARY:Movie and Discussion with Jim Brochin
DESCRIPTION:
URL:https://towerlane.org/event/movie-and-discussion-with-jim-brochin-18/
LOCATION:Tower East Meeting Room
END:VEVENT
BEGIN:VEVENT
DTSTART;TZID=America/New_York:20240306T104500
DTEND;TZID=America/New_York:20240306T104500
DTSTAMP:20260424T183728
CREATED:20240229T191148Z
LAST-MODIFIED:20240229T191148Z
UID:13070-1709721900-1709721900@towerlane.org
SUMMARY:Chorus Rehearsal
DESCRIPTION:
URL:https://towerlane.org/event/chorus-rehearsal-12/
LOCATION:Tower East Meeting Room
END:VEVENT
BEGIN:VEVENT
DTSTART;TZID=America/New_York:20240306T130000
DTEND;TZID=America/New_York:20240306T130000
DTSTAMP:20260424T183728
CREATED:20240229T191257Z
LAST-MODIFIED:20240229T191257Z
UID:13075-1709730000-1709730000@towerlane.org
SUMMARY:Healthy & Fit
DESCRIPTION:
URL:https://towerlane.org/event/healthy-fit-38/
LOCATION:Tower East Meeting Room
END:VEVENT
BEGIN:VEVENT
DTSTART;TZID=America/New_York:20240306T140000
DTEND;TZID=America/New_York:20240306T140000
DTSTAMP:20260424T183728
CREATED:20240229T191441Z
LAST-MODIFIED:20240229T191441Z
UID:13080-1709733600-1709733600@towerlane.org
SUMMARY:JFS Support Group
DESCRIPTION:
URL:https://towerlane.org/event/jfs-support-group-29/
LOCATION:Tower One 19th Floor
END:VEVENT
BEGIN:VEVENT
DTSTART;TZID=America/New_York:20240307T110000
DTEND;TZID=America/New_York:20240307T110000
DTSTAMP:20260424T183728
CREATED:20240229T191533Z
LAST-MODIFIED:20240229T191533Z
UID:13084-1709809200-1709809200@towerlane.org
SUMMARY:Palliative Care Discussion with Laurie Ferraro
DESCRIPTION:
URL:https://towerlane.org/event/palliative-care-discussion-with-laurie-ferraro/
LOCATION:Tower East Meeting Room
END:VEVENT
BEGIN:VEVENT
DTSTART;TZID=America/New_York:20240307T130000
DTEND;TZID=America/New_York:20240307T130000
DTSTAMP:20260424T183728
CREATED:20240229T191620Z
LAST-MODIFIED:20240229T191620Z
UID:13086-1709816400-1709816400@towerlane.org
SUMMARY:Catholic Mass
DESCRIPTION:
URL:https://towerlane.org/event/catholic-mass-39/
LOCATION:Tower East Meeting Room
END:VEVENT
BEGIN:VEVENT
DTSTART;TZID=America/New_York:20240307T130000
DTEND;TZID=America/New_York:20240307T130000
DTSTAMP:20260424T183728
CREATED:20240229T191707Z
LAST-MODIFIED:20240229T191707Z
UID:13088-1709816400-1709816400@towerlane.org
SUMMARY:Torah Study with Ruthie
DESCRIPTION:
URL:https://towerlane.org/event/torah-study-with-ruthie-13/
LOCATION:Tower One 19th Floor
END:VEVENT
BEGIN:VEVENT
DTSTART;TZID=America/New_York:20240307T140000
DTEND;TZID=America/New_York:20240307T140000
DTSTAMP:20260424T183728
CREATED:20240229T191745Z
LAST-MODIFIED:20240229T191745Z
UID:13090-1709820000-1709820000@towerlane.org
SUMMARY:Morrison Food Demo
DESCRIPTION:
URL:https://towerlane.org/event/morrison-food-demo-4/
LOCATION:Tower East Meeting Room
END:VEVENT
BEGIN:VEVENT
DTSTART;TZID=America/New_York:20240307T190000
DTEND;TZID=America/New_York:20240307T190000
DTSTAMP:20260424T183728
CREATED:20240229T191825Z
LAST-MODIFIED:20240229T191825Z
UID:13092-1709838000-1709838000@towerlane.org
SUMMARY:Democracy Series with Steve and Victor
DESCRIPTION:
URL:https://towerlane.org/event/democracy-series-with-steve-and-victor-13/
LOCATION:Tower East Meeting Room
END:VEVENT
BEGIN:VEVENT
DTSTART;TZID=America/New_York:20240308T110000
DTEND;TZID=America/New_York:20240308T110000
DTSTAMP:20260424T183728
CREATED:20240229T191917Z
LAST-MODIFIED:20240229T191917Z
UID:13094-1709895600-1709895600@towerlane.org
SUMMARY:Hopkins Students Visit
DESCRIPTION:
URL:https://towerlane.org/event/hopkins-students-visit-3/
LOCATION:Tower East Meeting Room
END:VEVENT
BEGIN:VEVENT
DTSTART;TZID=America/New_York:20240308T110000
DTEND;TZID=America/New_York:20240308T110000
DTSTAMP:20260424T183728
CREATED:20240229T192013Z
LAST-MODIFIED:20240229T192013Z
UID:13096-1709895600-1709895600@towerlane.org
SUMMARY:All About You
DESCRIPTION:
URL:https://towerlane.org/event/all-about-you-24/
LOCATION:Tower One 19th Floor
END:VEVENT
BEGIN:VEVENT
DTSTART;TZID=America/New_York:20240308T140000
DTEND;TZID=America/New_York:20240308T140000
DTSTAMP:20260424T183728
CREATED:20240229T185027Z
LAST-MODIFIED:20240229T185027Z
UID:13017-1709906400-1709906400@towerlane.org
SUMMARY:Current Events
DESCRIPTION:
URL:https://towerlane.org/event/current-events-21/2024-03-08/
LOCATION:Tower East Meeting Room
END:VEVENT
BEGIN:VEVENT
DTSTART;TZID=America/New_York:20240308T184500
DTEND;TZID=America/New_York:20240308T184500
DTSTAMP:20260424T183728
CREATED:20240229T185142Z
LAST-MODIFIED:20240229T185142Z
UID:13023-1709923500-1709923500@towerlane.org
SUMMARY:Shabbat
DESCRIPTION:
URL:https://towerlane.org/event/shabbat-40/2024-03-08/
LOCATION:Tower East Meeting Room
END:VEVENT
BEGIN:VEVENT
DTSTART;TZID=America/New_York:20240309T100000
DTEND;TZID=America/New_York:20240309T100000
DTSTAMP:20260424T183728
CREATED:20240229T185819Z
LAST-MODIFIED:20240229T185819Z
UID:13041-1709978400-1709978400@towerlane.org
SUMMARY:Shabbat
DESCRIPTION:
URL:https://towerlane.org/event/shabbat-42/
LOCATION:Tower East Meeting Room
END:VEVENT
BEGIN:VEVENT
DTSTART;TZID=America/New_York:20240309T140000
DTEND;TZID=America/New_York:20240309T140000
DTSTAMP:20260424T183728
CREATED:20240229T185508Z
LAST-MODIFIED:20240229T185508Z
UID:13031-1709992800-1709992800@towerlane.org
SUMMARY:Bingo
DESCRIPTION:
URL:https://towerlane.org/event/bingo-91/2024-03-09/
LOCATION:Tower East Meeting Room
END:VEVENT
BEGIN:VEVENT
DTSTART;TZID=America/New_York:20240309T153000
DTEND;TZID=America/New_York:20240309T153000
DTSTAMP:20260424T183728
CREATED:20240229T192102Z
LAST-MODIFIED:20240229T192102Z
UID:13098-1709998200-1709998200@towerlane.org
SUMMARY:Christian Worship Service
DESCRIPTION:
URL:https://towerlane.org/event/christian-worship-service-25/
LOCATION:Tower East Meeting Room
END:VEVENT
END:VCALENDAR