BEGIN:VCALENDAR
VERSION:2.0
PRODID:-//The Towers - ECPv6.10.3//NONSGML v1.0//EN
CALSCALE:GREGORIAN
METHOD:PUBLISH
X-WR-CALNAME:The Towers
X-ORIGINAL-URL:https://towerlane.org
X-WR-CALDESC:Events for The Towers
REFRESH-INTERVAL;VALUE=DURATION:PT1H
X-Robots-Tag:noindex
X-PUBLISHED-TTL:PT1H
BEGIN:VTIMEZONE
TZID:America/New_York
BEGIN:DAYLIGHT
TZOFFSETFROM:-0500
TZOFFSETTO:-0400
TZNAME:EDT
DTSTART:20240310T070000
END:DAYLIGHT
BEGIN:STANDARD
TZOFFSETFROM:-0400
TZOFFSETTO:-0500
TZNAME:EST
DTSTART:20241103T060000
END:STANDARD
END:VTIMEZONE
BEGIN:VEVENT
DTSTART;TZID=America/New_York:20240401T100000
DTEND;TZID=America/New_York:20240401T100000
DTSTAMP:20260424T170438
CREATED:20240330T134614Z
LAST-MODIFIED:20240330T134614Z
UID:13213-1711965600-1711965600@towerlane.org
SUMMARY:Coffee Klatch
DESCRIPTION:
URL:https://towerlane.org/event/coffee-klatch-20/
LOCATION:Tower East Meeting Room
END:VEVENT
BEGIN:VEVENT
DTSTART;TZID=America/New_York:20240401T110000
DTEND;TZID=America/New_York:20240401T110000
DTSTAMP:20260424T170438
CREATED:20240330T134749Z
LAST-MODIFIED:20240330T134749Z
UID:13219-1711969200-1711969200@towerlane.org
SUMMARY:Creative Art
DESCRIPTION:
URL:https://towerlane.org/event/creative-art-20/
LOCATION:Tower One 20th Floor
END:VEVENT
BEGIN:VEVENT
DTSTART;TZID=America/New_York:20240401T130000
DTEND;TZID=America/New_York:20240401T130000
DTSTAMP:20260424T170438
CREATED:20240330T134849Z
LAST-MODIFIED:20240330T134849Z
UID:13225-1711976400-1711976400@towerlane.org
SUMMARY:Healthy & Fit
DESCRIPTION:
URL:https://towerlane.org/event/healthy-fit-40/
LOCATION:Tower East Meeting Room
END:VEVENT
BEGIN:VEVENT
DTSTART;TZID=America/New_York:20240401T141500
DTEND;TZID=America/New_York:20240401T141500
DTSTAMP:20260424T170438
CREATED:20240330T134940Z
LAST-MODIFIED:20240330T134940Z
UID:13231-1711980900-1711980900@towerlane.org
SUMMARY:Bingo
DESCRIPTION:
URL:https://towerlane.org/event/bingo-94/
LOCATION:Tower East Meeting Room
END:VEVENT
BEGIN:VEVENT
DTSTART;TZID=America/New_York:20240402T104500
DTEND;TZID=America/New_York:20240402T104500
DTSTAMP:20260424T170438
CREATED:20240330T135137Z
LAST-MODIFIED:20240330T135137Z
UID:13233-1712054700-1712054700@towerlane.org
SUMMARY:Create a Word
DESCRIPTION:
URL:https://towerlane.org/event/create-a-word-25/
LOCATION:Tower One 19th Floor
END:VEVENT
BEGIN:VEVENT
DTSTART;TZID=America/New_York:20240402T113000
DTEND;TZID=America/New_York:20240402T113000
DTSTAMP:20260424T170438
CREATED:20240330T135256Z
LAST-MODIFIED:20240330T135256Z
UID:13237-1712057400-1712057400@towerlane.org
SUMMARY:30 Minute Balance
DESCRIPTION:
URL:https://towerlane.org/event/30-minute-balance-13/
LOCATION:Tower East Meeting Room
END:VEVENT
BEGIN:VEVENT
DTSTART;TZID=America/New_York:20240402T130000
DTEND;TZID=America/New_York:20240402T130000
DTSTAMP:20260424T170438
CREATED:20240330T135419Z
LAST-MODIFIED:20240330T135419Z
UID:13240-1712062800-1712062800@towerlane.org
SUMMARY:Interactive Music
DESCRIPTION:
URL:https://towerlane.org/event/interactive-music-20/
LOCATION:Tower East Meeting Room
END:VEVENT
BEGIN:VEVENT
DTSTART;TZID=America/New_York:20240402T140000
DTEND;TZID=America/New_York:20240402T140000
DTSTAMP:20260424T170438
CREATED:20240330T135508Z
LAST-MODIFIED:20240330T135508Z
UID:13244-1712066400-1712066400@towerlane.org
SUMMARY:Mindfulness & Movement
DESCRIPTION:
URL:https://towerlane.org/event/mindfulness-movement-13/
LOCATION:Tower East Meeting Room
END:VEVENT
BEGIN:VEVENT
DTSTART;TZID=America/New_York:20240402T190000
DTEND;TZID=America/New_York:20240402T190000
DTSTAMP:20260424T170438
CREATED:20240330T135550Z
LAST-MODIFIED:20240330T135550Z
UID:13246-1712084400-1712084400@towerlane.org
SUMMARY:Movie and Discussion with Jim B.
DESCRIPTION:
URL:https://towerlane.org/event/movie-and-discussion-with-jim-b-9/
LOCATION:Tower East Meeting Room
END:VEVENT
BEGIN:VEVENT
DTSTART;VALUE=DATE:20240403
DTEND;VALUE=DATE:20240404
DTSTAMP:20260424T170438
CREATED:20240330T135633Z
LAST-MODIFIED:20240330T135633Z
UID:13248-1712102400-1712188799@towerlane.org
SUMMARY:NO PROGRAMS IN TOWER EAST MEETING ROOM TODAY
DESCRIPTION:
URL:https://towerlane.org/event/no-programs-in-tower-east-meeting-room-today/
END:VEVENT
BEGIN:VEVENT
DTSTART;TZID=America/New_York:20240403T140000
DTEND;TZID=America/New_York:20240403T140000
DTSTAMP:20260424T170438
CREATED:20240330T135748Z
LAST-MODIFIED:20240330T135748Z
UID:13250-1712152800-1712152800@towerlane.org
SUMMARY:JFS Support Group
DESCRIPTION:
URL:https://towerlane.org/event/jfs-support-group-30/
LOCATION:Tower One 19th Floor
END:VEVENT
BEGIN:VEVENT
DTSTART;TZID=America/New_York:20240404T110000
DTEND;TZID=America/New_York:20240404T110000
DTSTAMP:20260424T170438
CREATED:20240330T135845Z
LAST-MODIFIED:20240330T135845Z
UID:13255-1712228400-1712228400@towerlane.org
SUMMARY:Morrison Food Demo
DESCRIPTION:
URL:https://towerlane.org/event/morrison-food-demo-5/
LOCATION:Tower East Meeting Room
END:VEVENT
BEGIN:VEVENT
DTSTART;TZID=America/New_York:20240404T130000
DTEND;TZID=America/New_York:20240404T130000
DTSTAMP:20260424T170438
CREATED:20240330T135927Z
LAST-MODIFIED:20240330T135927Z
UID:13257-1712235600-1712235600@towerlane.org
SUMMARY:Catholic Mass
DESCRIPTION:
URL:https://towerlane.org/event/catholic-mass-41/
LOCATION:Tower East Meeting Room
END:VEVENT
BEGIN:VEVENT
DTSTART;TZID=America/New_York:20240404T130000
DTEND;TZID=America/New_York:20240404T130000
DTSTAMP:20260424T170438
CREATED:20240330T140044Z
LAST-MODIFIED:20240330T140044Z
UID:13259-1712235600-1712235600@towerlane.org
SUMMARY:Torah Study with Ruthie
DESCRIPTION:
URL:https://towerlane.org/event/torah-study-with-ruthie-15/
LOCATION:Tower One 19th Floor
END:VEVENT
BEGIN:VEVENT
DTSTART;TZID=America/New_York:20240404T190000
DTEND;TZID=America/New_York:20240404T190000
DTSTAMP:20260424T170438
CREATED:20240330T140127Z
LAST-MODIFIED:20240330T140127Z
UID:13263-1712257200-1712257200@towerlane.org
SUMMARY:Democracy Series with Steve and Victor
DESCRIPTION:
URL:https://towerlane.org/event/democracy-series-with-steve-and-victor-15/
LOCATION:Tower East Meeting Room
END:VEVENT
BEGIN:VEVENT
DTSTART;TZID=America/New_York:20240405T110000
DTEND;TZID=America/New_York:20240405T110000
DTSTAMP:20260424T170438
CREATED:20240330T140209Z
LAST-MODIFIED:20240330T140209Z
UID:13265-1712314800-1712314800@towerlane.org
SUMMARY:Hopkins Students Visit
DESCRIPTION:
URL:https://towerlane.org/event/hopkins-students-visit-4/
LOCATION:Tower East Meeting Room
END:VEVENT
BEGIN:VEVENT
DTSTART;TZID=America/New_York:20240405T110000
DTEND;TZID=America/New_York:20240405T110000
DTSTAMP:20260424T170438
CREATED:20240330T140323Z
LAST-MODIFIED:20240330T140323Z
UID:13267-1712314800-1712314800@towerlane.org
SUMMARY:Knitting Group
DESCRIPTION:
URL:https://towerlane.org/event/knitting-group-48/
LOCATION:Tower One 19th Floor
END:VEVENT
BEGIN:VEVENT
DTSTART;TZID=America/New_York:20240405T130000
DTEND;TZID=America/New_York:20240405T130000
DTSTAMP:20260424T170438
CREATED:20240330T140432Z
LAST-MODIFIED:20240330T140432Z
UID:13272-1712322000-1712322000@towerlane.org
SUMMARY:Tai Chi
DESCRIPTION:
URL:https://towerlane.org/event/tai-chi-19/
LOCATION:Tower East Meeting Room
END:VEVENT
BEGIN:VEVENT
DTSTART;TZID=America/New_York:20240405T140000
DTEND;TZID=America/New_York:20240405T140000
DTSTAMP:20260424T170438
CREATED:20240330T140539Z
LAST-MODIFIED:20240330T140539Z
UID:13277-1712325600-1712325600@towerlane.org
SUMMARY:Current Events
DESCRIPTION:
URL:https://towerlane.org/event/current-events-22/
LOCATION:Tower East Meeting Room
END:VEVENT
BEGIN:VEVENT
DTSTART;TZID=America/New_York:20240405T184500
DTEND;TZID=America/New_York:20240405T184500
DTSTAMP:20260424T170438
CREATED:20240330T140643Z
LAST-MODIFIED:20240330T140643Z
UID:13282-1712342700-1712342700@towerlane.org
SUMMARY:Shabbat
DESCRIPTION:
URL:https://towerlane.org/event/shabbat-43/
LOCATION:Tower East Meeting Room
END:VEVENT
BEGIN:VEVENT
DTSTART;TZID=America/New_York:20240406T100000
DTEND;TZID=America/New_York:20240406T100000
DTSTAMP:20260424T170438
CREATED:20240330T140813Z
LAST-MODIFIED:20240330T140813Z
UID:13287-1712397600-1712397600@towerlane.org
SUMMARY:Shabbat
DESCRIPTION:
URL:https://towerlane.org/event/shabbat-44/
LOCATION:Tower East Meeting Room
END:VEVENT
BEGIN:VEVENT
DTSTART;TZID=America/New_York:20240406T140000
DTEND;TZID=America/New_York:20240406T140000
DTSTAMP:20260424T170438
CREATED:20240330T140917Z
LAST-MODIFIED:20240330T140917Z
UID:13292-1712412000-1712412000@towerlane.org
SUMMARY:Bingo
DESCRIPTION:
URL:https://towerlane.org/event/bingo-95/
LOCATION:Tower East Meeting Room
END:VEVENT
BEGIN:VEVENT
DTSTART;TZID=America/New_York:20240406T153000
DTEND;TZID=America/New_York:20240406T153000
DTSTAMP:20260424T170438
CREATED:20240330T140954Z
LAST-MODIFIED:20240330T140954Z
UID:13297-1712417400-1712417400@towerlane.org
SUMMARY:Christian Worship Service
DESCRIPTION:
URL:https://towerlane.org/event/christian-worship-service-27/
LOCATION:Tower East Meeting Room
END:VEVENT
BEGIN:VEVENT
DTSTART;TZID=America/New_York:20240406T190000
DTEND;TZID=America/New_York:20240406T190000
DTSTAMP:20260424T170438
CREATED:20240330T141055Z
LAST-MODIFIED:20240330T141055Z
UID:13299-1712430000-1712430000@towerlane.org
SUMMARY:Movie Night
DESCRIPTION:
URL:https://towerlane.org/event/movie-night-38/
LOCATION:Tower East Meeting Room
END:VEVENT
BEGIN:VEVENT
DTSTART;TZID=America/New_York:20240407T130000
DTEND;TZID=America/New_York:20240407T130000
DTSTAMP:20260424T170438
CREATED:20240330T141131Z
LAST-MODIFIED:20240330T141131Z
UID:13304-1712494800-1712494800@towerlane.org
SUMMARY:Towers Game Day
DESCRIPTION:
URL:https://towerlane.org/event/towers-game-day-5/
LOCATION:Tower East Meeting Room
END:VEVENT
BEGIN:VEVENT
DTSTART;TZID=America/New_York:20240408T100000
DTEND;TZID=America/New_York:20240408T100000
DTSTAMP:20260424T170438
CREATED:20240330T134614Z
LAST-MODIFIED:20240330T134614Z
UID:13214-1712570400-1712570400@towerlane.org
SUMMARY:Coffee Klatch
DESCRIPTION:
URL:https://towerlane.org/event/coffee-klatch-20/2024-04-08/
LOCATION:Tower East Meeting Room
END:VEVENT
BEGIN:VEVENT
DTSTART;TZID=America/New_York:20240408T110000
DTEND;TZID=America/New_York:20240408T110000
DTSTAMP:20260424T170438
CREATED:20240330T134749Z
LAST-MODIFIED:20240330T134749Z
UID:13220-1712574000-1712574000@towerlane.org
SUMMARY:Creative Art
DESCRIPTION:
URL:https://towerlane.org/event/creative-art-20/2024-04-08/
LOCATION:Tower One 20th Floor
END:VEVENT
BEGIN:VEVENT
DTSTART;TZID=America/New_York:20240408T130000
DTEND;TZID=America/New_York:20240408T130000
DTSTAMP:20260424T170438
CREATED:20240330T134849Z
LAST-MODIFIED:20240330T134849Z
UID:13226-1712581200-1712581200@towerlane.org
SUMMARY:Healthy & Fit
DESCRIPTION:
URL:https://towerlane.org/event/healthy-fit-40/2024-04-08/
LOCATION:Tower East Meeting Room
END:VEVENT
BEGIN:VEVENT
DTSTART;TZID=America/New_York:20240408T140000
DTEND;TZID=America/New_York:20240408T140000
DTSTAMP:20260424T170438
CREATED:20240330T141258Z
LAST-MODIFIED:20240330T141258Z
UID:13306-1712584800-1712584800@towerlane.org
SUMMARY:Bingo
DESCRIPTION:
URL:https://towerlane.org/event/bingo-96/
LOCATION:Tower East Meeting Room
END:VEVENT
BEGIN:VEVENT
DTSTART;TZID=America/New_York:20240408T150000
DTEND;TZID=America/New_York:20240408T150000
DTSTAMP:20260424T170438
CREATED:20240330T141336Z
LAST-MODIFIED:20240330T141336Z
UID:13308-1712588400-1712588400@towerlane.org
SUMMARY:Career Students Visit
DESCRIPTION:
URL:https://towerlane.org/event/career-students-visit-4/
LOCATION:Tower East Meeting Room
END:VEVENT
END:VCALENDAR