BEGIN:VCALENDAR
VERSION:2.0
PRODID:-//The Towers - ECPv6.10.3//NONSGML v1.0//EN
CALSCALE:GREGORIAN
METHOD:PUBLISH
X-WR-CALNAME:The Towers
X-ORIGINAL-URL:https://towerlane.org
X-WR-CALDESC:Events for The Towers
REFRESH-INTERVAL;VALUE=DURATION:PT1H
X-Robots-Tag:noindex
X-PUBLISHED-TTL:PT1H
BEGIN:VTIMEZONE
TZID:America/New_York
BEGIN:DAYLIGHT
TZOFFSETFROM:-0500
TZOFFSETTO:-0400
TZNAME:EDT
DTSTART:20240310T070000
END:DAYLIGHT
BEGIN:STANDARD
TZOFFSETFROM:-0400
TZOFFSETTO:-0500
TZNAME:EST
DTSTART:20241103T060000
END:STANDARD
END:VTIMEZONE
BEGIN:VEVENT
DTSTART;TZID=America/New_York:20241201T190000
DTEND;TZID=America/New_York:20241201T190000
DTSTAMP:20260422T063318
CREATED:20241202T190922Z
LAST-MODIFIED:20241202T190922Z
UID:14770-1733079600-1733079600@towerlane.org
SUMMARY:Movie Night
DESCRIPTION:
URL:https://towerlane.org/event/movie-night-53/
LOCATION:Conference Room
END:VEVENT
BEGIN:VEVENT
DTSTART;TZID=America/New_York:20241202T100000
DTEND;TZID=America/New_York:20241202T100000
DTSTAMP:20260422T063318
CREATED:20241202T191029Z
LAST-MODIFIED:20241202T191029Z
UID:14776-1733133600-1733133600@towerlane.org
SUMMARY:Coffee Klatch
DESCRIPTION:
URL:https://towerlane.org/event/coffee-klatch-28/
LOCATION:Dining Room
END:VEVENT
BEGIN:VEVENT
DTSTART;TZID=America/New_York:20241202T111500
DTEND;TZID=America/New_York:20241202T111500
DTSTAMP:20260422T063318
CREATED:20241202T191232Z
LAST-MODIFIED:20241202T191232Z
UID:14782-1733138100-1733138100@towerlane.org
SUMMARY:Creative Art
DESCRIPTION:
URL:https://towerlane.org/event/creative-art-27/
LOCATION:Solarium
END:VEVENT
BEGIN:VEVENT
DTSTART;TZID=America/New_York:20241202T130000
DTEND;TZID=America/New_York:20241202T130000
DTSTAMP:20260422T063318
CREATED:20241202T191335Z
LAST-MODIFIED:20241202T191335Z
UID:14788-1733144400-1733144400@towerlane.org
SUMMARY:Yoga with Bill
DESCRIPTION:
URL:https://towerlane.org/event/yoga-with-bill-4/
LOCATION:Dining Room
END:VEVENT
BEGIN:VEVENT
DTSTART;TZID=America/New_York:20241202T140000
DTEND;TZID=America/New_York:20241202T140000
DTSTAMP:20260422T063318
CREATED:20241202T191435Z
LAST-MODIFIED:20241202T191435Z
UID:14794-1733148000-1733148000@towerlane.org
SUMMARY:Bingo Hosted by Oak Street Health
DESCRIPTION:
URL:https://towerlane.org/event/bingo-hosted-by-oak-street-health/
LOCATION:Solarium
END:VEVENT
BEGIN:VEVENT
DTSTART;TZID=America/New_York:20241203T104500
DTEND;TZID=America/New_York:20241203T104500
DTSTAMP:20260422T063318
CREATED:20241202T191703Z
LAST-MODIFIED:20241202T191703Z
UID:14796-1733222700-1733222700@towerlane.org
SUMMARY:Create a Word
DESCRIPTION:
URL:https://towerlane.org/event/create-a-word-33/
LOCATION:Tower One 19th Floor
END:VEVENT
BEGIN:VEVENT
DTSTART;TZID=America/New_York:20241203T113000
DTEND;TZID=America/New_York:20241203T113000
DTSTAMP:20260422T063318
CREATED:20241202T192044Z
LAST-MODIFIED:20241202T192044Z
UID:14802-1733225400-1733225400@towerlane.org
SUMMARY:30 Minute Exercise
DESCRIPTION:
URL:https://towerlane.org/event/30-minute-exercise-4/
LOCATION:Solarium
END:VEVENT
BEGIN:VEVENT
DTSTART;TZID=America/New_York:20241203T130000
DTEND;TZID=America/New_York:20241203T130000
DTSTAMP:20260422T063318
CREATED:20241202T192207Z
LAST-MODIFIED:20241202T192207Z
UID:14807-1733230800-1733230800@towerlane.org
SUMMARY:Interactive Music
DESCRIPTION:
URL:https://towerlane.org/event/interactive-music-29/
LOCATION:Solarium
END:VEVENT
BEGIN:VEVENT
DTSTART;TZID=America/New_York:20241203T190000
DTEND;TZID=America/New_York:20241203T190000
DTSTAMP:20260422T063318
CREATED:20241202T192245Z
LAST-MODIFIED:20241202T192245Z
UID:14810-1733252400-1733252400@towerlane.org
SUMMARY:Movie and Discussion with Jim Brochin
DESCRIPTION:
URL:https://towerlane.org/event/movie-and-discussion-with-jim-brochin-26/
LOCATION:Conference Room
END:VEVENT
BEGIN:VEVENT
DTSTART;TZID=America/New_York:20241204T104500
DTEND;TZID=America/New_York:20241204T104500
DTSTAMP:20260422T063318
CREATED:20241202T192439Z
LAST-MODIFIED:20241202T192439Z
UID:14812-1733309100-1733309100@towerlane.org
SUMMARY:Chorus Rehearsal
DESCRIPTION:
URL:https://towerlane.org/event/chorus-rehearsal-17/
LOCATION:Solarium
END:VEVENT
BEGIN:VEVENT
DTSTART;TZID=America/New_York:20241204T130000
DTEND;TZID=America/New_York:20241204T130000
DTSTAMP:20260422T063318
CREATED:20241202T192552Z
LAST-MODIFIED:20241202T192552Z
UID:14816-1733317200-1733317200@towerlane.org
SUMMARY:Healthy & Fit
DESCRIPTION:
URL:https://towerlane.org/event/healthy-fit-55/
LOCATION:Solarium
END:VEVENT
BEGIN:VEVENT
DTSTART;TZID=America/New_York:20241204T140000
DTEND;TZID=America/New_York:20241204T140000
DTSTAMP:20260422T063318
CREATED:20241202T192659Z
LAST-MODIFIED:20241202T192659Z
UID:14820-1733320800-1733320800@towerlane.org
SUMMARY:JFS Support Group
DESCRIPTION:
URL:https://towerlane.org/event/jfs-support-group-39/
LOCATION:Tower One 19th Floor
END:VEVENT
BEGIN:VEVENT
DTSTART;TZID=America/New_York:20241204T190000
DTEND;TZID=America/New_York:20241204T190000
DTSTAMP:20260422T063318
CREATED:20241202T192742Z
LAST-MODIFIED:20241202T192742Z
UID:14824-1733338800-1733338800@towerlane.org
SUMMARY:Spanish/Bilingual Christian Service
DESCRIPTION:
URL:https://towerlane.org/event/spanish-bilingual-christian-service-6/
LOCATION:Solarium
END:VEVENT
BEGIN:VEVENT
DTSTART;TZID=America/New_York:20241205T100000
DTEND;TZID=America/New_York:20241205T100000
DTSTAMP:20260422T063318
CREATED:20241202T192826Z
LAST-MODIFIED:20241202T192826Z
UID:14826-1733392800-1733392800@towerlane.org
SUMMARY:St. Thomas School Students Visit
DESCRIPTION:
URL:https://towerlane.org/event/st-thomas-school-students-visit-3/
LOCATION:Solarium
END:VEVENT
BEGIN:VEVENT
DTSTART;TZID=America/New_York:20241205T110000
DTEND;TZID=America/New_York:20241205T110000
DTSTAMP:20260422T063318
CREATED:20241202T192934Z
LAST-MODIFIED:20241202T192934Z
UID:14829-1733396400-1733396400@towerlane.org
SUMMARY:Mindfulness and Movement
DESCRIPTION:
URL:https://towerlane.org/event/mindfulness-and-movement-25/
LOCATION:Dining Room
END:VEVENT
BEGIN:VEVENT
DTSTART;TZID=America/New_York:20241205T123000
DTEND;TZID=America/New_York:20241205T123000
DTSTAMP:20260422T063318
CREATED:20241202T193104Z
LAST-MODIFIED:20241202T193104Z
UID:14831-1733401800-1733401800@towerlane.org
SUMMARY:Torah Study with Ruthie
DESCRIPTION:
URL:https://towerlane.org/event/torah-study-with-ruthie-21/
LOCATION:Tower One 19th Floor
END:VEVENT
BEGIN:VEVENT
DTSTART;TZID=America/New_York:20241205T130000
DTEND;TZID=America/New_York:20241205T130000
DTSTAMP:20260422T063318
CREATED:20241202T193142Z
LAST-MODIFIED:20241202T193142Z
UID:14834-1733403600-1733403600@towerlane.org
SUMMARY:Catholic Mass
DESCRIPTION:
URL:https://towerlane.org/event/catholic-mass-57/
LOCATION:Dining Room
END:VEVENT
BEGIN:VEVENT
DTSTART;TZID=America/New_York:20241206T100000
DTEND;TZID=America/New_York:20241206T100000
DTSTAMP:20260422T063318
CREATED:20241202T193306Z
LAST-MODIFIED:20241202T193306Z
UID:14836-1733479200-1733479200@towerlane.org
SUMMARY:Christian Bible Study
DESCRIPTION:
URL:https://towerlane.org/event/christian-bible-study/
LOCATION:Dining Room
END:VEVENT
BEGIN:VEVENT
DTSTART;TZID=America/New_York:20241206T110000
DTEND;TZID=America/New_York:20241206T110000
DTSTAMP:20260422T063318
CREATED:20241202T193407Z
LAST-MODIFIED:20241202T193407Z
UID:14841-1733482800-1733482800@towerlane.org
SUMMARY:Knitting Group
DESCRIPTION:
URL:https://towerlane.org/event/knitting-group-65/
LOCATION:Solarium
END:VEVENT
BEGIN:VEVENT
DTSTART;TZID=America/New_York:20241206T130000
DTEND;TZID=America/New_York:20241206T130000
DTSTAMP:20260422T063318
CREATED:20241202T193523Z
LAST-MODIFIED:20241202T193523Z
UID:14846-1733490000-1733490000@towerlane.org
SUMMARY:Tai Chi with Bill
DESCRIPTION:
URL:https://towerlane.org/event/tai-chi-with-bill-2/
LOCATION:Dining Room
END:VEVENT
BEGIN:VEVENT
DTSTART;TZID=America/New_York:20241206T140000
DTEND;TZID=America/New_York:20241206T140000
DTSTAMP:20260422T063318
CREATED:20241202T193649Z
LAST-MODIFIED:20241202T193649Z
UID:14850-1733493600-1733493600@towerlane.org
SUMMARY:Current Events/Trivia
DESCRIPTION:
URL:https://towerlane.org/event/current-events-trivia-13/
LOCATION:Solarium
END:VEVENT
BEGIN:VEVENT
DTSTART;TZID=America/New_York:20241206T184500
DTEND;TZID=America/New_York:20241206T184500
DTSTAMP:20260422T063318
CREATED:20241202T193800Z
LAST-MODIFIED:20241202T193800Z
UID:14854-1733510700-1733510700@towerlane.org
SUMMARY:Shabbat
DESCRIPTION:
URL:https://towerlane.org/event/shabbat-59/
LOCATION:Solarium
END:VEVENT
BEGIN:VEVENT
DTSTART;TZID=America/New_York:20241207T100000
DTEND;TZID=America/New_York:20241207T100000
DTSTAMP:20260422T063318
CREATED:20241202T193852Z
LAST-MODIFIED:20241202T193852Z
UID:14859-1733565600-1733565600@towerlane.org
SUMMARY:Shabbat
DESCRIPTION:
URL:https://towerlane.org/event/shabbat-60/
LOCATION:Solarium
END:VEVENT
BEGIN:VEVENT
DTSTART;TZID=America/New_York:20241207T140000
DTEND;TZID=America/New_York:20241207T140000
DTSTAMP:20260422T063318
CREATED:20241202T193943Z
LAST-MODIFIED:20241202T193943Z
UID:14864-1733580000-1733580000@towerlane.org
SUMMARY:Bingo
DESCRIPTION:
URL:https://towerlane.org/event/bingo-114/
LOCATION:Solarium
END:VEVENT
BEGIN:VEVENT
DTSTART;TZID=America/New_York:20241207T153000
DTEND;TZID=America/New_York:20241207T153000
DTSTAMP:20260422T063318
CREATED:20241202T194037Z
LAST-MODIFIED:20241202T194037Z
UID:14869-1733585400-1733585400@towerlane.org
SUMMARY:Welcome Back "Harmony Healing" Musical Performance
DESCRIPTION:
URL:https://towerlane.org/event/welcome-back-harmony-healing-musical-performance/
LOCATION:Dining Room
END:VEVENT
BEGIN:VEVENT
DTSTART;TZID=America/New_York:20241208T140000
DTEND;TZID=America/New_York:20241208T140000
DTSTAMP:20260422T063318
CREATED:20241202T194130Z
LAST-MODIFIED:20241202T194130Z
UID:14871-1733666400-1733666400@towerlane.org
SUMMARY:Yale Slifka Students Klezmer Concert
DESCRIPTION:
URL:https://towerlane.org/event/yale-slifka-students-klezmer-concert/
LOCATION:Dining Room
END:VEVENT
BEGIN:VEVENT
DTSTART;TZID=America/New_York:20241208T190000
DTEND;TZID=America/New_York:20241208T190000
DTSTAMP:20260422T063318
CREATED:20241202T190922Z
LAST-MODIFIED:20241202T190922Z
UID:14771-1733684400-1733684400@towerlane.org
SUMMARY:Movie Night
DESCRIPTION:
URL:https://towerlane.org/event/movie-night-53/2024-12-08/
LOCATION:Conference Room
END:VEVENT
BEGIN:VEVENT
DTSTART;TZID=America/New_York:20241209T100000
DTEND;TZID=America/New_York:20241209T100000
DTSTAMP:20260422T063318
CREATED:20241202T191029Z
LAST-MODIFIED:20241202T191029Z
UID:14777-1733738400-1733738400@towerlane.org
SUMMARY:Coffee Klatch
DESCRIPTION:
URL:https://towerlane.org/event/coffee-klatch-28/2024-12-09/
LOCATION:Dining Room
END:VEVENT
BEGIN:VEVENT
DTSTART;TZID=America/New_York:20241209T111500
DTEND;TZID=America/New_York:20241209T111500
DTSTAMP:20260422T063318
CREATED:20241202T191232Z
LAST-MODIFIED:20241202T191232Z
UID:14783-1733742900-1733742900@towerlane.org
SUMMARY:Creative Art
DESCRIPTION:
URL:https://towerlane.org/event/creative-art-27/2024-12-09/
LOCATION:Solarium
END:VEVENT
BEGIN:VEVENT
DTSTART;TZID=America/New_York:20241209T130000
DTEND;TZID=America/New_York:20241209T130000
DTSTAMP:20260422T063318
CREATED:20241202T191335Z
LAST-MODIFIED:20241202T191335Z
UID:14789-1733749200-1733749200@towerlane.org
SUMMARY:Yoga with Bill
DESCRIPTION:
URL:https://towerlane.org/event/yoga-with-bill-4/2024-12-09/
LOCATION:Dining Room
END:VEVENT
END:VCALENDAR