BEGIN:VCALENDAR
VERSION:2.0
PRODID:-//The Towers - ECPv6.10.3//NONSGML v1.0//EN
CALSCALE:GREGORIAN
METHOD:PUBLISH
X-ORIGINAL-URL:https://towerlane.org
X-WR-CALDESC:Events for The Towers
REFRESH-INTERVAL;VALUE=DURATION:PT1H
X-Robots-Tag:noindex
X-PUBLISHED-TTL:PT1H
BEGIN:VTIMEZONE
TZID:America/New_York
BEGIN:DAYLIGHT
TZOFFSETFROM:-0500
TZOFFSETTO:-0400
TZNAME:EDT
DTSTART:20250309T070000
END:DAYLIGHT
BEGIN:STANDARD
TZOFFSETFROM:-0400
TZOFFSETTO:-0500
TZNAME:EST
DTSTART:20251102T060000
END:STANDARD
END:VTIMEZONE
BEGIN:VEVENT
DTSTART;VALUE=DATE:20250301
DTEND;VALUE=DATE:20250302
DTSTAMP:20260422T020636
CREATED:20250304T172958Z
LAST-MODIFIED:20250304T172958Z
UID:16135-1740787200-1740873599@towerlane.org
SUMMARY:Women's History Month
DESCRIPTION:
URL:https://towerlane.org/event/womens-history-month/
END:VEVENT
BEGIN:VEVENT
DTSTART;TZID=America/New_York:20250301T100000
DTEND;TZID=America/New_York:20250301T100000
DTSTAMP:20260422T020636
CREATED:20250304T172323Z
LAST-MODIFIED:20250304T172323Z
UID:16107-1740823200-1740823200@towerlane.org
SUMMARY:Shabbat
DESCRIPTION:
URL:https://towerlane.org/event/shabbat-65/
LOCATION:Sanctuary
END:VEVENT
BEGIN:VEVENT
DTSTART;TZID=America/New_York:20250301T130000
DTEND;TZID=America/New_York:20250301T150000
DTSTAMP:20260422T020636
CREATED:20250304T172414Z
LAST-MODIFIED:20250304T172414Z
UID:16113-1740834000-1740841200@towerlane.org
SUMMARY:Art Show Hosted by Dale
DESCRIPTION:
URL:https://towerlane.org/event/art-show-hosted-by-dale/
LOCATION:Solarium
END:VEVENT
BEGIN:VEVENT
DTSTART;TZID=America/New_York:20250301T140000
DTEND;TZID=America/New_York:20250301T140000
DTSTAMP:20260422T020636
CREATED:20250304T172523Z
LAST-MODIFIED:20250304T172523Z
UID:16115-1740837600-1740837600@towerlane.org
SUMMARY:Bingo
DESCRIPTION:
URL:https://towerlane.org/event/bingo-120/
LOCATION:Sanctuary
END:VEVENT
BEGIN:VEVENT
DTSTART;TZID=America/New_York:20250301T190000
DTEND;TZID=America/New_York:20250301T190000
DTSTAMP:20260422T020636
CREATED:20250304T172656Z
LAST-MODIFIED:20250304T172656Z
UID:16121-1740855600-1740855600@towerlane.org
SUMMARY:Movie Night
DESCRIPTION:
URL:https://towerlane.org/event/movie-night-59/
LOCATION:Sanctuary
END:VEVENT
BEGIN:VEVENT
DTSTART;TZID=America/New_York:20250302T130000
DTEND;TZID=America/New_York:20250302T150000
DTSTAMP:20260422T020636
CREATED:20250304T172831Z
LAST-MODIFIED:20250304T172831Z
UID:16127-1740920400-1740927600@towerlane.org
SUMMARY:Art Show Hosted by Dale
DESCRIPTION:
URL:https://towerlane.org/event/art-show-hosted-by-dale-2/
LOCATION:Solarium
END:VEVENT
BEGIN:VEVENT
DTSTART;TZID=America/New_York:20250302T190000
DTEND;TZID=America/New_York:20250302T190000
DTSTAMP:20260422T020636
CREATED:20250304T172931Z
LAST-MODIFIED:20250304T172931Z
UID:16129-1740942000-1740942000@towerlane.org
SUMMARY:Movie Night
DESCRIPTION:
URL:https://towerlane.org/event/movie-night-60/
LOCATION:Sanctuary
END:VEVENT
BEGIN:VEVENT
DTSTART;TZID=America/New_York:20250303T020000
DTEND;TZID=America/New_York:20250303T140000
DTSTAMP:20260422T020636
CREATED:20250304T174055Z
LAST-MODIFIED:20250304T174055Z
UID:16164-1740967200-1741010400@towerlane.org
SUMMARY:Bingo
DESCRIPTION:
URL:https://towerlane.org/event/bingo-121/
LOCATION:Sanctuary
END:VEVENT
BEGIN:VEVENT
DTSTART;TZID=America/New_York:20250303T100000
DTEND;TZID=America/New_York:20250303T100000
DTSTAMP:20260422T020636
CREATED:20250304T173114Z
LAST-MODIFIED:20250304T173114Z
UID:16137-1740996000-1740996000@towerlane.org
SUMMARY:Coffee Klatch
DESCRIPTION:
URL:https://towerlane.org/event/coffee-klatch-31/
LOCATION:Dining Room
END:VEVENT
BEGIN:VEVENT
DTSTART;TZID=America/New_York:20250303T111500
DTEND;TZID=America/New_York:20250303T111500
DTSTAMP:20260422T020636
CREATED:20250304T173227Z
LAST-MODIFIED:20250304T173227Z
UID:16143-1741000500-1741000500@towerlane.org
SUMMARY:Mindful Art
DESCRIPTION:
URL:https://towerlane.org/event/mindful-art/
LOCATION:Creativity Studio
END:VEVENT
BEGIN:VEVENT
DTSTART;TZID=America/New_York:20250303T130000
DTEND;TZID=America/New_York:20250303T130000
DTSTAMP:20260422T020636
CREATED:20250304T173958Z
LAST-MODIFIED:20250304T173958Z
UID:16158-1741006800-1741006800@towerlane.org
SUMMARY:Chair Yoga
DESCRIPTION:
URL:https://towerlane.org/event/chair-yoga-26/
LOCATION:Dining Room
END:VEVENT
BEGIN:VEVENT
DTSTART;TZID=America/New_York:20250303T190000
DTEND;TZID=America/New_York:20250303T190000
DTSTAMP:20260422T020636
CREATED:20250304T174141Z
LAST-MODIFIED:20250304T174141Z
UID:16170-1741028400-1741028400@towerlane.org
SUMMARY:Nourish Program
DESCRIPTION:
URL:https://towerlane.org/event/nourish-program-5/
LOCATION:Dining Room
END:VEVENT
BEGIN:VEVENT
DTSTART;TZID=America/New_York:20250304T104500
DTEND;TZID=America/New_York:20250304T104500
DTSTAMP:20260422T020636
CREATED:20250304T174412Z
LAST-MODIFIED:20250304T174412Z
UID:16178-1741085100-1741085100@towerlane.org
SUMMARY:Create a Word
DESCRIPTION:
URL:https://towerlane.org/event/create-a-word-36/
LOCATION:Tower One 19th Floor
END:VEVENT
BEGIN:VEVENT
DTSTART;TZID=America/New_York:20250304T113000
DTEND;TZID=America/New_York:20250304T113000
DTSTAMP:20260422T020636
CREATED:20250304T174504Z
LAST-MODIFIED:20250304T174504Z
UID:16183-1741087800-1741087800@towerlane.org
SUMMARY:30 Minute Exercise
DESCRIPTION:
URL:https://towerlane.org/event/30-minute-exercise-8/
LOCATION:Sanctuary
END:VEVENT
BEGIN:VEVENT
DTSTART;TZID=America/New_York:20250304T130000
DTEND;TZID=America/New_York:20250304T130000
DTSTAMP:20260422T020636
CREATED:20250304T174607Z
LAST-MODIFIED:20250304T174607Z
UID:16188-1741093200-1741093200@towerlane.org
SUMMARY:Interactive Music
DESCRIPTION:
URL:https://towerlane.org/event/interactive-music-34/
LOCATION:Dining Room
END:VEVENT
BEGIN:VEVENT
DTSTART;TZID=America/New_York:20250304T140000
DTEND;TZID=America/New_York:20250304T140000
DTSTAMP:20260422T020636
CREATED:20250304T174649Z
LAST-MODIFIED:20250304T174649Z
UID:16193-1741096800-1741096800@towerlane.org
SUMMARY:Dining Meeting
DESCRIPTION:
URL:https://towerlane.org/event/dining-meeting-9/
LOCATION:Dining Room
END:VEVENT
BEGIN:VEVENT
DTSTART;TZID=America/New_York:20250304T190000
DTEND;TZID=America/New_York:20250304T190000
DTSTAMP:20260422T020636
CREATED:20250304T174727Z
LAST-MODIFIED:20250304T174727Z
UID:16195-1741114800-1741114800@towerlane.org
SUMMARY:Movie and Discussion with Jim Brochin
DESCRIPTION:
URL:https://towerlane.org/event/movie-and-discussion-with-jim-brochin-31/
LOCATION:Sanctuary
END:VEVENT
BEGIN:VEVENT
DTSTART;TZID=America/New_York:20250305T104500
DTEND;TZID=America/New_York:20250305T104500
DTSTAMP:20260422T020636
CREATED:20250304T174856Z
LAST-MODIFIED:20250304T174856Z
UID:16197-1741171500-1741171500@towerlane.org
SUMMARY:Chorus Rehearsal
DESCRIPTION:
URL:https://towerlane.org/event/chorus-rehearsal-20/
LOCATION:Sanctuary
END:VEVENT
BEGIN:VEVENT
DTSTART;TZID=America/New_York:20250305T130000
DTEND;TZID=America/New_York:20250305T130000
DTSTAMP:20260422T020636
CREATED:20250304T175024Z
LAST-MODIFIED:20250304T175024Z
UID:16202-1741179600-1741179600@towerlane.org
SUMMARY:Healthy & Fit
DESCRIPTION:
URL:https://towerlane.org/event/healthy-fit-59/
LOCATION:Sanctuary
END:VEVENT
BEGIN:VEVENT
DTSTART;TZID=America/New_York:20250305T140000
DTEND;TZID=America/New_York:20250305T140000
DTSTAMP:20260422T020636
CREATED:20250304T175143Z
LAST-MODIFIED:20250304T175143Z
UID:16206-1741183200-1741183200@towerlane.org
SUMMARY:JFS Support Group
DESCRIPTION:
URL:https://towerlane.org/event/jfs-support-group-42/
LOCATION:Sanctuary
END:VEVENT
BEGIN:VEVENT
DTSTART;TZID=America/New_York:20250305T150000
DTEND;TZID=America/New_York:20250305T163000
DTSTAMP:20260422T020636
CREATED:20250304T175407Z
LAST-MODIFIED:20250304T175407Z
UID:16212-1741186800-1741192200@towerlane.org
SUMMARY:Receiving of Ashes with Kevin Sheehy
DESCRIPTION:
URL:https://towerlane.org/event/receiving-of-ashes-with-kevin-sheehy/
LOCATION:Founders Conference Room
END:VEVENT
BEGIN:VEVENT
DTSTART;TZID=America/New_York:20250306T103000
DTEND;TZID=America/New_York:20250306T103000
DTSTAMP:20260422T020636
CREATED:20250304T175454Z
LAST-MODIFIED:20250304T175454Z
UID:16214-1741257000-1741257000@towerlane.org
SUMMARY:Hopkins Students
DESCRIPTION:
URL:https://towerlane.org/event/hopkins-students/
LOCATION:Creativity Studio
END:VEVENT
BEGIN:VEVENT
DTSTART;TZID=America/New_York:20250306T130000
DTEND;TZID=America/New_York:20250306T130000
DTSTAMP:20260422T020636
CREATED:20250304T175529Z
LAST-MODIFIED:20250304T175529Z
UID:16216-1741266000-1741266000@towerlane.org
SUMMARY:Catholic Mass
DESCRIPTION:
URL:https://towerlane.org/event/catholic-mass-62/
LOCATION:Sanctuary
END:VEVENT
BEGIN:VEVENT
DTSTART;TZID=America/New_York:20250306T130000
DTEND;TZID=America/New_York:20250306T130000
DTSTAMP:20260422T020636
CREATED:20250304T175617Z
LAST-MODIFIED:20250304T175617Z
UID:16218-1741266000-1741266000@towerlane.org
SUMMARY:Torah Study with Ruthie
DESCRIPTION:
URL:https://towerlane.org/event/torah-study-with-ruthie-23/
LOCATION:Tower One 19th Floor
END:VEVENT
BEGIN:VEVENT
DTSTART;TZID=America/New_York:20250306T130000
DTEND;TZID=America/New_York:20250306T130000
DTSTAMP:20260422T020636
CREATED:20250304T175715Z
LAST-MODIFIED:20250304T175715Z
UID:16220-1741266000-1741266000@towerlane.org
SUMMARY:Coloring Group
DESCRIPTION:
URL:https://towerlane.org/event/coloring-group/
LOCATION:Creativity Studio
END:VEVENT
BEGIN:VEVENT
DTSTART;TZID=America/New_York:20250306T140000
DTEND;TZID=America/New_York:20250306T140000
DTSTAMP:20260422T020636
CREATED:20250304T175804Z
LAST-MODIFIED:20250304T175804Z
UID:16224-1741269600-1741269600@towerlane.org
SUMMARY:Sing Along with Richard Gans
DESCRIPTION:
URL:https://towerlane.org/event/sing-along-with-richard-gans-16/
LOCATION:Dining Room
END:VEVENT
BEGIN:VEVENT
DTSTART;TZID=America/New_York:20250307T100000
DTEND;TZID=America/New_York:20250307T100000
DTSTAMP:20260422T020636
CREATED:20250304T175937Z
LAST-MODIFIED:20250304T175937Z
UID:16226-1741341600-1741341600@towerlane.org
SUMMARY:Interfaith Bible Study
DESCRIPTION:
URL:https://towerlane.org/event/interfaith-bible-study-2/
LOCATION:Dining Room
END:VEVENT
BEGIN:VEVENT
DTSTART;TZID=America/New_York:20250307T110000
DTEND;TZID=America/New_York:20250307T110000
DTSTAMP:20260422T020636
CREATED:20250304T180028Z
LAST-MODIFIED:20250304T180028Z
UID:16231-1741345200-1741345200@towerlane.org
SUMMARY:Knitting Group
DESCRIPTION:
URL:https://towerlane.org/event/knitting-group-68/
LOCATION:Solarium
END:VEVENT
BEGIN:VEVENT
DTSTART;TZID=America/New_York:20250307T130000
DTEND;TZID=America/New_York:20250307T130000
DTSTAMP:20260422T020636
CREATED:20250304T180129Z
LAST-MODIFIED:20250304T180129Z
UID:16236-1741352400-1741352400@towerlane.org
SUMMARY:Tai Chi
DESCRIPTION:
URL:https://towerlane.org/event/tai-chi-30/
LOCATION:Dining Room
END:VEVENT
BEGIN:VEVENT
DTSTART;TZID=America/New_York:20250307T140000
DTEND;TZID=America/New_York:20250307T140000
DTSTAMP:20260422T020636
CREATED:20250304T180224Z
LAST-MODIFIED:20250304T180224Z
UID:16241-1741356000-1741356000@towerlane.org
SUMMARY:Current Events
DESCRIPTION:
URL:https://towerlane.org/event/current-events-30/
LOCATION:Sanctuary
END:VEVENT
END:VCALENDAR