BEGIN:VCALENDAR
VERSION:2.0
PRODID:-//The Towers - ECPv6.10.3//NONSGML v1.0//EN
CALSCALE:GREGORIAN
METHOD:PUBLISH
X-ORIGINAL-URL:https://towerlane.org
X-WR-CALDESC:Events for The Towers
REFRESH-INTERVAL;VALUE=DURATION:PT1H
X-Robots-Tag:noindex
X-PUBLISHED-TTL:PT1H
BEGIN:VTIMEZONE
TZID:America/New_York
BEGIN:DAYLIGHT
TZOFFSETFROM:-0500
TZOFFSETTO:-0400
TZNAME:EDT
DTSTART:20250309T070000
END:DAYLIGHT
BEGIN:STANDARD
TZOFFSETFROM:-0400
TZOFFSETTO:-0500
TZNAME:EST
DTSTART:20251102T060000
END:STANDARD
END:VTIMEZONE
BEGIN:VEVENT
DTSTART;TZID=America/New_York:20250421T111500
DTEND;TZID=America/New_York:20250421T111500
DTSTAMP:20260421T215842
CREATED:20250402T152001Z
LAST-MODIFIED:20250402T152001Z
UID:16455-1745234100-1745234100@towerlane.org
SUMMARY:Mindful Art
DESCRIPTION:
URL:https://towerlane.org/event/mindful-art-3/2025-04-21/
LOCATION:Creativity Studio
END:VEVENT
BEGIN:VEVENT
DTSTART;TZID=America/New_York:20250417T130000
DTEND;TZID=America/New_York:20250417T130000
DTSTAMP:20260421T215842
CREATED:20250402T150141Z
LAST-MODIFIED:20250402T150141Z
UID:16385-1744894800-1744894800@towerlane.org
SUMMARY:Coloring Group
DESCRIPTION:
URL:https://towerlane.org/event/coloring-group-2/2025-04-17/
LOCATION:Creativity Studio
END:VEVENT
BEGIN:VEVENT
DTSTART;TZID=America/New_York:20250417T103000
DTEND;TZID=America/New_York:20250417T103000
DTSTAMP:20260421T215842
CREATED:20250402T145951Z
LAST-MODIFIED:20250402T145951Z
UID:16379-1744885800-1744885800@towerlane.org
SUMMARY:Hopkins Students Visit
DESCRIPTION:
URL:https://towerlane.org/event/hopkins-students-visit-9/2025-04-17/
LOCATION:Creativity Studio
END:VEVENT
BEGIN:VEVENT
DTSTART;TZID=America/New_York:20250414T111500
DTEND;TZID=America/New_York:20250414T111500
DTSTAMP:20260421T215842
CREATED:20250402T152001Z
LAST-MODIFIED:20250402T152001Z
UID:16454-1744629300-1744629300@towerlane.org
SUMMARY:Mindful Art
DESCRIPTION:
URL:https://towerlane.org/event/mindful-art-3/2025-04-14/
LOCATION:Creativity Studio
END:VEVENT
BEGIN:VEVENT
DTSTART;TZID=America/New_York:20250410T150000
DTEND;TZID=America/New_York:20250410T150000
DTSTAMP:20260421T215842
CREATED:20250402T152942Z
LAST-MODIFIED:20250402T152942Z
UID:16484-1744297200-1744297200@towerlane.org
SUMMARY:Book Club Meeting
DESCRIPTION:
URL:https://towerlane.org/event/book-club-meeting-22/
LOCATION:Creativity Studio
END:VEVENT
BEGIN:VEVENT
DTSTART;TZID=America/New_York:20250410T130000
DTEND;TZID=America/New_York:20250410T130000
DTSTAMP:20260421T215842
CREATED:20250402T150141Z
LAST-MODIFIED:20250402T150141Z
UID:16384-1744290000-1744290000@towerlane.org
SUMMARY:Coloring Group
DESCRIPTION:
URL:https://towerlane.org/event/coloring-group-2/2025-04-10/
LOCATION:Creativity Studio
END:VEVENT
BEGIN:VEVENT
DTSTART;TZID=America/New_York:20250410T103000
DTEND;TZID=America/New_York:20250410T103000
DTSTAMP:20260421T215842
CREATED:20250402T145951Z
LAST-MODIFIED:20250402T145951Z
UID:16378-1744281000-1744281000@towerlane.org
SUMMARY:Hopkins Students Visit
DESCRIPTION:
URL:https://towerlane.org/event/hopkins-students-visit-9/2025-04-10/
LOCATION:Creativity Studio
END:VEVENT
BEGIN:VEVENT
DTSTART;TZID=America/New_York:20250408T103000
DTEND;TZID=America/New_York:20250408T103000
DTSTAMP:20260421T215842
CREATED:20250402T152352Z
LAST-MODIFIED:20250402T152352Z
UID:16471-1744108200-1744108200@towerlane.org
SUMMARY:Sewing Project
DESCRIPTION:
URL:https://towerlane.org/event/sewing-project-24/
LOCATION:Creativity Studio
END:VEVENT
BEGIN:VEVENT
DTSTART;TZID=America/New_York:20250407T111500
DTEND;TZID=America/New_York:20250407T111500
DTSTAMP:20260421T215842
CREATED:20250402T152001Z
LAST-MODIFIED:20250402T152001Z
UID:16453-1744024500-1744024500@towerlane.org
SUMMARY:Mindful Art
DESCRIPTION:
URL:https://towerlane.org/event/mindful-art-3/2025-04-07/
LOCATION:Creativity Studio
END:VEVENT
BEGIN:VEVENT
DTSTART;TZID=America/New_York:20250403T150000
DTEND;TZID=America/New_York:20250403T150000
DTSTAMP:20260421T215842
CREATED:20250402T150302Z
LAST-MODIFIED:20250402T150302Z
UID:16390-1743692400-1743692400@towerlane.org
SUMMARY:New! Yiddish Group
DESCRIPTION:
URL:https://towerlane.org/event/new-yiddish-group/
LOCATION:Creativity Studio
END:VEVENT
BEGIN:VEVENT
DTSTART;TZID=America/New_York:20250403T130000
DTEND;TZID=America/New_York:20250403T130000
DTSTAMP:20260421T215842
CREATED:20250402T150141Z
LAST-MODIFIED:20250402T150141Z
UID:16383-1743685200-1743685200@towerlane.org
SUMMARY:Coloring Group
DESCRIPTION:
URL:https://towerlane.org/event/coloring-group-2/2025-04-03/
LOCATION:Creativity Studio
END:VEVENT
BEGIN:VEVENT
DTSTART;TZID=America/New_York:20250403T103000
DTEND;TZID=America/New_York:20250403T103000
DTSTAMP:20260421T215842
CREATED:20250402T145951Z
LAST-MODIFIED:20250402T145951Z
UID:16377-1743676200-1743676200@towerlane.org
SUMMARY:Hopkins Students Visit
DESCRIPTION:
URL:https://towerlane.org/event/hopkins-students-visit-9/2025-04-03/
LOCATION:Creativity Studio
END:VEVENT
BEGIN:VEVENT
DTSTART;TZID=America/New_York:20250331T111500
DTEND;TZID=America/New_York:20250331T111500
DTSTAMP:20260421T215842
CREATED:20250304T173906Z
LAST-MODIFIED:20250304T173906Z
UID:16156-1743419700-1743419700@towerlane.org
SUMMARY:Mindful Art
DESCRIPTION:
URL:https://towerlane.org/event/mindful-art-2/2025-03-31/
LOCATION:Creativity Studio
END:VEVENT
BEGIN:VEVENT
DTSTART;TZID=America/New_York:20250326T140000
DTEND;TZID=America/New_York:20250326T140000
DTSTAMP:20260421T215842
CREATED:20250304T175220Z
LAST-MODIFIED:20250304T175220Z
UID:16210-1742997600-1742997600@towerlane.org
SUMMARY:JFS Support Group
DESCRIPTION:
URL:https://towerlane.org/event/jfs-support-group-43/
LOCATION:Creativity Studio
END:VEVENT
BEGIN:VEVENT
DTSTART;TZID=America/New_York:20250324T111500
DTEND;TZID=America/New_York:20250324T111500
DTSTAMP:20260421T215842
CREATED:20250304T173906Z
LAST-MODIFIED:20250304T173906Z
UID:16155-1742814900-1742814900@towerlane.org
SUMMARY:Mindful Art
DESCRIPTION:
URL:https://towerlane.org/event/mindful-art-2/2025-03-24/
LOCATION:Creativity Studio
END:VEVENT
BEGIN:VEVENT
DTSTART;TZID=America/New_York:20250320T130000
DTEND;TZID=America/New_York:20250320T130000
DTSTAMP:20260421T215842
CREATED:20250304T175715Z
LAST-MODIFIED:20250304T175715Z
UID:16222-1742475600-1742475600@towerlane.org
SUMMARY:Coloring Group
DESCRIPTION:
URL:https://towerlane.org/event/coloring-group/2025-03-20/
LOCATION:Creativity Studio
END:VEVENT
BEGIN:VEVENT
DTSTART;TZID=America/New_York:20250317T111500
DTEND;TZID=America/New_York:20250317T111500
DTSTAMP:20260421T215842
CREATED:20250304T173906Z
LAST-MODIFIED:20250304T173906Z
UID:16154-1742210100-1742210100@towerlane.org
SUMMARY:Mindful Art
DESCRIPTION:
URL:https://towerlane.org/event/mindful-art-2/2025-03-17/
LOCATION:Creativity Studio
END:VEVENT
BEGIN:VEVENT
DTSTART;TZID=America/New_York:20250313T130000
DTEND;TZID=America/New_York:20250313T130000
DTSTAMP:20260421T215842
CREATED:20250304T175715Z
LAST-MODIFIED:20250304T175715Z
UID:16221-1741870800-1741870800@towerlane.org
SUMMARY:Coloring Group
DESCRIPTION:
URL:https://towerlane.org/event/coloring-group/2025-03-13/
LOCATION:Creativity Studio
END:VEVENT
BEGIN:VEVENT
DTSTART;TZID=America/New_York:20250310T111500
DTEND;TZID=America/New_York:20250310T111500
DTSTAMP:20260421T215842
CREATED:20250304T173906Z
LAST-MODIFIED:20250304T173906Z
UID:16153-1741605300-1741605300@towerlane.org
SUMMARY:Mindful Art
DESCRIPTION:
URL:https://towerlane.org/event/mindful-art-2/
LOCATION:Creativity Studio
END:VEVENT
BEGIN:VEVENT
DTSTART;TZID=America/New_York:20250306T130000
DTEND;TZID=America/New_York:20250306T130000
DTSTAMP:20260421T215842
CREATED:20250304T175715Z
LAST-MODIFIED:20250304T175715Z
UID:16220-1741266000-1741266000@towerlane.org
SUMMARY:Coloring Group
DESCRIPTION:
URL:https://towerlane.org/event/coloring-group/
LOCATION:Creativity Studio
END:VEVENT
BEGIN:VEVENT
DTSTART;TZID=America/New_York:20250306T103000
DTEND;TZID=America/New_York:20250306T103000
DTSTAMP:20260421T215842
CREATED:20250304T175454Z
LAST-MODIFIED:20250304T175454Z
UID:16214-1741257000-1741257000@towerlane.org
SUMMARY:Hopkins Students
DESCRIPTION:
URL:https://towerlane.org/event/hopkins-students/
LOCATION:Creativity Studio
END:VEVENT
BEGIN:VEVENT
DTSTART;TZID=America/New_York:20250303T111500
DTEND;TZID=America/New_York:20250303T111500
DTSTAMP:20260421T215842
CREATED:20250304T173227Z
LAST-MODIFIED:20250304T173227Z
UID:16143-1741000500-1741000500@towerlane.org
SUMMARY:Mindful Art
DESCRIPTION:
URL:https://towerlane.org/event/mindful-art/
LOCATION:Creativity Studio
END:VEVENT
END:VCALENDAR