BEGIN:VCALENDAR
VERSION:2.0
PRODID:-//The Towers - ECPv6.10.3//NONSGML v1.0//EN
CALSCALE:GREGORIAN
METHOD:PUBLISH
X-WR-CALNAME:The Towers
X-ORIGINAL-URL:https://towerlane.org
X-WR-CALDESC:Events for The Towers
REFRESH-INTERVAL;VALUE=DURATION:PT1H
X-Robots-Tag:noindex
X-PUBLISHED-TTL:PT1H
BEGIN:VTIMEZONE
TZID:America/New_York
BEGIN:DAYLIGHT
TZOFFSETFROM:-0500
TZOFFSETTO:-0400
TZNAME:EDT
DTSTART:20250309T070000
END:DAYLIGHT
BEGIN:STANDARD
TZOFFSETFROM:-0400
TZOFFSETTO:-0500
TZNAME:EST
DTSTART:20251102T060000
END:STANDARD
END:VTIMEZONE
BEGIN:VEVENT
DTSTART;TZID=America/New_York:20251023T130000
DTEND;TZID=America/New_York:20251023T130000
DTSTAMP:20260421T081023
CREATED:20250930T154342Z
LAST-MODIFIED:20250930T154342Z
UID:17950-1761224400-1761224400@towerlane.org
SUMMARY:Mynd Immersive VR
DESCRIPTION:
URL:https://towerlane.org/event/mynd-immersive-vr/2025-10-23/
LOCATION:Creativity Studio
END:VEVENT
BEGIN:VEVENT
DTSTART;TZID=America/New_York:20251023T103000
DTEND;TZID=America/New_York:20251023T103000
DTSTAMP:20260421T081023
CREATED:20250930T183455Z
LAST-MODIFIED:20250930T183455Z
UID:17995-1761215400-1761215400@towerlane.org
SUMMARY:Welcome Students from Renbrook School
DESCRIPTION:Part of our Social Pathway.\nIntergenerational meetings with local students.
URL:https://towerlane.org/event/welcome-students-from-renbrook-school/
LOCATION:Creativity Studio
END:VEVENT
BEGIN:VEVENT
DTSTART;TZID=America/New_York:20251021T150000
DTEND;TZID=America/New_York:20251021T150000
DTSTAMP:20260421T081023
CREATED:20250930T182835Z
LAST-MODIFIED:20250930T182835Z
UID:17987-1761058800-1761058800@towerlane.org
SUMMARY:Yiddish Group
DESCRIPTION:Part of our Social Pathway.\nYiddish phrases are discussed. Words and phrases bring back memories and stimulate discussion. Reminiscing style group. Led by volunteer Michelle Abrams.
URL:https://towerlane.org/event/yiddish-group-8/
LOCATION:Creativity Studio
END:VEVENT
BEGIN:VEVENT
DTSTART;TZID=America/New_York:20251021T103000
DTEND;TZID=America/New_York:20251021T103000
DTSTAMP:20260421T081023
CREATED:20250930T182347Z
LAST-MODIFIED:20250930T182347Z
UID:17980-1761042600-1761042600@towerlane.org
SUMMARY:Sewing Group
DESCRIPTION:Part of our Intellectual Pathway.\nVolunteers assist residents sewing scarves\, pillow cases\,  or other projects for community donation. Typically meets twice per month.
URL:https://towerlane.org/event/sewing-group-14/
LOCATION:Creativity Studio
END:VEVENT
BEGIN:VEVENT
DTSTART;TZID=America/New_York:20251020T111500
DTEND;TZID=America/New_York:20251020T111500
DTSTAMP:20260421T081023
CREATED:20250930T150947Z
LAST-MODIFIED:20250930T150947Z
UID:17894-1760958900-1760958900@towerlane.org
SUMMARY:Mindful Art
DESCRIPTION:Part of our Psychological Pathway.\nCounselor Amee Marcantonio utilizes many visual arts techniques to facilitate the creative process. An elevated mood\, improved mental status and better processing of emotions have been reported by participants.
URL:https://towerlane.org/event/mindful-art-9/2025-10-20/
LOCATION:Creativity Studio
END:VEVENT
BEGIN:VEVENT
DTSTART;TZID=America/New_York:20251016T150000
DTEND;TZID=America/New_York:20251016T150000
DTSTAMP:20260421T081023
CREATED:20250930T181807Z
LAST-MODIFIED:20250930T181807Z
UID:17971-1760626800-1760626800@towerlane.org
SUMMARY:Book Club Meeting
DESCRIPTION:Part of our Intellectual Pathway.\nMeets once a month to discuss a chosen book\, which we borrow from local library.
URL:https://towerlane.org/event/book-club-meeting-26/
LOCATION:Creativity Studio
END:VEVENT
BEGIN:VEVENT
DTSTART;TZID=America/New_York:20251016T130000
DTEND;TZID=America/New_York:20251016T130000
DTSTAMP:20260421T081023
CREATED:20250930T181357Z
LAST-MODIFIED:20250930T181357Z
UID:17967-1760619600-1760619600@towerlane.org
SUMMARY:Autumn Art with Betsy Karp
DESCRIPTION:
URL:https://towerlane.org/event/autumn-art-with-betsy-karp/
LOCATION:Creativity Studio
END:VEVENT
BEGIN:VEVENT
DTSTART;TZID=America/New_York:20251013T111500
DTEND;TZID=America/New_York:20251013T111500
DTSTAMP:20260421T081023
CREATED:20250930T150947Z
LAST-MODIFIED:20250930T150947Z
UID:17893-1760354100-1760354100@towerlane.org
SUMMARY:Mindful Art
DESCRIPTION:Part of our Psychological Pathway.\nCounselor Amee Marcantonio utilizes many visual arts techniques to facilitate the creative process. An elevated mood\, improved mental status and better processing of emotions have been reported by participants.
URL:https://towerlane.org/event/mindful-art-9/2025-10-13/
LOCATION:Creativity Studio
END:VEVENT
BEGIN:VEVENT
DTSTART;TZID=America/New_York:20251012T190000
DTEND;TZID=America/New_York:20251012T190000
DTSTAMP:20260421T081023
CREATED:20250930T150414Z
LAST-MODIFIED:20250930T150414Z
UID:17884-1760295600-1760295600@towerlane.org
SUMMARY:Nourish Program
DESCRIPTION:Part of our Intellectual Pathway.\nYale student-led 8 week wellness/education program. Promotes longevity\, healthy aging\, social connectedness etc. (Seasonal)
URL:https://towerlane.org/event/nourish-program-7/2025-10-12/
LOCATION:Creativity Studio
END:VEVENT
BEGIN:VEVENT
DTSTART;TZID=America/New_York:20251009T130000
DTEND;TZID=America/New_York:20251009T130000
DTSTAMP:20260421T081023
CREATED:20250930T154342Z
LAST-MODIFIED:20250930T154342Z
UID:17949-1760014800-1760014800@towerlane.org
SUMMARY:Mynd Immersive VR
DESCRIPTION:
URL:https://towerlane.org/event/mynd-immersive-vr/2025-10-09/
LOCATION:Creativity Studio
END:VEVENT
BEGIN:VEVENT
DTSTART;TZID=America/New_York:20251006T111500
DTEND;TZID=America/New_York:20251006T111500
DTSTAMP:20260421T081023
CREATED:20250930T150947Z
LAST-MODIFIED:20250930T150947Z
UID:17892-1759749300-1759749300@towerlane.org
SUMMARY:Mindful Art
DESCRIPTION:Part of our Psychological Pathway.\nCounselor Amee Marcantonio utilizes many visual arts techniques to facilitate the creative process. An elevated mood\, improved mental status and better processing of emotions have been reported by participants.
URL:https://towerlane.org/event/mindful-art-9/2025-10-06/
LOCATION:Creativity Studio
END:VEVENT
BEGIN:VEVENT
DTSTART;TZID=America/New_York:20251005T190000
DTEND;TZID=America/New_York:20251005T190000
DTSTAMP:20260421T081023
CREATED:20250930T150414Z
LAST-MODIFIED:20250930T150414Z
UID:17883-1759690800-1759690800@towerlane.org
SUMMARY:Nourish Program
DESCRIPTION:Part of our Intellectual Pathway.\nYale student-led 8 week wellness/education program. Promotes longevity\, healthy aging\, social connectedness etc. (Seasonal)
URL:https://towerlane.org/event/nourish-program-7/2025-10-05/
LOCATION:Creativity Studio
END:VEVENT
BEGIN:VEVENT
DTSTART;TZID=America/New_York:20250930T150000
DTEND;TZID=America/New_York:20250930T150000
DTSTAMP:20260421T081023
CREATED:20250830T174550Z
LAST-MODIFIED:20250830T174550Z
UID:17789-1759244400-1759244400@towerlane.org
SUMMARY:Yiddish Group
DESCRIPTION:Part of our Social Pathway.\nYiddish phrases are discussed. Words and phrases bring back memories and stimulate discussion. Reminiscing style group. Led by volunteer Michelle Abrams.
URL:https://towerlane.org/event/yiddish-group-7/
LOCATION:Creativity Studio
END:VEVENT
BEGIN:VEVENT
DTSTART;TZID=America/New_York:20250930T103000
DTEND;TZID=America/New_York:20250930T103000
DTSTAMP:20260421T081023
CREATED:20250830T174444Z
LAST-MODIFIED:20250830T174444Z
UID:17787-1759228200-1759228200@towerlane.org
SUMMARY:Sewing Group
DESCRIPTION:Part of our Intellectual Pathway.\nVolunteers assist residents sewing scarves\, pillow cases\,  or other projects for community donation. Typically meets twice per month.
URL:https://towerlane.org/event/sewing-group-13/
LOCATION:Creativity Studio
END:VEVENT
BEGIN:VEVENT
DTSTART;TZID=America/New_York:20250929T111500
DTEND;TZID=America/New_York:20250929T111500
DTSTAMP:20260421T081023
CREATED:20250830T165905Z
LAST-MODIFIED:20250830T165905Z
UID:17719-1759144500-1759144500@towerlane.org
SUMMARY:Mindful Art
DESCRIPTION:Part of our Psychological Pathway.\nCounselor Amee Marcantonio utilizes many visual arts techniques to facilitate the creative process. An elevated mood\, improved mental status and better processing of emotions have been reported by participants.
URL:https://towerlane.org/event/mindful-art-8/2025-09-29/
LOCATION:Creativity Studio
END:VEVENT
BEGIN:VEVENT
DTSTART;TZID=America/New_York:20250925T130000
DTEND;TZID=America/New_York:20250925T130000
DTSTAMP:20260421T081023
CREATED:20250830T171810Z
LAST-MODIFIED:20250830T171810Z
UID:17743-1758805200-1758805200@towerlane.org
SUMMARY:Mynd Immersive
DESCRIPTION:
URL:https://towerlane.org/event/mynd-immersive/2025-09-25/
LOCATION:Creativity Studio
END:VEVENT
BEGIN:VEVENT
DTSTART;TZID=America/New_York:20250922T111500
DTEND;TZID=America/New_York:20250922T111500
DTSTAMP:20260421T081023
CREATED:20250830T165905Z
LAST-MODIFIED:20250830T165905Z
UID:17718-1758539700-1758539700@towerlane.org
SUMMARY:Mindful Art
DESCRIPTION:Part of our Psychological Pathway.\nCounselor Amee Marcantonio utilizes many visual arts techniques to facilitate the creative process. An elevated mood\, improved mental status and better processing of emotions have been reported by participants.
URL:https://towerlane.org/event/mindful-art-8/2025-09-22/
LOCATION:Creativity Studio
END:VEVENT
BEGIN:VEVENT
DTSTART;TZID=America/New_York:20250915T111500
DTEND;TZID=America/New_York:20250915T111500
DTSTAMP:20260421T081023
CREATED:20250830T165905Z
LAST-MODIFIED:20250830T165905Z
UID:17717-1757934900-1757934900@towerlane.org
SUMMARY:Mindful Art
DESCRIPTION:Part of our Psychological Pathway.\nCounselor Amee Marcantonio utilizes many visual arts techniques to facilitate the creative process. An elevated mood\, improved mental status and better processing of emotions have been reported by participants.
URL:https://towerlane.org/event/mindful-art-8/2025-09-15/
LOCATION:Creativity Studio
END:VEVENT
BEGIN:VEVENT
DTSTART;TZID=America/New_York:20250911T130000
DTEND;TZID=America/New_York:20250911T130000
DTSTAMP:20260421T081023
CREATED:20250830T171810Z
LAST-MODIFIED:20250830T171810Z
UID:17742-1757595600-1757595600@towerlane.org
SUMMARY:Mynd Immersive
DESCRIPTION:
URL:https://towerlane.org/event/mynd-immersive/2025-09-11/
LOCATION:Creativity Studio
END:VEVENT
BEGIN:VEVENT
DTSTART;TZID=America/New_York:20250909T150000
DTEND;TZID=America/New_York:20250909T150000
DTSTAMP:20260421T081023
CREATED:20250830T171019Z
LAST-MODIFIED:20250830T171019Z
UID:17733-1757430000-1757430000@towerlane.org
SUMMARY:Yiddish Group
DESCRIPTION:Part of our Social Pathway.\nYiddish phrases are discussed. Words and phrases bring back memories and stimulate discussion. Reminiscing style group. Led by volunteer Michelle Abrams.
URL:https://towerlane.org/event/yiddish-group-6/
LOCATION:Creativity Studio
END:VEVENT
BEGIN:VEVENT
DTSTART;TZID=America/New_York:20250909T103000
DTEND;TZID=America/New_York:20250909T103000
DTSTAMP:20260421T081023
CREATED:20250830T170718Z
LAST-MODIFIED:20250830T170718Z
UID:17729-1757413800-1757413800@towerlane.org
SUMMARY:Sewing Group
DESCRIPTION:Part of our Intellectual Pathway.\nVolunteers assist residents sewing scarves\, pillow cases\,  or other projects for community donation. Typically meets twice per month.
URL:https://towerlane.org/event/sewing-group-12/
LOCATION:Creativity Studio
END:VEVENT
BEGIN:VEVENT
DTSTART;TZID=America/New_York:20250908T111500
DTEND;TZID=America/New_York:20250908T111500
DTSTAMP:20260421T081023
CREATED:20250830T165905Z
LAST-MODIFIED:20250830T165905Z
UID:17716-1757330100-1757330100@towerlane.org
SUMMARY:Mindful Art
DESCRIPTION:Part of our Psychological Pathway.\nCounselor Amee Marcantonio utilizes many visual arts techniques to facilitate the creative process. An elevated mood\, improved mental status and better processing of emotions have been reported by participants.
URL:https://towerlane.org/event/mindful-art-8/2025-09-08/
LOCATION:Creativity Studio
END:VEVENT
BEGIN:VEVENT
DTSTART;TZID=America/New_York:20250826T103000
DTEND;TZID=America/New_York:20250826T103000
DTSTAMP:20260421T081023
CREATED:20250730T201522Z
LAST-MODIFIED:20250730T201522Z
UID:17485-1756204200-1756204200@towerlane.org
SUMMARY:Sewing Group
DESCRIPTION:Part of our Intellectual Pathway.\nVolunteers assist residents sewing scarves\, pillow cases\,  or other projects for community donation. Typically meets twice per month.
URL:https://towerlane.org/event/sewing-group-11/2025-08-26/
LOCATION:Creativity Studio
END:VEVENT
BEGIN:VEVENT
DTSTART;TZID=America/New_York:20250825T111500
DTEND;TZID=America/New_York:20250825T111500
DTSTAMP:20260421T081023
CREATED:20250730T193005Z
LAST-MODIFIED:20250730T193005Z
UID:17414-1756120500-1756120500@towerlane.org
SUMMARY:Mindful Art
DESCRIPTION:Part of our Psychological Pathway.\nCounselor Amee Marcantonio utilizes many visual arts techniques to facilitate the creative process. An elevated mood\, improved mental status and better processing of emotions have been reported by participants.
URL:https://towerlane.org/event/mindful-art-7/2025-08-25/
LOCATION:Creativity Studio
END:VEVENT
BEGIN:VEVENT
DTSTART;TZID=America/New_York:20250819T103000
DTEND;TZID=America/New_York:20250819T103000
DTSTAMP:20260421T081023
CREATED:20250730T201522Z
LAST-MODIFIED:20250730T201522Z
UID:17484-1755599400-1755599400@towerlane.org
SUMMARY:Sewing Group
DESCRIPTION:Part of our Intellectual Pathway.\nVolunteers assist residents sewing scarves\, pillow cases\,  or other projects for community donation. Typically meets twice per month.
URL:https://towerlane.org/event/sewing-group-11/2025-08-19/
LOCATION:Creativity Studio
END:VEVENT
BEGIN:VEVENT
DTSTART;TZID=America/New_York:20250818T111500
DTEND;TZID=America/New_York:20250818T111500
DTSTAMP:20260421T081023
CREATED:20250730T193005Z
LAST-MODIFIED:20250730T193005Z
UID:17413-1755515700-1755515700@towerlane.org
SUMMARY:Mindful Art
DESCRIPTION:Part of our Psychological Pathway.\nCounselor Amee Marcantonio utilizes many visual arts techniques to facilitate the creative process. An elevated mood\, improved mental status and better processing of emotions have been reported by participants.
URL:https://towerlane.org/event/mindful-art-7/2025-08-18/
LOCATION:Creativity Studio
END:VEVENT
BEGIN:VEVENT
DTSTART;TZID=America/New_York:20250814T150000
DTEND;TZID=America/New_York:20250814T150000
DTSTAMP:20260421T081023
CREATED:20250730T204008Z
LAST-MODIFIED:20250730T204008Z
UID:17515-1755183600-1755183600@towerlane.org
SUMMARY:Book Club Meeting
DESCRIPTION:Part of our Intellectual Pathway.\nMeets once a month to discuss a chosen book\, which we borrow from local library.
URL:https://towerlane.org/event/book-club-meeting-25/
LOCATION:Creativity Studio
END:VEVENT
BEGIN:VEVENT
DTSTART;TZID=America/New_York:20250814T113000
DTEND;TZID=America/New_York:20250814T113000
DTSTAMP:20260421T081023
CREATED:20250730T203406Z
LAST-MODIFIED:20250730T203406Z
UID:17506-1755171000-1755171000@towerlane.org
SUMMARY:QU Students Group
DESCRIPTION:Group led by Quinnipiac Doctorate Students. Topics vary.
URL:https://towerlane.org/event/qu-students-group-47/
LOCATION:Creativity Studio
END:VEVENT
BEGIN:VEVENT
DTSTART;TZID=America/New_York:20250812T103000
DTEND;TZID=America/New_York:20250812T103000
DTSTAMP:20260421T081023
CREATED:20250730T201522Z
LAST-MODIFIED:20250730T201522Z
UID:17483-1754994600-1754994600@towerlane.org
SUMMARY:Sewing Group
DESCRIPTION:Part of our Intellectual Pathway.\nVolunteers assist residents sewing scarves\, pillow cases\,  or other projects for community donation. Typically meets twice per month.
URL:https://towerlane.org/event/sewing-group-11/2025-08-12/
LOCATION:Creativity Studio
END:VEVENT
BEGIN:VEVENT
DTSTART;TZID=America/New_York:20250811T111500
DTEND;TZID=America/New_York:20250811T111500
DTSTAMP:20260421T081023
CREATED:20250730T193005Z
LAST-MODIFIED:20250730T193005Z
UID:17412-1754910900-1754910900@towerlane.org
SUMMARY:Mindful Art
DESCRIPTION:Part of our Psychological Pathway.\nCounselor Amee Marcantonio utilizes many visual arts techniques to facilitate the creative process. An elevated mood\, improved mental status and better processing of emotions have been reported by participants.
URL:https://towerlane.org/event/mindful-art-7/2025-08-11/
LOCATION:Creativity Studio
END:VEVENT
END:VCALENDAR