BEGIN:VCALENDAR
VERSION:2.0
PRODID:-//The Towers - ECPv6.10.3//NONSGML v1.0//EN
CALSCALE:GREGORIAN
METHOD:PUBLISH
X-WR-CALNAME:The Towers
X-ORIGINAL-URL:https://towerlane.org
X-WR-CALDESC:Events for The Towers
REFRESH-INTERVAL;VALUE=DURATION:PT1H
X-Robots-Tag:noindex
X-PUBLISHED-TTL:PT1H
BEGIN:VTIMEZONE
TZID:America/New_York
BEGIN:DAYLIGHT
TZOFFSETFROM:-0500
TZOFFSETTO:-0400
TZNAME:EDT
DTSTART:20250309T070000
END:DAYLIGHT
BEGIN:STANDARD
TZOFFSETFROM:-0400
TZOFFSETTO:-0500
TZNAME:EST
DTSTART:20251102T060000
END:STANDARD
END:VTIMEZONE
BEGIN:VEVENT
DTSTART;TZID=America/New_York:20250610T130000
DTEND;TZID=America/New_York:20250610T130000
DTSTAMP:20260420T153346
CREATED:20250601T174457Z
LAST-MODIFIED:20250601T174457Z
UID:16953-1749560400-1749560400@towerlane.org
SUMMARY:Interactive Music
DESCRIPTION:Part of our Psychological Pathway\nMusic therapy uses several different interventions to promote wellness and manage stress. It encourages communication and expression through musical interaction and it is just a lot of fun!  Led by certified music therapist Tess Sandler.
URL:https://towerlane.org/event/interactive-music-37/2025-06-10/
LOCATION:Dining Room
END:VEVENT
BEGIN:VEVENT
DTSTART;TZID=America/New_York:20250609T130000
DTEND;TZID=America/New_York:20250609T130000
DTSTAMP:20260420T153346
CREATED:20250601T173013Z
LAST-MODIFIED:20250601T173013Z
UID:16930-1749474000-1749474000@towerlane.org
SUMMARY:Chair Yoga
DESCRIPTION:Part of our Physical Pathway\nA lower intensity exercise session performed mostly seated. This is a great option for residents not ready for the frequent standing exercise during a Healthy and Fit session. Led by Yoga/Tai Chi instructor Bil Banick
URL:https://towerlane.org/event/chair-yoga-29/2025-06-09/
LOCATION:Dining Room
END:VEVENT
BEGIN:VEVENT
DTSTART;TZID=America/New_York:20250609T100000
DTEND;TZID=America/New_York:20250609T100000
DTSTAMP:20260420T153346
CREATED:20250530T201951Z
LAST-MODIFIED:20250530T201951Z
UID:16916-1749463200-1749463200@towerlane.org
SUMMARY:Coffee Klatch
DESCRIPTION:Part of our Social Pathway\, Weekly resident social hour
URL:https://towerlane.org/event/coffee-klatch-34/2025-06-09/
LOCATION:Dining Room
END:VEVENT
BEGIN:VEVENT
DTSTART;TZID=America/New_York:20250607T153000
DTEND;TZID=America/New_York:20250607T153000
DTSTAMP:20260420T153346
CREATED:20250601T195311Z
LAST-MODIFIED:20250601T195311Z
UID:17025-1749310200-1749310200@towerlane.org
SUMMARY:Christian Worship Service
DESCRIPTION:Part of our Spiritual Pathway \nTwice per month Non-denominational Christian service with Pastor Joel Lynch.
URL:https://towerlane.org/event/christian-worship-service-52/
LOCATION:Dining Room
END:VEVENT
BEGIN:VEVENT
DTSTART;TZID=America/New_York:20250606T130000
DTEND;TZID=America/New_York:20250606T130000
DTSTAMP:20260420T153346
CREATED:20250601T183155Z
LAST-MODIFIED:20250604T194106Z
UID:16996-1749214800-1749214800@towerlane.org
SUMMARY:Tai Chi
DESCRIPTION:Part of our Physical Pathway \nOffers an enhancement of traditional Tai Ji Quan by transforming the movements into therapeutic training for balance and mobility. Evidence-based program recommended by the National Council on Aging. Led by TJQ certified instructor\, Bill Banick.
URL:https://towerlane.org/event/tai-chi-34/2025-06-06/
LOCATION:Dining Room
END:VEVENT
BEGIN:VEVENT
DTSTART;TZID=America/New_York:20250603T140000
DTEND;TZID=America/New_York:20250603T140000
DTSTAMP:20260420T153346
CREATED:20250601T174539Z
LAST-MODIFIED:20250601T174539Z
UID:16957-1748959200-1748959200@towerlane.org
SUMMARY:Dining Meeting
DESCRIPTION:
URL:https://towerlane.org/event/dining-meeting-12/
LOCATION:Dining Room
END:VEVENT
BEGIN:VEVENT
DTSTART;TZID=America/New_York:20250603T130000
DTEND;TZID=America/New_York:20250603T130000
DTSTAMP:20260420T153346
CREATED:20250601T174457Z
LAST-MODIFIED:20250601T174457Z
UID:16952-1748955600-1748955600@towerlane.org
SUMMARY:Interactive Music
DESCRIPTION:Part of our Psychological Pathway\nMusic therapy uses several different interventions to promote wellness and manage stress. It encourages communication and expression through musical interaction and it is just a lot of fun!  Led by certified music therapist Tess Sandler.
URL:https://towerlane.org/event/interactive-music-37/2025-06-03/
LOCATION:Dining Room
END:VEVENT
BEGIN:VEVENT
DTSTART;TZID=America/New_York:20250602T173000
DTEND;TZID=America/New_York:20250602T173000
DTSTAMP:20260420T153346
CREATED:20250601T173355Z
LAST-MODIFIED:20250601T173355Z
UID:16939-1748885400-1748885400@towerlane.org
SUMMARY:Pianist Larry Batter
DESCRIPTION:
URL:https://towerlane.org/event/pianist-larry-batter-3/
LOCATION:Dining Room
END:VEVENT
BEGIN:VEVENT
DTSTART;TZID=America/New_York:20250602T130000
DTEND;TZID=America/New_York:20250602T130000
DTSTAMP:20260420T153346
CREATED:20250601T173013Z
LAST-MODIFIED:20250601T173013Z
UID:16929-1748869200-1748869200@towerlane.org
SUMMARY:Chair Yoga
DESCRIPTION:Part of our Physical Pathway\nA lower intensity exercise session performed mostly seated. This is a great option for residents not ready for the frequent standing exercise during a Healthy and Fit session. Led by Yoga/Tai Chi instructor Bil Banick
URL:https://towerlane.org/event/chair-yoga-29/2025-06-02/
LOCATION:Dining Room
END:VEVENT
BEGIN:VEVENT
DTSTART;TZID=America/New_York:20250602T100000
DTEND;TZID=America/New_York:20250602T100000
DTSTAMP:20260420T153346
CREATED:20250530T201951Z
LAST-MODIFIED:20250530T201951Z
UID:16915-1748858400-1748858400@towerlane.org
SUMMARY:Coffee Klatch
DESCRIPTION:Part of our Social Pathway\, Weekly resident social hour
URL:https://towerlane.org/event/coffee-klatch-34/2025-06-02/
LOCATION:Dining Room
END:VEVENT
BEGIN:VEVENT
DTSTART;TZID=America/New_York:20250530T130000
DTEND;TZID=America/New_York:20250530T130000
DTSTAMP:20260420T153346
CREATED:20250501T140445Z
LAST-MODIFIED:20250501T140445Z
UID:16676-1748610000-1748610000@towerlane.org
SUMMARY:Tai Chi
DESCRIPTION:
URL:https://towerlane.org/event/tai-chi-32/2025-05-30/
LOCATION:Dining Room
END:VEVENT
BEGIN:VEVENT
DTSTART;TZID=America/New_York:20250528T173000
DTEND;TZID=America/New_York:20250528T173000
DTSTAMP:20260420T153346
CREATED:20250502T184705Z
LAST-MODIFIED:20250502T184705Z
UID:16829-1748453400-1748453400@towerlane.org
SUMMARY:Pianist Larry Batter
DESCRIPTION:
URL:https://towerlane.org/event/pianist-larry-batter-2/
LOCATION:Dining Room
END:VEVENT
BEGIN:VEVENT
DTSTART;TZID=America/New_York:20250527T130000
DTEND;TZID=America/New_York:20250527T130000
DTSTAMP:20260420T153346
CREATED:20250502T181315Z
LAST-MODIFIED:20250502T181315Z
UID:16752-1748350800-1748350800@towerlane.org
SUMMARY:Interactive Music
DESCRIPTION:
URL:https://towerlane.org/event/interactive-music-36/2025-05-27/
LOCATION:Dining Room
END:VEVENT
BEGIN:VEVENT
DTSTART;TZID=America/New_York:20250527T113000
DTEND;TZID=America/New_York:20250527T113000
DTSTAMP:20260420T153346
CREATED:20250502T184504Z
LAST-MODIFIED:20250502T184504Z
UID:16823-1748345400-1748345400@towerlane.org
SUMMARY:Tai Chi
DESCRIPTION:
URL:https://towerlane.org/event/tai-chi-33/
LOCATION:Dining Room
END:VEVENT
BEGIN:VEVENT
DTSTART;TZID=America/New_York:20250526T100000
DTEND;TZID=America/New_York:20250526T100000
DTSTAMP:20260420T153346
CREATED:20250501T194321Z
LAST-MODIFIED:20250501T194321Z
UID:16724-1748253600-1748253600@towerlane.org
SUMMARY:Coffee Klatch
DESCRIPTION:
URL:https://towerlane.org/event/coffee-klatch-33/2025-05-26/
LOCATION:Dining Room
END:VEVENT
BEGIN:VEVENT
DTSTART;TZID=America/New_York:20250525T140000
DTEND;TZID=America/New_York:20250525T140000
DTSTAMP:20260420T153346
CREATED:20250502T184354Z
LAST-MODIFIED:20250502T184354Z
UID:16819-1748181600-1748181600@towerlane.org
SUMMARY:Welcome Back "Harmonies for Healing"
DESCRIPTION:
URL:https://towerlane.org/event/welcome-back-harmonies-for-healing-2/
LOCATION:Dining Room
END:VEVENT
BEGIN:VEVENT
DTSTART;TZID=America/New_York:20250523T130000
DTEND;TZID=America/New_York:20250523T130000
DTSTAMP:20260420T153346
CREATED:20250501T140445Z
LAST-MODIFIED:20250501T140445Z
UID:16675-1748005200-1748005200@towerlane.org
SUMMARY:Tai Chi
DESCRIPTION:
URL:https://towerlane.org/event/tai-chi-32/2025-05-23/
LOCATION:Dining Room
END:VEVENT
BEGIN:VEVENT
DTSTART;TZID=America/New_York:20250522T113000
DTEND;TZID=America/New_York:20250522T113000
DTSTAMP:20260420T153346
CREATED:20250502T184219Z
LAST-MODIFIED:20250502T184219Z
UID:16815-1747913400-1747913400@towerlane.org
SUMMARY:Mindfulness & Movement
DESCRIPTION:
URL:https://towerlane.org/event/mindfulness-movement-29/
LOCATION:Dining Room
END:VEVENT
BEGIN:VEVENT
DTSTART;TZID=America/New_York:20250520T130000
DTEND;TZID=America/New_York:20250520T130000
DTSTAMP:20260420T153346
CREATED:20250502T181315Z
LAST-MODIFIED:20250502T181315Z
UID:16751-1747746000-1747746000@towerlane.org
SUMMARY:Interactive Music
DESCRIPTION:
URL:https://towerlane.org/event/interactive-music-36/2025-05-20/
LOCATION:Dining Room
END:VEVENT
BEGIN:VEVENT
DTSTART;TZID=America/New_York:20250519T130000
DTEND;TZID=America/New_York:20250519T130000
DTSTAMP:20260420T153346
CREATED:20250501T194533Z
LAST-MODIFIED:20250523T211910Z
UID:16732-1747659600-1747659600@towerlane.org
SUMMARY:Chair Yoga
DESCRIPTION:Part of our Physical Pathway – A lower intensity exercise session performed mostly seated. This is a great option for residents not ready for the frequent standing exercise during a Healthy and Fit session. Led by Yoga/Tai Chi instructor Bil Banick.
URL:https://towerlane.org/event/chair-yoga-28/2025-05-19/
LOCATION:Dining Room
END:VEVENT
BEGIN:VEVENT
DTSTART;TZID=America/New_York:20250519T100000
DTEND;TZID=America/New_York:20250519T100000
DTSTAMP:20260420T153346
CREATED:20250501T194321Z
LAST-MODIFIED:20250501T194321Z
UID:16723-1747648800-1747648800@towerlane.org
SUMMARY:Coffee Klatch
DESCRIPTION:
URL:https://towerlane.org/event/coffee-klatch-33/2025-05-19/
LOCATION:Dining Room
END:VEVENT
BEGIN:VEVENT
DTSTART;TZID=America/New_York:20250517T153000
DTEND;TZID=America/New_York:20250517T153000
DTSTAMP:20260420T153346
CREATED:20250501T193902Z
LAST-MODIFIED:20250501T193902Z
UID:16706-1747495800-1747495800@towerlane.org
SUMMARY:Christian Worship Service
DESCRIPTION:
URL:https://towerlane.org/event/christian-worship-service-51/2025-05-17/
LOCATION:Dining Room
END:VEVENT
BEGIN:VEVENT
DTSTART;TZID=America/New_York:20250516T130000
DTEND;TZID=America/New_York:20250516T130000
DTSTAMP:20260420T153346
CREATED:20250501T140445Z
LAST-MODIFIED:20250501T140445Z
UID:16674-1747400400-1747400400@towerlane.org
SUMMARY:Tai Chi
DESCRIPTION:
URL:https://towerlane.org/event/tai-chi-32/2025-05-16/
LOCATION:Dining Room
END:VEVENT
BEGIN:VEVENT
DTSTART;TZID=America/New_York:20250515T130000
DTEND;TZID=America/New_York:20250515T130000
DTSTAMP:20260420T153346
CREATED:20250502T183509Z
LAST-MODIFIED:20250502T183509Z
UID:16801-1747314000-1747314000@towerlane.org
SUMMARY:Catholic Mass
DESCRIPTION:
URL:https://towerlane.org/event/catholic-mass-66/
LOCATION:Dining Room
END:VEVENT
BEGIN:VEVENT
DTSTART;TZID=America/New_York:20250514T110000
DTEND;TZID=America/New_York:20250514T130000
DTSTAMP:20260420T153346
CREATED:20250502T183219Z
LAST-MODIFIED:20250502T183219Z
UID:16794-1747220400-1747227600@towerlane.org
SUMMARY:Wilson Library
DESCRIPTION:
URL:https://towerlane.org/event/wilson-library-6/
LOCATION:Dining Room
END:VEVENT
BEGIN:VEVENT
DTSTART;TZID=America/New_York:20250513T130000
DTEND;TZID=America/New_York:20250513T130000
DTSTAMP:20260420T153346
CREATED:20250502T181315Z
LAST-MODIFIED:20250502T181315Z
UID:16750-1747141200-1747141200@towerlane.org
SUMMARY:Interactive Music
DESCRIPTION:
URL:https://towerlane.org/event/interactive-music-36/2025-05-13/
LOCATION:Dining Room
END:VEVENT
BEGIN:VEVENT
DTSTART;TZID=America/New_York:20250512T130000
DTEND;TZID=America/New_York:20250512T130000
DTSTAMP:20260420T153346
CREATED:20250501T194533Z
LAST-MODIFIED:20250523T211910Z
UID:16731-1747054800-1747054800@towerlane.org
SUMMARY:Chair Yoga
DESCRIPTION:Part of our Physical Pathway – A lower intensity exercise session performed mostly seated. This is a great option for residents not ready for the frequent standing exercise during a Healthy and Fit session. Led by Yoga/Tai Chi instructor Bil Banick.
URL:https://towerlane.org/event/chair-yoga-28/2025-05-12/
LOCATION:Dining Room
END:VEVENT
BEGIN:VEVENT
DTSTART;TZID=America/New_York:20250512T100000
DTEND;TZID=America/New_York:20250512T100000
DTSTAMP:20260420T153346
CREATED:20250501T194321Z
LAST-MODIFIED:20250501T194321Z
UID:16722-1747044000-1747044000@towerlane.org
SUMMARY:Coffee Klatch
DESCRIPTION:
URL:https://towerlane.org/event/coffee-klatch-33/2025-05-12/
LOCATION:Dining Room
END:VEVENT
BEGIN:VEVENT
DTSTART;TZID=America/New_York:20250508T113000
DTEND;TZID=America/New_York:20250508T113000
DTSTAMP:20260420T153346
CREATED:20250502T182238Z
LAST-MODIFIED:20250502T182238Z
UID:16776-1746703800-1746703800@towerlane.org
SUMMARY:Mindfulness & Movement
DESCRIPTION:
URL:https://towerlane.org/event/mindfulness-movement-28/
LOCATION:Dining Room
END:VEVENT
BEGIN:VEVENT
DTSTART;TZID=America/New_York:20250506T140000
DTEND;TZID=America/New_York:20250506T140000
DTSTAMP:20260420T153346
CREATED:20250502T181400Z
LAST-MODIFIED:20250502T181400Z
UID:16754-1746540000-1746540000@towerlane.org
SUMMARY:Dining Meeting
DESCRIPTION:
URL:https://towerlane.org/event/dining-meeting-11/
LOCATION:Dining Room
END:VEVENT
END:VCALENDAR