BEGIN:VCALENDAR
VERSION:2.0
PRODID:-//The Towers - ECPv6.10.3//NONSGML v1.0//EN
CALSCALE:GREGORIAN
METHOD:PUBLISH
X-ORIGINAL-URL:https://towerlane.org
X-WR-CALDESC:Events for The Towers
REFRESH-INTERVAL;VALUE=DURATION:PT1H
X-Robots-Tag:noindex
X-PUBLISHED-TTL:PT1H
BEGIN:VTIMEZONE
TZID:America/New_York
BEGIN:DAYLIGHT
TZOFFSETFROM:-0500
TZOFFSETTO:-0400
TZNAME:EDT
DTSTART:20250309T070000
END:DAYLIGHT
BEGIN:STANDARD
TZOFFSETFROM:-0400
TZOFFSETTO:-0500
TZNAME:EST
DTSTART:20251102T060000
END:STANDARD
END:VTIMEZONE
BEGIN:VEVENT
DTSTART;TZID=America/New_York:20250331T190000
DTEND;TZID=America/New_York:20250331T190000
DTSTAMP:20260421T005806
CREATED:20250304T174141Z
LAST-MODIFIED:20250304T174141Z
UID:16174-1743447600-1743447600@towerlane.org
SUMMARY:Nourish Program
DESCRIPTION:
URL:https://towerlane.org/event/nourish-program-5/2025-03-31/
LOCATION:Dining Room
END:VEVENT
BEGIN:VEVENT
DTSTART;TZID=America/New_York:20250331T130000
DTEND;TZID=America/New_York:20250331T130000
DTSTAMP:20260421T005806
CREATED:20250304T173958Z
LAST-MODIFIED:20250304T173958Z
UID:16162-1743426000-1743426000@towerlane.org
SUMMARY:Chair Yoga
DESCRIPTION:
URL:https://towerlane.org/event/chair-yoga-26/2025-03-31/
LOCATION:Dining Room
END:VEVENT
BEGIN:VEVENT
DTSTART;TZID=America/New_York:20250331T100000
DTEND;TZID=America/New_York:20250331T100000
DTSTAMP:20260421T005806
CREATED:20250304T173114Z
LAST-MODIFIED:20250304T173114Z
UID:16141-1743415200-1743415200@towerlane.org
SUMMARY:Coffee Klatch
DESCRIPTION:
URL:https://towerlane.org/event/coffee-klatch-31/2025-03-31/
LOCATION:Dining Room
END:VEVENT
BEGIN:VEVENT
DTSTART;TZID=America/New_York:20250328T130000
DTEND;TZID=America/New_York:20250328T130000
DTSTAMP:20260421T005806
CREATED:20250304T180129Z
LAST-MODIFIED:20250304T180129Z
UID:16239-1743166800-1743166800@towerlane.org
SUMMARY:Tai Chi
DESCRIPTION:
URL:https://towerlane.org/event/tai-chi-30/2025-03-28/
LOCATION:Dining Room
END:VEVENT
BEGIN:VEVENT
DTSTART;TZID=America/New_York:20250328T100000
DTEND;TZID=America/New_York:20250328T100000
DTSTAMP:20260421T005806
CREATED:20250304T175937Z
LAST-MODIFIED:20250304T175937Z
UID:16229-1743156000-1743156000@towerlane.org
SUMMARY:Interfaith Bible Study
DESCRIPTION:
URL:https://towerlane.org/event/interfaith-bible-study-2/2025-03-28/
LOCATION:Dining Room
END:VEVENT
BEGIN:VEVENT
DTSTART;TZID=America/New_York:20250327T140000
DTEND;TZID=America/New_York:20250327T140000
DTSTAMP:20260421T005806
CREATED:20250305T191230Z
LAST-MODIFIED:20250305T191230Z
UID:16327-1743084000-1743084000@towerlane.org
SUMMARY:Sing Along with Richard Gans
DESCRIPTION:
URL:https://towerlane.org/event/sing-along-with-richard-gans-17/
LOCATION:Dining Room
END:VEVENT
BEGIN:VEVENT
DTSTART;TZID=America/New_York:20250326T190000
DTEND;TZID=America/New_York:20250326T190000
DTSTAMP:20260421T005806
CREATED:20250305T191030Z
LAST-MODIFIED:20250305T191030Z
UID:16321-1743015600-1743015600@towerlane.org
SUMMARY:Welcome Charles "Piano Man" Thomas
DESCRIPTION:
URL:https://towerlane.org/event/welcome-charles-piano-man-thomas-3/
LOCATION:Dining Room
END:VEVENT
BEGIN:VEVENT
DTSTART;TZID=America/New_York:20250326T120000
DTEND;TZID=America/New_York:20250326T133000
DTSTAMP:20260421T005806
CREATED:20250305T190901Z
LAST-MODIFIED:20250305T190901Z
UID:16317-1742990400-1742995800@towerlane.org
SUMMARY:Early Spring Social
DESCRIPTION:
URL:https://towerlane.org/event/early-spring-social/
LOCATION:Dining Room
END:VEVENT
BEGIN:VEVENT
DTSTART;TZID=America/New_York:20250325T130000
DTEND;TZID=America/New_York:20250325T130000
DTSTAMP:20260421T005806
CREATED:20250304T174607Z
LAST-MODIFIED:20250304T174607Z
UID:16191-1742907600-1742907600@towerlane.org
SUMMARY:Interactive Music
DESCRIPTION:
URL:https://towerlane.org/event/interactive-music-34/2025-03-25/
LOCATION:Dining Room
END:VEVENT
BEGIN:VEVENT
DTSTART;TZID=America/New_York:20250324T190000
DTEND;TZID=America/New_York:20250324T190000
DTSTAMP:20260421T005806
CREATED:20250304T174141Z
LAST-MODIFIED:20250304T174141Z
UID:16173-1742842800-1742842800@towerlane.org
SUMMARY:Nourish Program
DESCRIPTION:
URL:https://towerlane.org/event/nourish-program-5/2025-03-24/
LOCATION:Dining Room
END:VEVENT
BEGIN:VEVENT
DTSTART;TZID=America/New_York:20250324T130000
DTEND;TZID=America/New_York:20250324T130000
DTSTAMP:20260421T005806
CREATED:20250304T173958Z
LAST-MODIFIED:20250304T173958Z
UID:16161-1742821200-1742821200@towerlane.org
SUMMARY:Chair Yoga
DESCRIPTION:
URL:https://towerlane.org/event/chair-yoga-26/2025-03-24/
LOCATION:Dining Room
END:VEVENT
BEGIN:VEVENT
DTSTART;TZID=America/New_York:20250324T100000
DTEND;TZID=America/New_York:20250324T100000
DTSTAMP:20260421T005806
CREATED:20250304T173114Z
LAST-MODIFIED:20250304T173114Z
UID:16140-1742810400-1742810400@towerlane.org
SUMMARY:Coffee Klatch
DESCRIPTION:
URL:https://towerlane.org/event/coffee-klatch-31/2025-03-24/
LOCATION:Dining Room
END:VEVENT
BEGIN:VEVENT
DTSTART;TZID=America/New_York:20250322T153000
DTEND;TZID=America/New_York:20250322T153000
DTSTAMP:20260421T005806
CREATED:20250305T190600Z
LAST-MODIFIED:20250305T190600Z
UID:16311-1742657400-1742657400@towerlane.org
SUMMARY:Christian Worship Service
DESCRIPTION:
URL:https://towerlane.org/event/christian-worship-service-48/
LOCATION:Dining Room
END:VEVENT
BEGIN:VEVENT
DTSTART;TZID=America/New_York:20250321T130000
DTEND;TZID=America/New_York:20250321T130000
DTSTAMP:20260421T005806
CREATED:20250304T180129Z
LAST-MODIFIED:20250304T180129Z
UID:16238-1742562000-1742562000@towerlane.org
SUMMARY:Tai Chi
DESCRIPTION:
URL:https://towerlane.org/event/tai-chi-30/2025-03-21/
LOCATION:Dining Room
END:VEVENT
BEGIN:VEVENT
DTSTART;TZID=America/New_York:20250321T100000
DTEND;TZID=America/New_York:20250321T100000
DTSTAMP:20260421T005806
CREATED:20250304T175937Z
LAST-MODIFIED:20250304T175937Z
UID:16228-1742551200-1742551200@towerlane.org
SUMMARY:Interfaith Bible Study
DESCRIPTION:
URL:https://towerlane.org/event/interfaith-bible-study-2/2025-03-21/
LOCATION:Dining Room
END:VEVENT
BEGIN:VEVENT
DTSTART;TZID=America/New_York:20250320T173000
DTEND;TZID=America/New_York:20250320T173000
DTSTAMP:20260421T005806
CREATED:20250305T190438Z
LAST-MODIFIED:20250305T190438Z
UID:16309-1742491800-1742491800@towerlane.org
SUMMARY:Pianist Larry Batter
DESCRIPTION:
URL:https://towerlane.org/event/pianist-larry-batter/
LOCATION:Dining Room
END:VEVENT
BEGIN:VEVENT
DTSTART;TZID=America/New_York:20250320T110000
DTEND;TZID=America/New_York:20250320T110000
DTSTAMP:20260421T005806
CREATED:20250305T185749Z
LAST-MODIFIED:20250305T185749Z
UID:16301-1742468400-1742468400@towerlane.org
SUMMARY:Mindfulness & Movement
DESCRIPTION:
URL:https://towerlane.org/event/mindfulness-movement-25/
LOCATION:Dining Room
END:VEVENT
BEGIN:VEVENT
DTSTART;TZID=America/New_York:20250318T140000
DTEND;TZID=America/New_York:20250318T140000
DTSTAMP:20260421T005806
CREATED:20250305T185521Z
LAST-MODIFIED:20250305T185521Z
UID:16297-1742306400-1742306400@towerlane.org
SUMMARY:Morrison Food Demo
DESCRIPTION:
URL:https://towerlane.org/event/morrison-food-demo-10/
LOCATION:Dining Room
END:VEVENT
BEGIN:VEVENT
DTSTART;TZID=America/New_York:20250318T130000
DTEND;TZID=America/New_York:20250318T130000
DTSTAMP:20260421T005806
CREATED:20250304T174607Z
LAST-MODIFIED:20250304T174607Z
UID:16190-1742302800-1742302800@towerlane.org
SUMMARY:Interactive Music
DESCRIPTION:
URL:https://towerlane.org/event/interactive-music-34/2025-03-18/
LOCATION:Dining Room
END:VEVENT
BEGIN:VEVENT
DTSTART;TZID=America/New_York:20250317T190000
DTEND;TZID=America/New_York:20250317T190000
DTSTAMP:20260421T005806
CREATED:20250304T174141Z
LAST-MODIFIED:20250304T174141Z
UID:16172-1742238000-1742238000@towerlane.org
SUMMARY:Nourish Program
DESCRIPTION:
URL:https://towerlane.org/event/nourish-program-5/2025-03-17/
LOCATION:Dining Room
END:VEVENT
BEGIN:VEVENT
DTSTART;TZID=America/New_York:20250317T130000
DTEND;TZID=America/New_York:20250317T130000
DTSTAMP:20260421T005806
CREATED:20250304T173958Z
LAST-MODIFIED:20250304T173958Z
UID:16160-1742216400-1742216400@towerlane.org
SUMMARY:Chair Yoga
DESCRIPTION:
URL:https://towerlane.org/event/chair-yoga-26/2025-03-17/
LOCATION:Dining Room
END:VEVENT
BEGIN:VEVENT
DTSTART;TZID=America/New_York:20250317T100000
DTEND;TZID=America/New_York:20250317T100000
DTSTAMP:20260421T005806
CREATED:20250304T173114Z
LAST-MODIFIED:20250304T173114Z
UID:16139-1742205600-1742205600@towerlane.org
SUMMARY:Coffee Klatch
DESCRIPTION:
URL:https://towerlane.org/event/coffee-klatch-31/2025-03-17/
LOCATION:Dining Room
END:VEVENT
BEGIN:VEVENT
DTSTART;TZID=America/New_York:20250314T130000
DTEND;TZID=America/New_York:20250314T130000
DTSTAMP:20260421T005806
CREATED:20250304T180129Z
LAST-MODIFIED:20250304T180129Z
UID:16237-1741957200-1741957200@towerlane.org
SUMMARY:Tai Chi
DESCRIPTION:
URL:https://towerlane.org/event/tai-chi-30/2025-03-14/
LOCATION:Dining Room
END:VEVENT
BEGIN:VEVENT
DTSTART;TZID=America/New_York:20250314T100000
DTEND;TZID=America/New_York:20250314T100000
DTSTAMP:20260421T005806
CREATED:20250304T175937Z
LAST-MODIFIED:20250304T175937Z
UID:16227-1741946400-1741946400@towerlane.org
SUMMARY:Interfaith Bible Study
DESCRIPTION:
URL:https://towerlane.org/event/interfaith-bible-study-2/2025-03-14/
LOCATION:Dining Room
END:VEVENT
BEGIN:VEVENT
DTSTART;TZID=America/New_York:20250312T190000
DTEND;TZID=America/New_York:20250312T190000
DTSTAMP:20260421T005806
CREATED:20250305T184859Z
LAST-MODIFIED:20250305T184859Z
UID:16283-1741806000-1741806000@towerlane.org
SUMMARY:Pianist Paul Shlien
DESCRIPTION:
URL:https://towerlane.org/event/pianist-paul-shlien-2/
LOCATION:Dining Room
END:VEVENT
BEGIN:VEVENT
DTSTART;TZID=America/New_York:20250312T110000
DTEND;TZID=America/New_York:20250312T130000
DTSTAMP:20260421T005806
CREATED:20250305T184820Z
LAST-MODIFIED:20250305T184820Z
UID:16281-1741777200-1741784400@towerlane.org
SUMMARY:Wilson Library
DESCRIPTION:
URL:https://towerlane.org/event/wilson-library-4/
LOCATION:Dining Room
END:VEVENT
BEGIN:VEVENT
DTSTART;TZID=America/New_York:20250311T130000
DTEND;TZID=America/New_York:20250311T130000
DTSTAMP:20260421T005806
CREATED:20250304T174607Z
LAST-MODIFIED:20250304T174607Z
UID:16189-1741698000-1741698000@towerlane.org
SUMMARY:Interactive Music
DESCRIPTION:
URL:https://towerlane.org/event/interactive-music-34/2025-03-11/
LOCATION:Dining Room
END:VEVENT
BEGIN:VEVENT
DTSTART;TZID=America/New_York:20250310T190000
DTEND;TZID=America/New_York:20250310T190000
DTSTAMP:20260421T005806
CREATED:20250304T174141Z
LAST-MODIFIED:20250304T174141Z
UID:16171-1741633200-1741633200@towerlane.org
SUMMARY:Nourish Program
DESCRIPTION:
URL:https://towerlane.org/event/nourish-program-5/2025-03-10/
LOCATION:Dining Room
END:VEVENT
BEGIN:VEVENT
DTSTART;TZID=America/New_York:20250310T130000
DTEND;TZID=America/New_York:20250310T130000
DTSTAMP:20260421T005806
CREATED:20250304T173958Z
LAST-MODIFIED:20250304T173958Z
UID:16159-1741611600-1741611600@towerlane.org
SUMMARY:Chair Yoga
DESCRIPTION:
URL:https://towerlane.org/event/chair-yoga-26/2025-03-10/
LOCATION:Dining Room
END:VEVENT
BEGIN:VEVENT
DTSTART;TZID=America/New_York:20250310T100000
DTEND;TZID=America/New_York:20250310T100000
DTSTAMP:20260421T005806
CREATED:20250304T173114Z
LAST-MODIFIED:20250304T173114Z
UID:16138-1741600800-1741600800@towerlane.org
SUMMARY:Coffee Klatch
DESCRIPTION:
URL:https://towerlane.org/event/coffee-klatch-31/2025-03-10/
LOCATION:Dining Room
END:VEVENT
END:VCALENDAR