BEGIN:VCALENDAR
VERSION:2.0
PRODID:-//The Towers - ECPv6.10.3//NONSGML v1.0//EN
CALSCALE:GREGORIAN
METHOD:PUBLISH
X-WR-CALNAME:The Towers
X-ORIGINAL-URL:https://towerlane.org
X-WR-CALDESC:Events for The Towers
REFRESH-INTERVAL;VALUE=DURATION:PT1H
X-Robots-Tag:noindex
X-PUBLISHED-TTL:PT1H
BEGIN:VTIMEZONE
TZID:America/New_York
BEGIN:DAYLIGHT
TZOFFSETFROM:-0500
TZOFFSETTO:-0400
TZNAME:EDT
DTSTART:20220313T070000
END:DAYLIGHT
BEGIN:STANDARD
TZOFFSETFROM:-0400
TZOFFSETTO:-0500
TZNAME:EST
DTSTART:20221106T060000
END:STANDARD
END:VTIMEZONE
BEGIN:VEVENT
DTSTART;TZID=America/New_York:20221020T100000
DTEND;TZID=America/New_York:20221020T100000
DTSTAMP:20260422T051605
CREATED:20221001T182034Z
LAST-MODIFIED:20221001T182034Z
UID:7616-1666260000-1666260000@towerlane.org
SUMMARY:Farmers' Market
DESCRIPTION:
URL:https://towerlane.org/event/farmers-market-2/
LOCATION:Dining Room
END:VEVENT
BEGIN:VEVENT
DTSTART;TZID=America/New_York:20221019T130000
DTEND;TZID=America/New_York:20221019T150000
DTSTAMP:20260422T051605
CREATED:20221001T181941Z
LAST-MODIFIED:20221001T181941Z
UID:7614-1666184400-1666191600@towerlane.org
SUMMARY:Flu Shot Clinic
DESCRIPTION:
URL:https://towerlane.org/event/flu-shot-clinic/
LOCATION:Dining Room
END:VEVENT
BEGIN:VEVENT
DTSTART;TZID=America/New_York:20221016T140000
DTEND;TZID=America/New_York:20221016T140000
DTSTAMP:20260422T051605
CREATED:20221001T154906Z
LAST-MODIFIED:20221001T154906Z
UID:7594-1665928800-1665928800@towerlane.org
SUMMARY:Max Steinhoff Guitar
DESCRIPTION:
URL:https://towerlane.org/event/max-steinhoff-guitar/
LOCATION:Dining Room
END:VEVENT
BEGIN:VEVENT
DTSTART;TZID=America/New_York:20221011T190000
DTEND;TZID=America/New_York:20221011T190000
DTSTAMP:20260422T051605
CREATED:20221001T154351Z
LAST-MODIFIED:20221001T154351Z
UID:7582-1665514800-1665514800@towerlane.org
SUMMARY:Movie and Discussion
DESCRIPTION:
URL:https://towerlane.org/event/movie-and-discussion-2/
LOCATION:Dining Room
END:VEVENT
BEGIN:VEVENT
DTSTART;TZID=America/New_York:20221010T140000
DTEND;TZID=America/New_York:20221010T140000
DTSTAMP:20260422T051605
CREATED:20221001T154137Z
LAST-MODIFIED:20221001T154137Z
UID:7573-1665410400-1665410400@towerlane.org
SUMMARY:Bingo
DESCRIPTION:
URL:https://towerlane.org/event/bingo-47/2022-10-10/
LOCATION:Dining Room
END:VEVENT
BEGIN:VEVENT
DTSTART;TZID=America/New_York:20221009T140000
DTEND;TZID=America/New_York:20221009T140000
DTSTAMP:20260422T051605
CREATED:20221001T153815Z
LAST-MODIFIED:20221001T153815Z
UID:7565-1665324000-1665324000@towerlane.org
SUMMARY:Movie
DESCRIPTION:
URL:https://towerlane.org/event/movie-33/2022-10-09/
LOCATION:Dining Room
END:VEVENT
BEGIN:VEVENT
DTSTART;TZID=America/New_York:20221008T183000
DTEND;TZID=America/New_York:20221008T183000
DTSTAMP:20260422T051605
CREATED:20221001T153519Z
LAST-MODIFIED:20221001T153519Z
UID:7561-1665253800-1665253800@towerlane.org
SUMMARY:New Year's in October Party
DESCRIPTION:
URL:https://towerlane.org/event/new-years-in-october-party/
LOCATION:Dining Room
END:VEVENT
BEGIN:VEVENT
DTSTART;TZID=America/New_York:20221007T140000
DTEND;TZID=America/New_York:20221007T140000
DTSTAMP:20260422T051605
CREATED:20221001T153302Z
LAST-MODIFIED:20221001T153302Z
UID:7551-1665151200-1665151200@towerlane.org
SUMMARY:Current Events
DESCRIPTION:
URL:https://towerlane.org/event/current-events-3/2022-10-07/
LOCATION:Dining Room
END:VEVENT
BEGIN:VEVENT
DTSTART;TZID=America/New_York:20221006T110000
DTEND;TZID=America/New_York:20221006T110000
DTSTAMP:20260422T051605
CREATED:20221001T152512Z
LAST-MODIFIED:20221001T152512Z
UID:7534-1665054000-1665054000@towerlane.org
SUMMARY:Dining Service Meeting
DESCRIPTION:
URL:https://towerlane.org/event/dining-service-meeting-2/
LOCATION:Dining Room
END:VEVENT
BEGIN:VEVENT
DTSTART;TZID=America/New_York:20221005T190000
DTEND;TZID=America/New_York:20221005T190000
DTSTAMP:20260422T051605
CREATED:20220930T194757Z
LAST-MODIFIED:20220930T194757Z
UID:7527-1664996400-1664996400@towerlane.org
SUMMARY:Break the Fast
DESCRIPTION:
URL:https://towerlane.org/event/break-the-fast/
LOCATION:Dining Room
END:VEVENT
BEGIN:VEVENT
DTSTART;TZID=America/New_York:20221004T104500
DTEND;TZID=America/New_York:20221004T104500
DTSTAMP:20260422T051605
CREATED:20220930T193526Z
LAST-MODIFIED:20220930T193526Z
UID:7505-1664880300-1664880300@towerlane.org
SUMMARY:Create a Word
DESCRIPTION:
URL:https://towerlane.org/event/create-a-word-3/
LOCATION:Dining Room
END:VEVENT
BEGIN:VEVENT
DTSTART;TZID=America/New_York:20221003T140000
DTEND;TZID=America/New_York:20221003T140000
DTSTAMP:20260422T051605
CREATED:20220930T193228Z
LAST-MODIFIED:20220930T193228Z
UID:7501-1664805600-1664805600@towerlane.org
SUMMARY:Welcome Bob Stefanowski
DESCRIPTION:
URL:https://towerlane.org/event/welcome-bob-stefanowski/
LOCATION:Dining Room
END:VEVENT
BEGIN:VEVENT
DTSTART;TZID=America/New_York:20221003T100000
DTEND;TZID=America/New_York:20221003T100000
DTSTAMP:20260422T051605
CREATED:20220930T192620Z
LAST-MODIFIED:20220930T192620Z
UID:7488-1664791200-1664791200@towerlane.org
SUMMARY:Coffee Klatch
DESCRIPTION:
URL:https://towerlane.org/event/coffee-klatch-2/
LOCATION:Dining Room
END:VEVENT
BEGIN:VEVENT
DTSTART;TZID=America/New_York:20221002T140000
DTEND;TZID=America/New_York:20221002T140000
DTSTAMP:20260422T051605
CREATED:20220930T181202Z
LAST-MODIFIED:20220930T181202Z
UID:7486-1664719200-1664719200@towerlane.org
SUMMARY:Violin Performance with Riana Heath
DESCRIPTION:
URL:https://towerlane.org/event/violin-performance-with-riana-heath/
LOCATION:Dining Room
END:VEVENT
BEGIN:VEVENT
DTSTART;TZID=America/New_York:20221001T190000
DTEND;TZID=America/New_York:20221001T190000
DTSTAMP:20260422T051605
CREATED:20220930T181020Z
LAST-MODIFIED:20220930T181020Z
UID:7484-1664650800-1664650800@towerlane.org
SUMMARY:Movie Night
DESCRIPTION:
URL:https://towerlane.org/event/movie-night-16/
LOCATION:Dining Room
END:VEVENT
BEGIN:VEVENT
DTSTART;TZID=America/New_York:20221001T140000
DTEND;TZID=America/New_York:20221001T140000
DTSTAMP:20260422T051605
CREATED:20220930T180810Z
LAST-MODIFIED:20220930T180810Z
UID:7476-1664632800-1664632800@towerlane.org
SUMMARY:Bingo
DESCRIPTION:
URL:https://towerlane.org/event/bingo-46/2022-10-01/
LOCATION:Dining Room
END:VEVENT
BEGIN:VEVENT
DTSTART;TZID=America/New_York:20220930T140000
DTEND;TZID=America/New_York:20220930T140000
DTSTAMP:20260422T051605
CREATED:20220901T144444Z
LAST-MODIFIED:20220901T144444Z
UID:7023-1664546400-1664546400@towerlane.org
SUMMARY:Current Events/Trivia
DESCRIPTION:
URL:https://towerlane.org/event/current-events-trivia-9/
LOCATION:Dining Room
END:VEVENT
BEGIN:VEVENT
DTSTART;TZID=America/New_York:20220925T140000
DTEND;TZID=America/New_York:20220925T140000
DTSTAMP:20260422T051605
CREATED:20220901T182225Z
LAST-MODIFIED:20220901T182225Z
UID:7148-1664114400-1664114400@towerlane.org
SUMMARY:Yale Physicians Trio Performs
DESCRIPTION:
URL:https://towerlane.org/event/yale-physicians-trio-performs/
LOCATION:Dining Room
END:VEVENT
BEGIN:VEVENT
DTSTART;TZID=America/New_York:20220921T113000
DTEND;TZID=America/New_York:20220921T113000
DTSTAMP:20260422T051605
CREATED:20220901T181703Z
LAST-MODIFIED:20220901T181703Z
UID:7136-1663759800-1663759800@towerlane.org
SUMMARY:All About You
DESCRIPTION:
URL:https://towerlane.org/event/all-about-you/
LOCATION:Dining Room
END:VEVENT
BEGIN:VEVENT
DTSTART;TZID=America/New_York:20220920T190000
DTEND;TZID=America/New_York:20220920T190000
DTSTAMP:20260422T051605
CREATED:20220901T181536Z
LAST-MODIFIED:20220901T181536Z
UID:7132-1663700400-1663700400@towerlane.org
SUMMARY:Movie and Discussion with Jim Brochin
DESCRIPTION:
URL:https://towerlane.org/event/movie-and-discussion-with-jim-brochin/
LOCATION:Dining Room
END:VEVENT
BEGIN:VEVENT
DTSTART;TZID=America/New_York:20220915T183000
DTEND;TZID=America/New_York:20220915T183000
DTSTAMP:20260422T051605
CREATED:20220901T180939Z
LAST-MODIFIED:20220901T180939Z
UID:7117-1663266600-1663266600@towerlane.org
SUMMARY:Tenant Council Meeting
DESCRIPTION:
URL:https://towerlane.org/event/tenant-council-meeting-9/
LOCATION:Dining Room
END:VEVENT
BEGIN:VEVENT
DTSTART;TZID=America/New_York:20220914T183000
DTEND;TZID=America/New_York:20220914T183000
DTSTAMP:20260422T051605
CREATED:20220901T180656Z
LAST-MODIFIED:20220901T180656Z
UID:7111-1663180200-1663180200@towerlane.org
SUMMARY:Charles "Piano Man" Thomas Performs
DESCRIPTION:
URL:https://towerlane.org/event/charles-piano-man-thomas-performs/
LOCATION:Dining Room
END:VEVENT
BEGIN:VEVENT
DTSTART;TZID=America/New_York:20220911T140000
DTEND;TZID=America/New_York:20220911T140000
DTSTAMP:20260422T051605
CREATED:20220901T180045Z
LAST-MODIFIED:20220901T180045Z
UID:7097-1662904800-1662904800@towerlane.org
SUMMARY:Afternoon Movie
DESCRIPTION:
URL:https://towerlane.org/event/afternoon-movie-10/
LOCATION:Dining Room
END:VEVENT
BEGIN:VEVENT
DTSTART;TZID=America/New_York:20220908T183000
DTEND;TZID=America/New_York:20220908T183000
DTSTAMP:20260422T051605
CREATED:20220901T175801Z
LAST-MODIFIED:20220901T175801Z
UID:7093-1662661800-1662661800@towerlane.org
SUMMARY:Special Council Meeting
DESCRIPTION:
URL:https://towerlane.org/event/special-council-meeting/
LOCATION:Dining Room
END:VEVENT
BEGIN:VEVENT
DTSTART;TZID=America/New_York:20220908T120000
DTEND;TZID=America/New_York:20220908T120000
DTSTAMP:20260422T051605
CREATED:20220901T175726Z
LAST-MODIFIED:20220901T175726Z
UID:7091-1662638400-1662638400@towerlane.org
SUMMARY:Towers Cookout Lunch
DESCRIPTION:
URL:https://towerlane.org/event/towers-cookout-lunch/
LOCATION:Dining Room
END:VEVENT
BEGIN:VEVENT
DTSTART;TZID=America/New_York:20220907T110000
DTEND;TZID=America/New_York:20220907T110000
DTSTAMP:20260422T051605
CREATED:20220901T175021Z
LAST-MODIFIED:20220901T175021Z
UID:7077-1662548400-1662548400@towerlane.org
SUMMARY:Dining Meeting
DESCRIPTION:
URL:https://towerlane.org/event/dining-meeting/
LOCATION:Dining Room
END:VEVENT
BEGIN:VEVENT
DTSTART;TZID=America/New_York:20220906T190000
DTEND;TZID=America/New_York:20220906T190000
DTSTAMP:20260422T051605
CREATED:20220901T174917Z
LAST-MODIFIED:20220901T174917Z
UID:7075-1662490800-1662490800@towerlane.org
SUMMARY:Movie and Discussion
DESCRIPTION:
URL:https://towerlane.org/event/movie-and-discussion/
LOCATION:Dining Room
END:VEVENT
BEGIN:VEVENT
DTSTART;TZID=America/New_York:20220906T104500
DTEND;TZID=America/New_York:20220906T104500
DTSTAMP:20260422T051605
CREATED:20220901T174529Z
LAST-MODIFIED:20220901T174529Z
UID:7064-1662461100-1662461100@towerlane.org
SUMMARY:Create a Word
DESCRIPTION:
URL:https://towerlane.org/event/create-a-word-2/2022-09-06/
LOCATION:Dining Room
END:VEVENT
BEGIN:VEVENT
DTSTART;TZID=America/New_York:20220905T180000
DTEND;TZID=America/New_York:20220905T180000
DTSTAMP:20260422T051605
CREATED:20220901T150205Z
LAST-MODIFIED:20220901T150205Z
UID:7061-1662400800-1662400800@towerlane.org
SUMMARY:Pianist Jay Daniels Performs
DESCRIPTION:
URL:https://towerlane.org/event/pianist-jay-daniels-performs/
LOCATION:Dining Room
END:VEVENT
BEGIN:VEVENT
DTSTART;TZID=America/New_York:20220905T140000
DTEND;TZID=America/New_York:20220905T140000
DTSTAMP:20260422T051605
CREATED:20220901T150038Z
LAST-MODIFIED:20220901T150038Z
UID:7056-1662386400-1662386400@towerlane.org
SUMMARY:Bingo
DESCRIPTION:
URL:https://towerlane.org/event/bingo-45/2022-09-05/
LOCATION:Dining Room
END:VEVENT
END:VCALENDAR