BEGIN:VCALENDAR
VERSION:2.0
PRODID:-//The Towers - ECPv6.10.3//NONSGML v1.0//EN
CALSCALE:GREGORIAN
METHOD:PUBLISH
X-WR-CALNAME:The Towers
X-ORIGINAL-URL:https://towerlane.org
X-WR-CALDESC:Events for The Towers
REFRESH-INTERVAL;VALUE=DURATION:PT1H
X-Robots-Tag:noindex
X-PUBLISHED-TTL:PT1H
BEGIN:VTIMEZONE
TZID:America/New_York
BEGIN:DAYLIGHT
TZOFFSETFROM:-0500
TZOFFSETTO:-0400
TZNAME:EDT
DTSTART:20210314T070000
END:DAYLIGHT
BEGIN:STANDARD
TZOFFSETFROM:-0400
TZOFFSETTO:-0500
TZNAME:EST
DTSTART:20211107T060000
END:STANDARD
END:VTIMEZONE
BEGIN:VEVENT
DTSTART;TZID=America/New_York:20211007T190000
DTEND;TZID=America/New_York:20211007T190000
DTSTAMP:20260423T122756
CREATED:20211003T182715Z
LAST-MODIFIED:20211003T182715Z
UID:2467-1633633200-1633633200@towerlane.org
SUMMARY:What's New with Sydney Perry
DESCRIPTION:
URL:https://towerlane.org/event/whats-new-with-sydney-perry-4/
LOCATION:Dining Room
END:VEVENT
BEGIN:VEVENT
DTSTART;TZID=America/New_York:20211007T140000
DTEND;TZID=America/New_York:20211007T140000
DTSTAMP:20260423T122756
CREATED:20211003T182138Z
LAST-MODIFIED:20211003T182138Z
UID:2449-1633615200-1633615200@towerlane.org
SUMMARY:Trivia with Ellen
DESCRIPTION:
URL:https://towerlane.org/event/trivia-with-ellen-13/2021-10-07/
LOCATION:Dining Room
END:VEVENT
BEGIN:VEVENT
DTSTART;TZID=America/New_York:20211007T130000
DTEND;TZID=America/New_York:20211007T130000
DTSTAMP:20260423T122756
CREATED:20211003T182230Z
LAST-MODIFIED:20211003T182230Z
UID:2454-1633611600-1633611600@towerlane.org
SUMMARY:Catholic Mass with Father Lerner
DESCRIPTION:
URL:https://towerlane.org/event/catholic-mass-with-father-lerner-15/
LOCATION:Dining Room
END:VEVENT
BEGIN:VEVENT
DTSTART;TZID=America/New_York:20211006T150000
DTEND;TZID=America/New_York:20211006T150000
DTSTAMP:20260423T122756
CREATED:20211003T181850Z
LAST-MODIFIED:20211003T181850Z
UID:2441-1633532400-1633532400@towerlane.org
SUMMARY:Current Events with Stephen & Dale
DESCRIPTION:
URL:https://towerlane.org/event/current-events-with-stephen-dale-13/2021-10-06/
LOCATION:Dining Room
END:VEVENT
BEGIN:VEVENT
DTSTART;TZID=America/New_York:20211006T130000
DTEND;TZID=America/New_York:20211006T130000
DTSTAMP:20260423T122756
CREATED:20211003T181707Z
LAST-MODIFIED:20211003T181707Z
UID:2437-1633525200-1633525200@towerlane.org
SUMMARY:Healthy & Fit Exercise
DESCRIPTION:
URL:https://towerlane.org/event/healthy-fit-exercise-42/2021-10-06/
LOCATION:Dining Room
END:VEVENT
BEGIN:VEVENT
DTSTART;TZID=America/New_York:20211005T190000
DTEND;TZID=America/New_York:20211005T190000
DTSTAMP:20260423T122756
CREATED:20211003T181500Z
LAST-MODIFIED:20211003T181500Z
UID:2435-1633460400-1633460400@towerlane.org
SUMMARY:Ilana Zaks Performs
DESCRIPTION:
URL:https://towerlane.org/event/ilana-zaks-performs/
LOCATION:Dining Room
END:VEVENT
BEGIN:VEVENT
DTSTART;TZID=America/New_York:20211005T113000
DTEND;TZID=America/New_York:20211005T113000
DTSTAMP:20260423T122756
CREATED:20211003T181022Z
LAST-MODIFIED:20211003T181022Z
UID:2425-1633433400-1633433400@towerlane.org
SUMMARY:Arts & Crafts with Sarah
DESCRIPTION:
URL:https://towerlane.org/event/arts-crafts-with-sarah/
LOCATION:Dining Room
END:VEVENT
BEGIN:VEVENT
DTSTART;TZID=America/New_York:20211005T100000
DTEND;TZID=America/New_York:20211005T100000
DTSTAMP:20260423T122756
CREATED:20211003T180901Z
LAST-MODIFIED:20211003T180901Z
UID:2420-1633428000-1633428000@towerlane.org
SUMMARY:Coffee Talk with Jane Kasper
DESCRIPTION:
URL:https://towerlane.org/event/coffee-talk-with-jane-kasper-12/2021-10-05/
LOCATION:Dining Room
END:VEVENT
BEGIN:VEVENT
DTSTART;TZID=America/New_York:20211004T190000
DTEND;TZID=America/New_York:20211004T190000
DTSTAMP:20260423T122756
CREATED:20211003T180716Z
LAST-MODIFIED:20211003T180716Z
UID:2418-1633374000-1633374000@towerlane.org
SUMMARY:Welcome Back Our Friend Joyce Saltman for an Evening of Humor
DESCRIPTION:
URL:https://towerlane.org/event/welcome-back-our-friend-joyce-saltman-for-an-evening-of-humor/
LOCATION:Dining Room
END:VEVENT
BEGIN:VEVENT
DTSTART;TZID=America/New_York:20211004T140000
DTEND;TZID=America/New_York:20211004T140000
DTSTAMP:20260423T122756
CREATED:20211003T180613Z
LAST-MODIFIED:20211003T180613Z
UID:2413-1633356000-1633356000@towerlane.org
SUMMARY:Bingo
DESCRIPTION:
URL:https://towerlane.org/event/bingo-22/2021-10-04/
LOCATION:Dining Room
END:VEVENT
BEGIN:VEVENT
DTSTART;TZID=America/New_York:20211004T130000
DTEND;TZID=America/New_York:20211004T130000
DTSTAMP:20260423T122756
CREATED:20211003T180525Z
LAST-MODIFIED:20211003T180525Z
UID:2408-1633352400-1633352400@towerlane.org
SUMMARY:Healthy & Fit Exercise
DESCRIPTION:
URL:https://towerlane.org/event/healthy-fit-exercise-41/2021-10-04/
LOCATION:Dining Room
END:VEVENT
BEGIN:VEVENT
DTSTART;TZID=America/New_York:20211004T110000
DTEND;TZID=America/New_York:20211004T110000
DTSTAMP:20260423T122756
CREATED:20211003T180410Z
LAST-MODIFIED:20211003T180410Z
UID:2403-1633345200-1633345200@towerlane.org
SUMMARY:Create a Word with Ellen
DESCRIPTION:
URL:https://towerlane.org/event/create-a-word-with-ellen-12/2021-10-04/
LOCATION:Dining Room
END:VEVENT
BEGIN:VEVENT
DTSTART;TZID=America/New_York:20211002T190000
DTEND;TZID=America/New_York:20211002T190000
DTSTAMP:20260423T122756
CREATED:20211003T185844Z
LAST-MODIFIED:20211003T185844Z
UID:2514-1633201200-1633201200@towerlane.org
SUMMARY:Movie
DESCRIPTION:
URL:https://towerlane.org/event/movie-20/2021-10-02/
LOCATION:Dining Room
END:VEVENT
BEGIN:VEVENT
DTSTART;TZID=America/New_York:20211002T140000
DTEND;TZID=America/New_York:20211002T140000
DTSTAMP:20260423T122756
CREATED:20211003T185759Z
LAST-MODIFIED:20211003T185956Z
UID:2508-1633183200-1633183200@towerlane.org
SUMMARY:Movie
DESCRIPTION:
URL:https://towerlane.org/event/movie-19/2021-10-02/
LOCATION:Dining Room
END:VEVENT
BEGIN:VEVENT
DTSTART;TZID=America/New_York:20211002T100000
DTEND;TZID=America/New_York:20211002T100000
DTSTAMP:20260423T122756
CREATED:20211003T185523Z
LAST-MODIFIED:20211003T185523Z
UID:2502-1633168800-1633168800@towerlane.org
SUMMARY:Shabbat Services with Ruthie Greenblatt
DESCRIPTION:
URL:https://towerlane.org/event/shabbat-services-with-ruthie-greenblatt-7/
LOCATION:Dining Room
END:VEVENT
BEGIN:VEVENT
DTSTART;TZID=America/New_York:20211001T130000
DTEND;TZID=America/New_York:20211001T130000
DTSTAMP:20260423T122756
CREATED:20211003T185118Z
LAST-MODIFIED:20211003T185118Z
UID:2486-1633093200-1633093200@towerlane.org
SUMMARY:Healthy & Fit
DESCRIPTION:
URL:https://towerlane.org/event/healthy-fit-7/2021-10-01/
LOCATION:Dining Room
END:VEVENT
BEGIN:VEVENT
DTSTART;TZID=America/New_York:20211001T110000
DTEND;TZID=America/New_York:20211001T110000
DTSTAMP:20260423T122756
CREATED:20211003T183310Z
LAST-MODIFIED:20211003T183310Z
UID:2474-1633086000-1633086000@towerlane.org
SUMMARY:Bible Study with Howard Taylor
DESCRIPTION:
URL:https://towerlane.org/event/bible-study-with-howard-taylor-12/
LOCATION:Dining Room
END:VEVENT
BEGIN:VEVENT
DTSTART;TZID=America/New_York:20210930T150000
DTEND;TZID=America/New_York:20210930T150000
DTSTAMP:20260423T122756
CREATED:20210901T165255Z
LAST-MODIFIED:20210901T165255Z
UID:2324-1633014000-1633014000@towerlane.org
SUMMARY:Special Edition Current Events
DESCRIPTION:
URL:https://towerlane.org/event/special-edition-current-events/
LOCATION:Dining Room
END:VEVENT
BEGIN:VEVENT
DTSTART;TZID=America/New_York:20210930T110000
DTEND;TZID=America/New_York:20210930T110000
DTSTAMP:20260423T122756
CREATED:20210901T165201Z
LAST-MODIFIED:20210901T165201Z
UID:2322-1632999600-1632999600@towerlane.org
SUMMARY:Welcome Back Rabbi Eric Woodward
DESCRIPTION:
URL:https://towerlane.org/event/welcome-back-rabbi-eric-woodward/
LOCATION:Dining Room
END:VEVENT
BEGIN:VEVENT
DTSTART;TZID=America/New_York:20210928T140000
DTEND;TZID=America/New_York:20210928T140000
DTSTAMP:20260423T122756
CREATED:20210901T163809Z
LAST-MODIFIED:20210901T163809Z
UID:2305-1632837600-1632837600@towerlane.org
SUMMARY:Music Bingo
DESCRIPTION:
URL:https://towerlane.org/event/music-bingo-2/
LOCATION:Dining Room
END:VEVENT
BEGIN:VEVENT
DTSTART;TZID=America/New_York:20210924T190000
DTEND;TZID=America/New_York:20210924T190000
DTSTAMP:20260423T122756
CREATED:20210901T003811Z
LAST-MODIFIED:20210901T003811Z
UID:2260-1632510000-1632510000@towerlane.org
SUMMARY:Shabbat Services with Ruthie Greenblatt
DESCRIPTION:
URL:https://towerlane.org/event/shabbat-services-with-ruthie-greenblatt-2/
LOCATION:Dining Room
END:VEVENT
BEGIN:VEVENT
DTSTART;TZID=America/New_York:20210923T190000
DTEND;TZID=America/New_York:20210923T190000
DTSTAMP:20260423T122756
CREATED:20210901T002412Z
LAST-MODIFIED:20210901T002412Z
UID:2224-1632423600-1632423600@towerlane.org
SUMMARY:What's New with Sydney Perry
DESCRIPTION:
URL:https://towerlane.org/event/whats-new-with-sydney-perry-2/
LOCATION:Dining Room
END:VEVENT
BEGIN:VEVENT
DTSTART;TZID=America/New_York:20210923T130000
DTEND;TZID=America/New_York:20210923T130000
DTSTAMP:20260423T122756
CREATED:20210901T001856Z
LAST-MODIFIED:20210901T001856Z
UID:2214-1632402000-1632402000@towerlane.org
SUMMARY:Catholic Mass with Father Lerner
DESCRIPTION:
URL:https://towerlane.org/event/catholic-mass-with-father-lerner-14/
LOCATION:Dining Room
END:VEVENT
BEGIN:VEVENT
DTSTART;TZID=America/New_York:20210923T110000
DTEND;TZID=America/New_York:20210923T110000
DTSTAMP:20260423T122756
CREATED:20210901T164929Z
LAST-MODIFIED:20210901T164929Z
UID:2318-1632394800-1632394800@towerlane.org
SUMMARY:Gus Town Hall Meeting
DESCRIPTION:
URL:https://towerlane.org/event/gus-town-hall-meeting/
LOCATION:Dining Room
END:VEVENT
BEGIN:VEVENT
DTSTART;TZID=America/New_York:20210922T190000
DTEND;TZID=America/New_York:20210922T190000
DTSTAMP:20260423T122756
CREATED:20210901T164837Z
LAST-MODIFIED:20210901T164837Z
UID:2316-1632337200-1632337200@towerlane.org
SUMMARY:Tenant Council Meeting
DESCRIPTION:
URL:https://towerlane.org/event/tenant-council-meeting-2/
LOCATION:Dining Room
END:VEVENT
BEGIN:VEVENT
DTSTART;TZID=America/New_York:20210922T110000
DTEND;TZID=America/New_York:20210922T110000
DTSTAMP:20260423T122756
CREATED:20210901T164735Z
LAST-MODIFIED:20210901T164735Z
UID:2314-1632308400-1632308400@towerlane.org
SUMMARY:HealthPro Information Session and BP Check with Darcy\, Dean and Utopia
DESCRIPTION:
URL:https://towerlane.org/event/healthpro-information-session-and-bp-check-with-darcy-dean-and-utopia/
LOCATION:Dining Room
END:VEVENT
BEGIN:VEVENT
DTSTART;TZID=America/New_York:20210918T100000
DTEND;TZID=America/New_York:20210918T100000
DTSTAMP:20260423T122756
CREATED:20210901T004032Z
LAST-MODIFIED:20210901T004032Z
UID:2264-1631959200-1631959200@towerlane.org
SUMMARY:Shabbat Services with Ruthie Greenblatt
DESCRIPTION:
URL:https://towerlane.org/event/shabbat-services-with-ruthie-greenblatt-4/
LOCATION:Dining Room
END:VEVENT
BEGIN:VEVENT
DTSTART;TZID=America/New_York:20210917T110000
DTEND;TZID=America/New_York:20210917T110000
DTSTAMP:20260423T122756
CREATED:20210901T003131Z
LAST-MODIFIED:20210901T003131Z
UID:2236-1631876400-1631876400@towerlane.org
SUMMARY:Bible Study with Howard Taylor
DESCRIPTION:
URL:https://towerlane.org/event/bible-study-with-howard-taylor-11/
LOCATION:Dining Room
END:VEVENT
BEGIN:VEVENT
DTSTART;TZID=America/New_York:20210914T140000
DTEND;TZID=America/New_York:20210914T140000
DTSTAMP:20260423T122756
CREATED:20210901T163720Z
LAST-MODIFIED:20210901T163720Z
UID:2303-1631628000-1631628000@towerlane.org
SUMMARY:Music Bingo
DESCRIPTION:
URL:https://towerlane.org/event/music-bingo/
LOCATION:Dining Room
END:VEVENT
BEGIN:VEVENT
DTSTART;TZID=America/New_York:20210914T113000
DTEND;TZID=America/New_York:20210914T113000
DTSTAMP:20260423T122756
CREATED:20210901T163616Z
LAST-MODIFIED:20210901T163616Z
UID:2301-1631619000-1631619000@towerlane.org
SUMMARY:Arts & Crafts
DESCRIPTION:
URL:https://towerlane.org/event/arts-crafts-12/
LOCATION:Dining Room
END:VEVENT
END:VCALENDAR