BEGIN:VCALENDAR
VERSION:2.0
PRODID:-//The Towers - ECPv6.10.3//NONSGML v1.0//EN
CALSCALE:GREGORIAN
METHOD:PUBLISH
X-WR-CALNAME:The Towers
X-ORIGINAL-URL:https://towerlane.org
X-WR-CALDESC:Events for The Towers
REFRESH-INTERVAL;VALUE=DURATION:PT1H
X-Robots-Tag:noindex
X-PUBLISHED-TTL:PT1H
BEGIN:VTIMEZONE
TZID:America/New_York
BEGIN:DAYLIGHT
TZOFFSETFROM:-0500
TZOFFSETTO:-0400
TZNAME:EDT
DTSTART:20210314T070000
END:DAYLIGHT
BEGIN:STANDARD
TZOFFSETFROM:-0400
TZOFFSETTO:-0500
TZNAME:EST
DTSTART:20211107T060000
END:STANDARD
END:VTIMEZONE
BEGIN:VEVENT
DTSTART;TZID=America/New_York:20210705T110000
DTEND;TZID=America/New_York:20210705T110000
DTSTAMP:20260424T015338
CREATED:20210629T180410Z
LAST-MODIFIED:20210629T180410Z
UID:1845-1625482800-1625482800@towerlane.org
SUMMARY:Create a Word with Ellen
DESCRIPTION:
URL:https://towerlane.org/event/create-a-word-with-ellen-9/2021-07-05/
LOCATION:Dining Room
END:VEVENT
BEGIN:VEVENT
DTSTART;TZID=America/New_York:20210703T190000
DTEND;TZID=America/New_York:20210703T190000
DTSTAMP:20260424T015338
CREATED:20210629T180126Z
LAST-MODIFIED:20210629T180126Z
UID:1835-1625338800-1625338800@towerlane.org
SUMMARY:Movie
DESCRIPTION:
URL:https://towerlane.org/event/movie-14/2021-07-03/
LOCATION:Dining Room
END:VEVENT
BEGIN:VEVENT
DTSTART;TZID=America/New_York:20210703T140000
DTEND;TZID=America/New_York:20210703T140000
DTSTAMP:20260424T015338
CREATED:20210629T180042Z
LAST-MODIFIED:20210629T180155Z
UID:1829-1625320800-1625320800@towerlane.org
SUMMARY:Movie
DESCRIPTION:
URL:https://towerlane.org/event/movie-13/2021-07-03/
LOCATION:Dining Room
END:VEVENT
BEGIN:VEVENT
DTSTART;TZID=America/New_York:20210702T190000
DTEND;TZID=America/New_York:20210702T190000
DTSTAMP:20260424T015338
CREATED:20210629T175225Z
LAST-MODIFIED:20210629T175225Z
UID:1815-1625252400-1625252400@towerlane.org
SUMMARY:Shabbat Services with Ruthie
DESCRIPTION:
URL:https://towerlane.org/event/shabbat-services-with-ruthie-17/
LOCATION:Dining Room
END:VEVENT
BEGIN:VEVENT
DTSTART;TZID=America/New_York:20210702T130000
DTEND;TZID=America/New_York:20210702T130000
DTSTAMP:20260424T015338
CREATED:20210629T174721Z
LAST-MODIFIED:20210629T175002Z
UID:1798-1625230800-1625230800@towerlane.org
SUMMARY:Healthy & Fit
DESCRIPTION:
URL:https://towerlane.org/event/healthy-fit-4/2021-07-02/
LOCATION:Dining Room
END:VEVENT
BEGIN:VEVENT
DTSTART;TZID=America/New_York:20210702T110000
DTEND;TZID=America/New_York:20210702T110000
DTSTAMP:20260424T015338
CREATED:20210629T174217Z
LAST-MODIFIED:20210629T174217Z
UID:1785-1625223600-1625223600@towerlane.org
SUMMARY:Bible Study with Howard Taylor
DESCRIPTION:
URL:https://towerlane.org/event/bible-study-with-howard-taylor-5/
LOCATION:Dining Room
END:VEVENT
BEGIN:VEVENT
DTSTART;TZID=America/New_York:20210701T140000
DTEND;TZID=America/New_York:20210701T140000
DTSTAMP:20260424T015338
CREATED:20210629T173426Z
LAST-MODIFIED:20210629T173426Z
UID:1773-1625148000-1625148000@towerlane.org
SUMMARY:Managing Life Stressors with Andrea Joseph from JFS
DESCRIPTION:
URL:https://towerlane.org/event/managing-life-stressors-with-andrea-joseph-from-jfs-5/
LOCATION:Dining Room
END:VEVENT
BEGIN:VEVENT
DTSTART;TZID=America/New_York:20210701T140000
DTEND;TZID=America/New_York:20210701T140000
DTSTAMP:20260424T015338
CREATED:20210629T172540Z
LAST-MODIFIED:20210629T172540Z
UID:1763-1625148000-1625148000@towerlane.org
SUMMARY:Towers Ice Cream Social! Welcome Pianist Paul Shlein
DESCRIPTION:
URL:https://towerlane.org/event/towers-ice-cream-social-welcome-pianist-paul-shlein/
LOCATION:Dining Room
END:VEVENT
BEGIN:VEVENT
DTSTART;TZID=America/New_York:20210701T130000
DTEND;TZID=America/New_York:20210701T130000
DTSTAMP:20260424T015338
CREATED:20210629T173113Z
LAST-MODIFIED:20210629T173113Z
UID:1769-1625144400-1625144400@towerlane.org
SUMMARY:Catholic Mass with Father Lerner
DESCRIPTION:
URL:https://towerlane.org/event/catholic-mass-with-father-lerner-9/
LOCATION:Dining Room
END:VEVENT
BEGIN:VEVENT
DTSTART;TZID=America/New_York:20210701T110000
DTEND;TZID=America/New_York:20210701T110000
DTSTAMP:20260424T015338
CREATED:20210601T150417Z
LAST-MODIFIED:20210629T172840Z
UID:1678-1625137200-1625137200@towerlane.org
SUMMARY:Trivia with Ellen
DESCRIPTION:
URL:https://towerlane.org/event/trivia-with-ellen-10/2021-07-01/
LOCATION:Dining Room
END:VEVENT
BEGIN:VEVENT
DTSTART;TZID=America/New_York:20210630T190000
DTEND;TZID=America/New_York:20210630T190000
DTSTAMP:20260424T015338
CREATED:20210601T150301Z
LAST-MODIFIED:20210601T150301Z
UID:1676-1625079600-1625079600@towerlane.org
SUMMARY:Movie Night
DESCRIPTION:
URL:https://towerlane.org/event/movie-night-10/
LOCATION:Dining Room
END:VEVENT
BEGIN:VEVENT
DTSTART;TZID=America/New_York:20210626T130000
DTEND;TZID=America/New_York:20210626T130000
DTSTAMP:20260424T015338
CREATED:20210601T184108Z
LAST-MODIFIED:20210601T184108Z
UID:1730-1624712400-1624712400@towerlane.org
SUMMARY:Piano with Ben
DESCRIPTION:
URL:https://towerlane.org/event/piano-with-ben-2/
LOCATION:Dining Room
END:VEVENT
BEGIN:VEVENT
DTSTART;TZID=America/New_York:20210626T100000
DTEND;TZID=America/New_York:20210626T100000
DTSTAMP:20260424T015338
CREATED:20210601T183850Z
LAST-MODIFIED:20210601T183850Z
UID:1726-1624701600-1624701600@towerlane.org
SUMMARY:Shabbat Services with Ruthie
DESCRIPTION:
URL:https://towerlane.org/event/shabbat-services-with-ruthie-16/
LOCATION:Dining Room
END:VEVENT
BEGIN:VEVENT
DTSTART;TZID=America/New_York:20210623T190000
DTEND;TZID=America/New_York:20210623T190000
DTSTAMP:20260424T015338
CREATED:20210601T150229Z
LAST-MODIFIED:20210601T150229Z
UID:1674-1624474800-1624474800@towerlane.org
SUMMARY:Movie Night
DESCRIPTION:
URL:https://towerlane.org/event/movie-night-9/
LOCATION:Dining Room
END:VEVENT
BEGIN:VEVENT
DTSTART;TZID=America/New_York:20210623T190000
DTEND;TZID=America/New_York:20210623T190000
DTSTAMP:20260424T015338
CREATED:20210601T143921Z
LAST-MODIFIED:20210601T143921Z
UID:1617-1624474800-1624474800@towerlane.org
SUMMARY:Comedy Hour with Jim Brochin
DESCRIPTION:
URL:https://towerlane.org/event/comedy-hour-with-jim-brochin/
LOCATION:Dining Room
END:VEVENT
BEGIN:VEVENT
DTSTART;TZID=America/New_York:20210622T190000
DTEND;TZID=America/New_York:20210622T190000
DTSTAMP:20260424T015338
CREATED:20210601T145402Z
LAST-MODIFIED:20210601T145402Z
UID:1644-1624388400-1624388400@towerlane.org
SUMMARY:Discussion with Sydney Perry
DESCRIPTION:
URL:https://towerlane.org/event/discussion-with-sydney-perry-8/
LOCATION:Dining Room
END:VEVENT
BEGIN:VEVENT
DTSTART;TZID=America/New_York:20210622T113000
DTEND;TZID=America/New_York:20210622T113000
DTSTAMP:20260424T015338
CREATED:20210601T144708Z
LAST-MODIFIED:20210601T144708Z
UID:1627-1624361400-1624361400@towerlane.org
SUMMARY:Arts & Crafts
DESCRIPTION:
URL:https://towerlane.org/event/arts-crafts-8/
LOCATION:Dining Room
END:VEVENT
BEGIN:VEVENT
DTSTART;TZID=America/New_York:20210621T153000
DTEND;TZID=America/New_York:20210621T153000
DTSTAMP:20260424T015338
CREATED:20210601T143841Z
LAST-MODIFIED:20210601T143841Z
UID:1615-1624289400-1624289400@towerlane.org
SUMMARY:Discussion with Rabbi Scolnic
DESCRIPTION:
URL:https://towerlane.org/event/discussion-with-rabbi-scolnic-2/
LOCATION:Dining Room
END:VEVENT
BEGIN:VEVENT
DTSTART;TZID=America/New_York:20210620T130000
DTEND;TZID=America/New_York:20210620T130000
DTSTAMP:20260424T015338
CREATED:20210601T143721Z
LAST-MODIFIED:20210601T143721Z
UID:1612-1624194000-1624194000@towerlane.org
SUMMARY:Welcome Pianist Sharon Lehr
DESCRIPTION:
URL:https://towerlane.org/event/welcome-pianist-sharon-lehr/
LOCATION:Dining Room
END:VEVENT
BEGIN:VEVENT
DTSTART;TZID=America/New_York:20210618T190000
DTEND;TZID=America/New_York:20210618T190000
DTSTAMP:20260424T015338
CREATED:20210601T183713Z
LAST-MODIFIED:20210601T183713Z
UID:1722-1624042800-1624042800@towerlane.org
SUMMARY:Shabbat Services with Ruthie
DESCRIPTION:
URL:https://towerlane.org/event/shabbat-services-with-ruthie-14/
LOCATION:Dining Room
END:VEVENT
BEGIN:VEVENT
DTSTART;TZID=America/New_York:20210618T110000
DTEND;TZID=America/New_York:20210618T110000
DTSTAMP:20260424T015338
CREATED:20210601T183300Z
LAST-MODIFIED:20210601T183300Z
UID:1708-1624014000-1624014000@towerlane.org
SUMMARY:Bible Study with Howard Taylor
DESCRIPTION:
URL:https://towerlane.org/event/bible-study-with-howard-taylor-4/
LOCATION:Dining Room
END:VEVENT
BEGIN:VEVENT
DTSTART;TZID=America/New_York:20210617T190000
DTEND;TZID=America/New_York:20210617T190000
DTSTAMP:20260424T015338
CREATED:20210601T143633Z
LAST-MODIFIED:20210601T143633Z
UID:1610-1623956400-1623956400@towerlane.org
SUMMARY:Tenant Council Meeting
DESCRIPTION:
URL:https://towerlane.org/event/tenant-council-meeting/
LOCATION:Dining Room
END:VEVENT
BEGIN:VEVENT
DTSTART;TZID=America/New_York:20210617T140000
DTEND;TZID=America/New_York:20210617T140000
DTSTAMP:20260424T015338
CREATED:20210601T150936Z
LAST-MODIFIED:20210601T150936Z
UID:1689-1623938400-1623938400@towerlane.org
SUMMARY:Managing Life Stressors with Andrea Joseph from JFS
DESCRIPTION:
URL:https://towerlane.org/event/managing-life-stressors-with-andrea-joseph-from-jfs-4/
LOCATION:Dining Room
END:VEVENT
BEGIN:VEVENT
DTSTART;TZID=America/New_York:20210617T130000
DTEND;TZID=America/New_York:20210617T130000
DTSTAMP:20260424T015338
CREATED:20210601T150739Z
LAST-MODIFIED:20210601T150739Z
UID:1685-1623934800-1623934800@towerlane.org
SUMMARY:Catholic Mass with Father Lerner
DESCRIPTION:
URL:https://towerlane.org/event/catholic-mass-with-father-lerner-8/
LOCATION:Dining Room
END:VEVENT
BEGIN:VEVENT
DTSTART;TZID=America/New_York:20210616T190000
DTEND;TZID=America/New_York:20210616T190000
DTSTAMP:20260424T015338
CREATED:20210601T150039Z
LAST-MODIFIED:20210601T150039Z
UID:1670-1623870000-1623870000@towerlane.org
SUMMARY:Movie & Discussion with Jim Brochin
DESCRIPTION:
URL:https://towerlane.org/event/movie-discussion-with-jim-brochin-7/
LOCATION:Dining Room
END:VEVENT
BEGIN:VEVENT
DTSTART;TZID=America/New_York:20210616T140000
DTEND;TZID=America/New_York:20210616T140000
DTSTAMP:20260424T015338
CREATED:20210601T143538Z
LAST-MODIFIED:20210601T143538Z
UID:1608-1623852000-1623852000@towerlane.org
SUMMARY:HealthPro Info. Session\, Device Safety Check & Blood Pressure Screening\, with Darcy\, Dean & Utopia
DESCRIPTION:
URL:https://towerlane.org/event/healthpro-info-session-device-safety-check-blood-pressure-screening-with-darcy-dean-utopia/
LOCATION:Dining Room
END:VEVENT
BEGIN:VEVENT
DTSTART;TZID=America/New_York:20210614T141500
DTEND;TZID=America/New_York:20210614T141500
DTSTAMP:20260424T015338
CREATED:20210601T142643Z
LAST-MODIFIED:20210601T142643Z
UID:1595-1623680100-1623680100@towerlane.org
SUMMARY:Bingo
DESCRIPTION:
URL:https://towerlane.org/event/bingo-18/2021-06-14/
LOCATION:Dining Room
END:VEVENT
BEGIN:VEVENT
DTSTART;TZID=America/New_York:20210614T130000
DTEND;TZID=America/New_York:20210614T130000
DTSTAMP:20260424T015338
CREATED:20210601T142426Z
LAST-MODIFIED:20210601T142426Z
UID:1582-1623675600-1623675600@towerlane.org
SUMMARY:Bingo
DESCRIPTION:
URL:https://towerlane.org/event/bingo-17/2021-06-14/
LOCATION:Dining Room
END:VEVENT
BEGIN:VEVENT
DTSTART;TZID=America/New_York:20210612T130000
DTEND;TZID=America/New_York:20210612T130000
DTSTAMP:20260424T015338
CREATED:20210601T184014Z
LAST-MODIFIED:20210601T184014Z
UID:1728-1623502800-1623502800@towerlane.org
SUMMARY:Piano with Ben
DESCRIPTION:
URL:https://towerlane.org/event/piano-with-ben/
LOCATION:Dining Room
END:VEVENT
BEGIN:VEVENT
DTSTART;TZID=America/New_York:20210612T100000
DTEND;TZID=America/New_York:20210612T100000
DTSTAMP:20260424T015338
CREATED:20210601T183812Z
LAST-MODIFIED:20210601T183812Z
UID:1724-1623492000-1623492000@towerlane.org
SUMMARY:Shabbat Services with Ruthie
DESCRIPTION:
URL:https://towerlane.org/event/shabbat-services-with-ruthie-15/
LOCATION:Dining Room
END:VEVENT
END:VCALENDAR